Workbook

Sheet Tabelle Kaderkriterien
A1: Kaderkriterien 2025 für LK und NK2 2026 | H1: LFV:
A3: Nr. | B3: Nachname | C3: Vorname | D3: DoB | E3: kal. | F3: biofinal | G3: bio. | H3: Sex | I3: Landes- | J3: Verein | K3: Reißen | L3: KG | M3: WK | N3: Stoßen | O3: KG | P3: WK | Q3: Schocken | R3: KG | S3: WK | T3: Sternlauf | U3: WK | V3: S3Spr | W3: WK | Y3: Perzentil | Z3: Perzentil | AA3: Perzentil | AB3: Perzentil | AC3: Perzentil | AD3: Gesamt- | AE3: Kader | AG3: (nur AK16) | AI3: beantragter Kader
I4: verband | Y4: Reißen | Z4: Stoßen | AA4: Schocken | AB4: Sternlauf | AC4: S3S | AD4: perzentil | AE4: Erfüllungen | AG4: Differenz
E5: AK | G5: AK | AE5: LK | AF5: NK2 | AG5: NK1
A6: 1 | F6: FALSE | Y6: =Übersicht!M2 -> #DIV/0! | Z6: =Übersicht!N2 -> #DIV/0! | AA6: =Übersicht!O2 -> #DIV/0! | AB6: =Übersicht!P2 -> #N/A | AC6: =Übersicht!Q2 -> #N/A | AD6: =Y6*0.25+Z6*0.25+AA6*0.19+AB6*0.14+AC6*0.17 -> #DIV/0! | AE6: =IF(OR(AND(COUNTIF(Y6:AC6,">"&Übersicht!$V$2)>=3,E6>12,E6<17), AND(COUNTIF(Y6:AC6,">"&Übersicht!$V$2)=5,E6>=17)),"JA","NEIN") -> NEIN | AF6: =IF(OR(AND(COUNTIF(Y6:AC6,">"&Übersicht!$AC$2)>=3,E6>13,E6<16), AND(COUNTIF(Y6:Z6,">"&Übersicht!$AC$2)=2,E6>=16, COUNTIF(AA6:AC6, ">" & Übersicht!$AC$2) >=1 )),"JA","NEIN") -> NEIN
A7: 2 | F7: FALSE | Y7: =Übersicht!M3 -> #DIV/0! | Z7: =Übersicht!N3 -> #DIV/0! | AA7: =Übersicht!O3 -> #DIV/0! | AB7: =Übersicht!P3 -> #N/A | AC7: =Übersicht!Q3 -> #N/A | AD7: =Y7*0.25+Z7*0.25+AA7*0.19+AB7*0.14+AC7*0.17 -> #DIV/0! | AE7: =IF(OR(AND(COUNTIF(Y7:AC7,">"&Übersicht!$V$2)>=3,E7>12,E7<17), AND(COUNTIF(Y7:AC7,">"&Übersicht!$V$2)=5,E7>=17)),"JA","NEIN") -> NEIN | AF7: =IF(OR(AND(COUNTIF(Y7:AC7,">"&Übersicht!$AC$2)>=3,E7>13,E7<16), AND(COUNTIF(Y7:Z7,">"&Übersicht!$AC$2)=2,E7>=16, COUNTIF(AA7:AC7, ">" & Übersicht!$AC$2) >=1 )),"JA","NEIN") -> NEIN
A8: 3 | F8: FALSE | Y8: =Übersicht!M4 -> #DIV/0! | Z8: =Übersicht!N4 -> #DIV/0! | AA8: =Übersicht!O4 -> #DIV/0! | AB8: =Übersicht!P4 -> #N/A | AC8: =Übersicht!Q4 -> #N/A | AD8: =Y8*0.25+Z8*0.25+AA8*0.19+AB8*0.14+AC8*0.17 -> #DIV/0! | AE8: =IF(OR(AND(COUNTIF(Y8:AC8,">"&Übersicht!$V$2)>=3,E8>12,E8<17), AND(COUNTIF(Y8:AC8,">"&Übersicht!$V$2)=5,E8>=17)),"JA","NEIN") -> NEIN | AF8: =IF(OR(AND(COUNTIF(Y8:AC8,">"&Übersicht!$AC$2)>=3,E8>13,E8<16), AND(COUNTIF(Y8:Z8,">"&Übersicht!$AC$2)=2,E8>=16, COUNTIF(AA8:AC8, ">" & Übersicht!$AC$2) >=1 )),"JA","NEIN") -> NEIN
A9: 4 | Y9: =Übersicht!M5 -> #DIV/0! | Z9: =Übersicht!N5 -> #DIV/0! | AA9: =Übersicht!O5 -> #DIV/0! | AB9: =Übersicht!P5 -> #N/A | AC9: =Übersicht!Q5 -> #N/A | AD9: =Y9*0.25+Z9*0.25+AA9*0.19+AB9*0.14+AC9*0.17 -> #DIV/0! | AE9: =IF(OR(AND(COUNTIF(Y9:AC9,">"&Übersicht!$V$2)>=3,E9>12,E9<17), AND(COUNTIF(Y9:AC9,">"&Übersicht!$V$2)=5,E9>=17)),"JA","NEIN") -> NEIN | AF9: =IF(OR(AND(COUNTIF(Y9:AC9,">"&Übersicht!$AC$2)>=3,E9>13,E9<16), AND(COUNTIF(Y9:Z9,">"&Übersicht!$AC$2)=2,E9>=16, COUNTIF(AA9:AC9, ">" & Übersicht!$AC$2) >=1 )),"JA","NEIN") -> NEIN
A10: 5 | Y10: =Übersicht!M6 -> #DIV/0! | Z10: =Übersicht!N6 -> #DIV/0! | AA10: =Übersicht!O6 -> #DIV/0! | AB10: =Übersicht!P6 -> #N/A | AC10: =Übersicht!Q6 -> #N/A | AD10: =Y10*0.25+Z10*0.25+AA10*0.19+AB10*0.14+AC10*0.17 -> #DIV/0! | AE10: =IF(OR(AND(COUNTIF(Y10:AC10,">"&Übersicht!$V$2)>=3,E10>12,E10<17), AND(COUNTIF(Y10:AC10,">"&Übersicht!$V$2)=5,E10>=17)),"JA","NEIN") -> NEIN | AF10: =IF(OR(AND(COUNTIF(Y10:AC10,">"&Übersicht!$AC$2)>=3,E10>13,E10<16), AND(COUNTIF(Y10:Z10,">"&Übersicht!$AC$2)=2,E10>=16, COUNTIF(AA10:AC10, ">" & Übersicht!$AC$2) >=1 )),"JA","NEIN") -> NEIN
A11: 6 | Y11: =Übersicht!M7 -> #DIV/0! | Z11: =Übersicht!N7 -> #DIV/0! | AA11: =Übersicht!O7 -> #DIV/0! | AB11: =Übersicht!P7 -> #N/A | AC11: =Übersicht!Q7 -> #N/A | AD11: =Y11*0.25+Z11*0.25+AA11*0.19+AB11*0.14+AC11*0.17 -> #DIV/0! | AE11: =IF(OR(AND(COUNTIF(Y11:AC11,">"&Übersicht!$V$2)>=3,E11>12,E11<17), AND(COUNTIF(Y11:AC11,">"&Übersicht!$V$2)=5,E11>=17)),"JA","NEIN") -> NEIN | AF11: =IF(OR(AND(COUNTIF(Y11:AC11,">"&Übersicht!$AC$2)>=3,E11>13,E11<16), AND(COUNTIF(Y11:Z11,">"&Übersicht!$AC$2)=2,E11>=16, COUNTIF(AA11:AC11, ">" & Übersicht!$AC$2) >=1 )),"JA","NEIN") -> NEIN
A12: 7 | Y12: =Übersicht!M8 -> #DIV/0! | Z12: =Übersicht!N8 -> #DIV/0! | AA12: =Übersicht!O8 -> #DIV/0! | AB12: =Übersicht!P8 -> #N/A | AC12: =Übersicht!Q8 -> #N/A | AD12: =Y12*0.25+Z12*0.25+AA12*0.19+AB12*0.14+AC12*0.17 -> #DIV/0! | AE12: =IF(OR(AND(COUNTIF(Y12:AC12,">"&Übersicht!$V$2)>=3,E12>12,E12<17), AND(COUNTIF(Y12:AC12,">"&Übersicht!$V$2)=5,E12>=17)),"JA","NEIN") -> NEIN | AF12: =IF(OR(AND(COUNTIF(Y12:AC12,">"&Übersicht!$AC$2)>=3,E12>13,E12<16), AND(COUNTIF(Y12:Z12,">"&Übersicht!$AC$2)=2,E12>=16, COUNTIF(AA12:AC12, ">" & Übersicht!$AC$2) >=1 )),"JA","NEIN") -> NEIN
A13: 8 | Y13: =Übersicht!M9 -> #DIV/0! | Z13: =Übersicht!N9 -> #DIV/0! | AA13: =Übersicht!O9 -> #DIV/0! | AB13: =Übersicht!P9 -> #N/A | AC13: =Übersicht!Q9 -> #N/A | AD13: =Y13*0.25+Z13*0.25+AA13*0.19+AB13*0.14+AC13*0.17 -> #DIV/0! | AE13: =IF(OR(AND(COUNTIF(Y13:AC13,">"&Übersicht!$V$2)>=3,E13>12,E13<17), AND(COUNTIF(Y13:AC13,">"&Übersicht!$V$2)=5,E13>=17)),"JA","NEIN") -> NEIN | AF13: =IF(OR(AND(COUNTIF(Y13:AC13,">"&Übersicht!$AC$2)>=3,E13>13,E13<16), AND(COUNTIF(Y13:Z13,">"&Übersicht!$AC$2)=2,E13>=16, COUNTIF(AA13:AC13, ">" & Übersicht!$AC$2) >=1 )),"JA","NEIN") -> NEIN
A14: 9 | Y14: =Übersicht!M10 -> #DIV/0! | Z14: =Übersicht!N10 -> #DIV/0! | AA14: =Übersicht!O10 -> #DIV/0! | AB14: =Übersicht!P10 -> #N/A | AC14: =Übersicht!Q10 -> #N/A | AD14: =Y14*0.25+Z14*0.25+AA14*0.19+AB14*0.14+AC14*0.17 -> #DIV/0! | AE14: =IF(OR(AND(COUNTIF(Y14:AC14,">"&Übersicht!$V$2)>=3,E14>12,E14<17), AND(COUNTIF(Y14:AC14,">"&Übersicht!$V$2)=5,E14>=17)),"JA","NEIN") -> NEIN | AF14: =IF(OR(AND(COUNTIF(Y14:AC14,">"&Übersicht!$AC$2)>=3,E14>13,E14<16), AND(COUNTIF(Y14:Z14,">"&Übersicht!$AC$2)=2,E14>=16, COUNTIF(AA14:AC14, ">" & Übersicht!$AC$2) >=1 )),"JA","NEIN") -> NEIN
A15: 10 | Y15: =Übersicht!M11 -> #DIV/0! | Z15: =Übersicht!N11 -> #DIV/0! | AA15: =Übersicht!O11 -> #DIV/0! | AB15: =Übersicht!P11 -> #N/A | AC15: =Übersicht!Q11 -> #N/A | AD15: =Y15*0.25+Z15*0.25+AA15*0.19+AB15*0.14+AC15*0.17 -> #DIV/0! | AE15: =IF(OR(AND(COUNTIF(Y15:AC15,">"&Übersicht!$V$2)>=3,E15>12,E15<17), AND(COUNTIF(Y15:AC15,">"&Übersicht!$V$2)=5,E15>=17)),"JA","NEIN") -> NEIN | AF15: =IF(OR(AND(COUNTIF(Y15:AC15,">"&Übersicht!$AC$2)>=3,E15>13,E15<16), AND(COUNTIF(Y15:Z15,">"&Übersicht!$AC$2)=2,E15>=16, COUNTIF(AA15:AC15, ">" & Übersicht!$AC$2) >=1 )),"JA","NEIN") -> NEIN
A16: 11 | Y16: =Übersicht!M12 -> #DIV/0! | Z16: =Übersicht!N12 -> #DIV/0! | AA16: =Übersicht!O12 -> #DIV/0! | AB16: =Übersicht!P12 -> #N/A | AC16: =Übersicht!Q12 -> #N/A | AD16: =Y16*0.25+Z16*0.25+AA16*0.19+AB16*0.14+AC16*0.17 -> #DIV/0! | AE16: =IF(OR(AND(COUNTIF(Y16:AC16,">"&Übersicht!$V$2)>=3,E16>12,E16<17), AND(COUNTIF(Y16:AC16,">"&Übersicht!$V$2)=5,E16>=17)),"JA","NEIN") -> NEIN | AF16: =IF(OR(AND(COUNTIF(Y16:AC16,">"&Übersicht!$AC$2)>=3,E16>13,E16<16), AND(COUNTIF(Y16:Z16,">"&Übersicht!$AC$2)=2,E16>=16, COUNTIF(AA16:AC16, ">" & Übersicht!$AC$2) >=1 )),"JA","NEIN") -> NEIN
A17: 12 | Y17: =Übersicht!M13 -> #DIV/0! | Z17: =Übersicht!N13 -> #DIV/0! | AA17: =Übersicht!O13 -> #DIV/0! | AB17: =Übersicht!P13 -> #N/A | AC17: =Übersicht!Q13 -> #N/A | AD17: =Y17*0.25+Z17*0.25+AA17*0.19+AB17*0.14+AC17*0.17 -> #DIV/0! | AE17: =IF(OR(AND(COUNTIF(Y17:AC17,">"&Übersicht!$V$2)>=3,E17>12,E17<17), AND(COUNTIF(Y17:AC17,">"&Übersicht!$V$2)=5,E17>=17)),"JA","NEIN") -> NEIN | AF17: =IF(OR(AND(COUNTIF(Y17:AC17,">"&Übersicht!$AC$2)>=3,E17>13,E17<16), AND(COUNTIF(Y17:Z17,">"&Übersicht!$AC$2)=2,E17>=16, COUNTIF(AA17:AC17, ">" & Übersicht!$AC$2) >=1 )),"JA","NEIN") -> NEIN
A18: 13 | Y18: =Übersicht!M14 -> #DIV/0! | Z18: =Übersicht!N14 -> #DIV/0! | AA18: =Übersicht!O14 -> #DIV/0! | AB18: =Übersicht!P14 -> #N/A | AC18: =Übersicht!Q14 -> #N/A | AD18: =Y18*0.25+Z18*0.25+AA18*0.19+AB18*0.14+AC18*0.17 -> #DIV/0! | AE18: =IF(OR(AND(COUNTIF(Y18:AC18,">"&Übersicht!$V$2)>=3,E18>12,E18<17), AND(COUNTIF(Y18:AC18,">"&Übersicht!$V$2)=5,E18>=17)),"JA","NEIN") -> NEIN | AF18: =IF(OR(AND(COUNTIF(Y18:AC18,">"&Übersicht!$AC$2)>=3,E18>13,E18<16), AND(COUNTIF(Y18:Z18,">"&Übersicht!$AC$2)=2,E18>=16, COUNTIF(AA18:AC18, ">" & Übersicht!$AC$2) >=1 )),"JA","NEIN") -> NEIN
A19: 14 | Y19: =Übersicht!M15 -> #DIV/0! | Z19: =Übersicht!N15 -> #DIV/0! | AA19: =Übersicht!O15 -> #DIV/0! | AB19: =Übersicht!P15 -> #N/A | AC19: =Übersicht!Q15 -> #N/A | AD19: =Y19*0.25+Z19*0.25+AA19*0.19+AB19*0.14+AC19*0.17 -> #DIV/0! | AE19: =IF(OR(AND(COUNTIF(Y19:AC19,">"&Übersicht!$V$2)>=3,E19>12,E19<17), AND(COUNTIF(Y19:AC19,">"&Übersicht!$V$2)=5,E19>=17)),"JA","NEIN") -> NEIN | AF19: =IF(OR(AND(COUNTIF(Y19:AC19,">"&Übersicht!$AC$2)>=3,E19>13,E19<16), AND(COUNTIF(Y19:Z19,">"&Übersicht!$AC$2)=2,E19>=16, COUNTIF(AA19:AC19, ">" & Übersicht!$AC$2) >=1 )),"JA","NEIN") -> NEIN
A20: 15 | Y20: =Übersicht!M16 -> #DIV/0! | Z20: =Übersicht!N16 -> #DIV/0! | AA20: =Übersicht!O16 -> #DIV/0! | AB20: =Übersicht!P16 -> #N/A | AC20: =Übersicht!Q16 -> #N/A | AD20: =Y20*0.25+Z20*0.25+AA20*0.19+AB20*0.14+AC20*0.17 -> #DIV/0! | AE20: =IF(OR(AND(COUNTIF(Y20:AC20,">"&Übersicht!$V$2)>=3,E20>12,E20<17), AND(COUNTIF(Y20:AC20,">"&Übersicht!$V$2)=5,E20>=17)),"JA","NEIN") -> NEIN | AF20: =IF(OR(AND(COUNTIF(Y20:AC20,">"&Übersicht!$AC$2)>=3,E20>13,E20<16), AND(COUNTIF(Y20:Z20,">"&Übersicht!$AC$2)=2,E20>=16, COUNTIF(AA20:AC20, ">" & Übersicht!$AC$2) >=1 )),"JA","NEIN") -> NEIN
... A149: 144 | Y149: =Übersicht!M145 -> #DIV/0! | Z149: =Übersicht!N145 -> #DIV/0! | AA149: =Übersicht!O145 -> #DIV/0! | AB149: =Übersicht!P145 -> #N/A | AC149: =Übersicht!Q145 -> #N/A | AD149: =Y149*0.25+Z149*0.25+AA149*0.19+AB149*0.14+AC149*0.17 -> #DIV/0! | AE149: =IF(OR(AND(COUNTIF(Y149:AC149,">"&Übersicht!$V$2)>=3,E149>12,E149<17), AND(COUNTIF(Y149:AC149,">"&Übersicht!$V$2)=5,E149>=17)),"JA","NEIN") -> NEIN | AF149: =IF(OR(AND(COUNTIF(Y149:AC149,">"&Übersicht!$AC$2)>=3,E149>13,E149<16), AND(COUNTIF(Y149:Z149,">"&Übersicht!$AC$2)=2,E149>=16, COUNTIF(AA149:AC149, ">" & Übersicht!$AC$2) >=1 )),"JA","NEIN") -> NEIN
A150: 145 | F150: FALSE | G150: =IF(F150=TRUE,E150-1,E150) -> 0 | Y150: =Übersicht!M146 -> #DIV/0! | Z150: =Übersicht!N146 -> #DIV/0! | AA150: =Übersicht!O146 -> #DIV/0! | AB150: =Übersicht!P146 -> #N/A | AC150: =Übersicht!Q146 -> #N/A | AD150: =Y150*0.25+Z150*0.25+AA150*0.19+AB150*0.14+AC150*0.17 -> #DIV/0! | AE150: =IF(OR(AND(COUNTIF(Y150:AC150,">"&Übersicht!$V$2)>=3,E150>12,E150<17), AND(COUNTIF(Y150:AC150,">"&Übersicht!$V$2)=5,E150>=17)),"JA","NEIN") -> NEIN | AF150: =IF(OR(AND(COUNTIF(Y150:AC150,">"&Übersicht!$AC$2)>=3,E150>13,E150<16), AND(COUNTIF(Y150:Z150,">"&Übersicht!$AC$2)=2,E150>=16, COUNTIF(AA150:AC150, ">" & Übersicht!$AC$2) >=1 )),"JA","NEIN") -> NEIN
A151: 146 | F151: FALSE | G151: =IF(F151=TRUE,E151-1,E151) -> 0 | Y151: =Übersicht!M147 -> #DIV/0! | Z151: =Übersicht!N147 -> #DIV/0! | AA151: =Übersicht!O147 -> #DIV/0! | AB151: =Übersicht!P147 -> #N/A | AC151: =Übersicht!Q147 -> #N/A | AD151: =Y151*0.25+Z151*0.25+AA151*0.19+AB151*0.14+AC151*0.17 -> #DIV/0! | AE151: =IF(OR(AND(COUNTIF(Y151:AC151,">"&Übersicht!$V$2)>=3,E151>12,E151<17), AND(COUNTIF(Y151:AC151,">"&Übersicht!$V$2)=5,E151>=17)),"JA","NEIN") -> NEIN | AF151: =IF(OR(AND(COUNTIF(Y151:AC151,">"&Übersicht!$AC$2)>=3,E151>13,E151<16), AND(COUNTIF(Y151:Z151,">"&Übersicht!$AC$2)=2,E151>=16, COUNTIF(AA151:AC151, ">" & Übersicht!$AC$2) >=1 )),"JA","NEIN") -> NEIN
A152: 147 | F152: FALSE | G152: =IF(F152=TRUE,E152-1,E152) -> 0 | Y152: =Übersicht!M148 -> #DIV/0! | Z152: =Übersicht!N148 -> #DIV/0! | AA152: =Übersicht!O148 -> #DIV/0! | AB152: =Übersicht!P148 -> #N/A | AC152: =Übersicht!Q148 -> #N/A | AD152: =Y152*0.25+Z152*0.25+AA152*0.19+AB152*0.14+AC152*0.17 -> #DIV/0! | AE152: =IF(OR(AND(COUNTIF(Y152:AC152,">"&Übersicht!$V$2)>=3,E152>12,E152<17), AND(COUNTIF(Y152:AC152,">"&Übersicht!$V$2)=5,E152>=17)),"JA","NEIN") -> NEIN | AF152: =IF(OR(AND(COUNTIF(Y152:AC152,">"&Übersicht!$AC$2)>=3,E152>13,E152<16), AND(COUNTIF(Y152:Z152,">"&Übersicht!$AC$2)=2,E152>=16, COUNTIF(AA152:AC152, ">" & Übersicht!$AC$2) >=1 )),"JA","NEIN") -> NEIN
A153: 148 | F153: FALSE | G153: =IF(F153=TRUE,E153-1,E153) -> 0 | Y153: =Übersicht!M149 -> #DIV/0! | Z153: =Übersicht!N149 -> #DIV/0! | AA153: =Übersicht!O149 -> #DIV/0! | AB153: =Übersicht!P149 -> #N/A | AC153: =Übersicht!Q149 -> #N/A | AD153: =Y153*0.25+Z153*0.25+AA153*0.19+AB153*0.14+AC153*0.17 -> #DIV/0! | AE153: =IF(OR(AND(COUNTIF(Y153:AC153,">"&Übersicht!$V$2)>=3,E153>12,E153<17), AND(COUNTIF(Y153:AC153,">"&Übersicht!$V$2)=5,E153>=17)),"JA","NEIN") -> NEIN | AF153: =IF(OR(AND(COUNTIF(Y153:AC153,">"&Übersicht!$AC$2)>=3,E153>13,E153<16), AND(COUNTIF(Y153:Z153,">"&Übersicht!$AC$2)=2,E153>=16, COUNTIF(AA153:AC153, ">" & Übersicht!$AC$2) >=1 )),"JA","NEIN") -> NEIN
A154: 149 | F154: FALSE | G154: =IF(F154=TRUE,E154-1,E154) -> 0 | Y154: =Übersicht!M150 -> #DIV/0! | Z154: =Übersicht!N150 -> #DIV/0! | AA154: =Übersicht!O150 -> #DIV/0! | AB154: =Übersicht!P150 -> #N/A | AC154: =Übersicht!Q150 -> #N/A | AD154: =Y154*0.25+Z154*0.25+AA154*0.19+AB154*0.14+AC154*0.17 -> #DIV/0! | AE154: =IF(OR(AND(COUNTIF(Y154:AC154,">"&Übersicht!$V$2)>=3,E154>12,E154<17), AND(COUNTIF(Y154:AC154,">"&Übersicht!$V$2)=5,E154>=17)),"JA","NEIN") -> NEIN | AF154: =IF(OR(AND(COUNTIF(Y154:AC154,">"&Übersicht!$AC$2)>=3,E154>13,E154<16), AND(COUNTIF(Y154:Z154,">"&Übersicht!$AC$2)=2,E154>=16, COUNTIF(AA154:AC154, ">" & Übersicht!$AC$2) >=1 )),"JA","NEIN") -> NEIN
A155: 150 | F155: FALSE | G155: =IF(F155=TRUE,E155-1,E155) -> 0 | Y155: =Übersicht!M171 -> 0 | Z155: =Übersicht!N171 -> 0 | AA155: =Übersicht!O171 -> 0 | AB155: =Übersicht!P171 -> 0 | AC155: =Übersicht!Q171 -> 0 | AD155: =Y155*0.25+Z155*0.25+AA155*0.19+AB155*0.14+AC155*0.17 -> 0 | AE155: =IF(OR(AND(COUNTIF(Y155:AC155,">"&Übersicht!$V$2)>=3,E155>12,E155<17), AND(COUNTIF(Y155:AC155,">"&Übersicht!$V$2)=5,E155>=17)),"JA","NEIN") -> NEIN | AF155: =IF(OR(AND(COUNTIF(Y155:AC155,">"&Übersicht!$AC$2)>=3,E155>13,E155<16), AND(COUNTIF(Y155:Z155,">"&Übersicht!$AC$2)=2,E155>=16, COUNTIF(AA155:AC155, ">" & Übersicht!$AC$2) >=1 )),"JA","NEIN") -> NEIN
B157: Terminlegende: | AG157: ∑ LK: | AI157: =COUNTIF(AI6:AI155,"LK") -> 0
B158: T 1 (Turnier) | C158: 29. Kw | AG158: ∑ NK2: | AI158: =COUNTIF(AI6:AI155,"NK2") -> 0
B159: IDJM: | C159: 26. Kw
B160: LM: | C160: 38. Kw
B161: DM Nw: | C161: 47. Kw

Sheet Übersicht
A1: Vorname | B1: Name | C1: AK | D1: Reißen [kg] | E1: KG Reißen | F1: Stoßen [kg] | G1: KG Stoßen | H1: Schocken [m] | I1: KG Schocken | J1: Sternlauf [s] | K1: S3S [m] | M1: Perz Reißen | N1: Perz Stoßen | O1: Perz Schocken | P1: Perz Sternlauf | Q1: Perz Sprung | R1: Perzentil Sternlauf NK2 | S1: Gesamtperzentil Landeskader | T1: Gesamtperzentil NK2 | V1: Aufnahmeperzentil Zweikampf Landeskader | W1: Aufnahmeperzentil Schocken Landeskader | X1: Aufnahmeperzentil Sprung Landeskader | Y1: Aufnahmeperzentil Sternlauf Landeskader | Z1: Gesamtperzentil für Aufnahme Landeskader | AA1: Aufnahme Landeskader | AC1: Aufnahmeperzentil Zweikampf NK2 | AD1: Aufnahmeperzentil Schocken Nk2 | AE1: Aufnahmeperzentil Sprung NK2 | AF1: Aufnahmeperzentil Sternlauf NK2 | AG1: Gesamtperzentil für Aufnahme NK2 | AH1: Aufnahme LNK2
A2: ='Tabelle Kaderkriterien'!B6 -> 0 | B2: ='Tabelle Kaderkriterien'!C6 -> 0 | C2: ='Tabelle Kaderkriterien'!G6 -> 0 | D2: ='Tabelle Kaderkriterien'!K6 -> 0 | E2: ='Tabelle Kaderkriterien'!L6 -> 0 | F2: ='Tabelle Kaderkriterien'!N6 -> 0 | G2: ='Tabelle Kaderkriterien'!O6 -> 0 | H2: ='Tabelle Kaderkriterien'!Q6 -> 0 | I2: ='Tabelle Kaderkriterien'!R6 -> 0 | J2: ='Tabelle Kaderkriterien'!T6 -> 0 | K2: ='Tabelle Kaderkriterien'!V6 -> 0 | M2: =IF(AND('Tabelle Kaderkriterien'!$H6="m",Übersicht!$C2=13,'Perzentile Männlich'!M2>'Perzentile Männlich'!R$3),100,IF(AND('Tabelle Kaderkriterien'!$H6="m",Übersicht!$C2=13),('Perzentile Männlich'!$B$35*'Perzentile Männlich'!M2^3)+('Perzentile Männlich'!$C$35*'Perzentile Männlich'!M2^2)+('Perzentile Männlich'!$D$35*'Perzentile Männlich'!M2)+'Perzentile Männlich'!$E$35,IF(AND('Tabelle Kaderkriterien'!$H6="m",Übersicht!$C2=14,'Perzentile Männlich'!M2>'Perzentile Männlich'!R$4),100,IF(AND('Tabelle Kaderkriterien'!$H6="m",Übersicht!$C2=14),('Perzentile Männlich'!$B$36*'Perzentile Männlich'!M2^3)+('Perzentile Männlich'!$C$36*'Perzentile Männlich'!M2^2)+('Perzentile Männlich'!$D$36*'Perzentile Männlich'!M2)+'Perzentile Männlich'!$E$36,IF(AND('Tabelle Kaderkriterien'!$H6="m",Übersicht!$C2=15,'Perzentile Männlich'!M2>'Perzentile Männlich'!R$5),100,IF(AND('Tabelle Kaderkriterien'!$H6="m",Übersicht!$C2=15),('Perzentile Männlich'!$B$37*'Perzentile Männlich'!M2^3)+('Perzentile Männlich'!$C$37*'Perzentile Männlich'!M2^2)+('Perzentile Männlich'!$D$37*'Perzentile Männlich'!M2)+'Perzentile Männlich'!$E$37,IF(AND('Tabelle Kaderkriterien'!$H6="m",Übersicht!$C2=16,'Perzentile Männlich'!M2>'Perzentile Männlich'!R$6),100,IF(AND('Tabelle Kaderkriterien'!$H6="m",Übersicht!$C2=16),('Perzentile Männlich'!$B$38*'Perzentile Männlich'!M2^3)+('Perzentile Männlich'!$C$38*'Perzentile Männlich'!M2^2)+('Perzentile Männlich'!$D$38*'Perzentile Männlich'!M2)+'Perzentile Männlich'!$E$38,IF(AND('Tabelle Kaderkriterien'!$H6="m",Übersicht!$C2=12,'Perzentile Männlich'!M2>'Perzentile Männlich'!R$7),100,IF(AND('Tabelle Kaderkriterien'!$H6="m",Übersicht!$C2=12),('Perzentile Männlich'!$B$39*'Perzentile Männlich'!M2^3)+('Perzentile Männlich'!$C$39*'Perzentile Männlich'!M2^2)+('Perzentile Männlich'!$D$39*'Perzentile Männlich'!M2)+'Perzentile Männlich'!$E$39,IF(AND('Tabelle Kaderkriterien'!$H6="m",Übersicht!$C2=11,'Perzentile Männlich'!M2>'Perzentile Männlich'!R$8),100,IF(AND('Tabelle Kaderkriterien'!$H6="m",Übersicht!$C2=11),('Perzentile Männlich'!$B$40*'Perzentile Männlich'!M2^3)+('Perzentile Männlich'!$C$40*'Perzentile Männlich'!M2^2)+('Perzentile Männlich'!$D$40*'Perzentile Männlich'!M2)+'Perzentile Männlich'!$E$40,IF(AND('Tabelle Kaderkriterien'!$H6="w",Übersicht!$C2=13,'Perzentile Weiblich'!M2>'Perzentile Weiblich'!R$3),100,IF(AND('Tabelle Kaderkriterien'!$H6="w",Übersicht!$C2=13),('Perzentile Weiblich'!$B$35*'Perzentile Weiblich'!M2^3)+('Perzentile Weiblich'!$C$35*'Perzentile Weiblich'!M2^2)+('Perzentile Weiblich'!$D$35*'Perzentile Weiblich'!M2)+'Perzentile Weiblich'!$E$35,IF(AND('Tabelle Kaderkriterien'!$H6="w",Übersicht!$C2=14,'Perzentile Weiblich'!M2>'Perzentile Weiblich'!R$4),100,IF(AND('Tabelle Kaderkriterien'!$H6="w",Übersicht!$C2=14),('Perzentile Weiblich'!$B$36*'Perzentile Weiblich'!M2^3)+('Perzentile Weiblich'!$C$36*'Perzentile Weiblich'!M2^2)+('Perzentile Weiblich'!$D$36*'Perzentile Weiblich'!M2)+'Perzentile Weiblich'!$E$36,IF(AND('Tabelle Kaderkriterien'!$H6="w",Übersicht!$C2=15,'Perzentile Weiblich'!M2>'Perzentile Weiblich'!R$5),100,IF(AND('Tabelle Kaderkriterien'!$H6="w",Übersicht!$C2=15),('Perzentile Weiblich'!$B$37*'Perzentile Weiblich'!M2^3)+('Perzentile Weiblich'!$C$37*'Perzentile Weiblich'!M2^2)+('Perzentile Weiblich'!$D$37*'Perzentile Weiblich'!M2)+'Perzentile Weiblich'!$E$37,IF(AND('Tabelle Kaderkriterien'!$H6="w",Übersicht!$C2=16,'Perzentile Weiblich'!M2>'Perzentile Weiblich'!R$6),100,IF(AND('Tabelle Kaderkriterien'!$H6="w",Übersicht!$C2=16),('Perzentile Weiblich'!$B$38*'Perzentile Weiblich'!M2^3)+('Perzentile Weiblich'!$C$38*'Perzentile Weiblich'!M2^2)+('Perzentile Weiblich'!$D$38*'Perzentile Weiblich'!M2)+'Perzentile Weiblich'!$E$38,IF(AND('Tabelle Kaderkriterien'!$H6="w",Übersicht!$C2=12,'Perzentile Weiblich'!M2>'Perzentile Weiblich'!R$7),100,IF(AND('Tabelle Kaderkriterien'!$H6="w",Übersicht!$C2=12),('Perzentile Weiblich'!$B$39*'Perzentile Weiblich'!M2^3)+('Perzentile Weiblich'!$C$39*'Perzentile Weiblich'!M2^2)+('Perzentile Weiblich'!$D$39*'Perzentile Weiblich'!M2)+'Perzentile Weiblich'!$E$39,IF(AND('Tabelle Kaderkriterien'!$H6="w",Übersicht!$C2=11,'Perzentile Weiblich'!M2>'Perzentile Weiblich'!R$8),100,IF(AND('Tabelle Kaderkriterien'!$H6="w",Übersicht!$C2=11),('Perzentile Weiblich'!$B$40*'Perzentile Weiblich'!M2^3)+('Perzentile Weiblich'!$C$40*'Perzentile Weiblich'!M2^2)+('Perzentile Weiblich'!$D$40*'Perzentile Weiblich'!M2)+'Perzentile Weiblich'!$E$40,IF(AND('Tabelle Kaderkriterien'!H6<>"m",'Tabelle Kaderkriterien'!H6<>"!w"),#N/A,#N/A))))))))))))))))))))))))) -> #DIV/0! | N2: =IF(AND('Tabelle Kaderkriterien'!$H6="m",Übersicht!$C2=13,'Perzentile Männlich'!N2>'Perzentile Männlich'!S$3),100,IF(AND('Tabelle Kaderkriterien'!$H6="m",Übersicht!$C2=13),('Perzentile Männlich'!$B$43*'Perzentile Männlich'!N2^3)+('Perzentile Männlich'!$C$43*'Perzentile Männlich'!N2^2)+('Perzentile Männlich'!$D$43*'Perzentile Männlich'!N2)+'Perzentile Männlich'!$E$43,IF(AND('Tabelle Kaderkriterien'!$H6="m",Übersicht!$C2=14,'Perzentile Männlich'!N2>'Perzentile Männlich'!S$4),100,IF(AND('Tabelle Kaderkriterien'!$H6="m",Übersicht!$C2=14),('Perzentile Männlich'!$B$44*'Perzentile Männlich'!N2^3)+('Perzentile Männlich'!$C$44*'Perzentile Männlich'!N2^2)+('Perzentile Männlich'!$D$44*'Perzentile Männlich'!N2)+'Perzentile Männlich'!$E$44,IF(AND('Tabelle Kaderkriterien'!$H6="m",Übersicht!$C2=15,'Perzentile Männlich'!N2>'Perzentile Männlich'!S$5),100,IF(AND('Tabelle Kaderkriterien'!$H6="m",Übersicht!$C2=15),('Perzentile Männlich'!$B$45*'Perzentile Männlich'!N2^3)+('Perzentile Männlich'!$C$45*'Perzentile Männlich'!N2^2)+('Perzentile Männlich'!$D$45*'Perzentile Männlich'!N2)+'Perzentile Männlich'!$E$45,IF(AND('Tabelle Kaderkriterien'!$H6="m",Übersicht!$C2=16,'Perzentile Männlich'!N2>'Perzentile Männlich'!S$6),100,IF(AND('Tabelle Kaderkriterien'!$H6="m",Übersicht!$C2=16),('Perzentile Männlich'!$B$46*'Perzentile Männlich'!N2^3)+('Perzentile Männlich'!$C$46*'Perzentile Männlich'!N2^2)+('Perzentile Männlich'!$D$46*'Perzentile Männlich'!N2)+'Perzentile Männlich'!$E$46,IF(AND('Tabelle Kaderkriterien'!$H6="m",Übersicht!$C2=12,'Perzentile Männlich'!N2>'Perzentile Männlich'!S$7),100,IF(AND('Tabelle Kaderkriterien'!$H6="m",Übersicht!$C2=12),('Perzentile Männlich'!$B$47*'Perzentile Männlich'!N2^3)+('Perzentile Männlich'!$C$47*'Perzentile Männlich'!N2^2)+('Perzentile Männlich'!$D$47*'Perzentile Männlich'!N2)+'Perzentile Männlich'!$E$47,IF(AND('Tabelle Kaderkriterien'!$H6="m",Übersicht!$C2=11,'Perzentile Männlich'!N2>'Perzentile Männlich'!S$8),100,IF(AND('Tabelle Kaderkriterien'!$H6="m",Übersicht!$C2=11),('Perzentile Männlich'!$B$48*'Perzentile Männlich'!N2^3)+('Perzentile Männlich'!$C$48*'Perzentile Männlich'!N2^2)+('Perzentile Männlich'!$D$48*'Perzentile Männlich'!N2)+'Perzentile Männlich'!$E$48,IF(AND('Tabelle Kaderkriterien'!$H6="w",Übersicht!$C2=13,'Perzentile Weiblich'!N2>'Perzentile Weiblich'!S$3),100,IF(AND('Tabelle Kaderkriterien'!$H6="w",Übersicht!$C2=13),('Perzentile Weiblich'!$B$43*'Perzentile Weiblich'!N2^3)+('Perzentile Weiblich'!$C$43*'Perzentile Weiblich'!N2^2)+('Perzentile Weiblich'!$D$43*'Perzentile Weiblich'!N2)+'Perzentile Weiblich'!$E$43,IF(AND('Tabelle Kaderkriterien'!$H6="w",Übersicht!$C2=14,'Perzentile Weiblich'!N2>'Perzentile Weiblich'!S$4),100,IF(AND('Tabelle Kaderkriterien'!$H6="w",Übersicht!$C2=14),('Perzentile Weiblich'!$B$44*'Perzentile Weiblich'!N2^3)+('Perzentile Weiblich'!$C$44*'Perzentile Weiblich'!N2^2)+('Perzentile Weiblich'!$D$44*'Perzentile Weiblich'!N2)+'Perzentile Weiblich'!$E$44,IF(AND('Tabelle Kaderkriterien'!$H6="w",Übersicht!$C2=15,'Perzentile Weiblich'!N2>'Perzentile Weiblich'!S$5),100,IF(AND('Tabelle Kaderkriterien'!$H6="w",Übersicht!$C2=15),('Perzentile Weiblich'!$B$45*'Perzentile Weiblich'!N2^3)+('Perzentile Weiblich'!$C$45*'Perzentile Weiblich'!N2^2)+('Perzentile Weiblich'!$D$45*'Perzentile Weiblich'!N2)+'Perzentile Weiblich'!$E$45,IF(AND('Tabelle Kaderkriterien'!$H6="w",Übersicht!$C2=16,'Perzentile Weiblich'!N2>'Perzentile Weiblich'!S$6),100,IF(AND('Tabelle Kaderkriterien'!$H6="w",Übersicht!$C2=16),('Perzentile Weiblich'!$B$46*'Perzentile Weiblich'!N2^3)+('Perzentile Weiblich'!$C$46*'Perzentile Weiblich'!N2^2)+('Perzentile Weiblich'!$D$46*'Perzentile Weiblich'!N2)+'Perzentile Weiblich'!$E$46,IF(AND('Tabelle Kaderkriterien'!$H6="w",Übersicht!$C2=12,'Perzentile Weiblich'!N2>'Perzentile Weiblich'!S$7),100,IF(AND('Tabelle Kaderkriterien'!$H6="w",Übersicht!$C2=12),('Perzentile Weiblich'!$B$47*'Perzentile Weiblich'!N2^3)+('Perzentile Weiblich'!$C$47*'Perzentile Weiblich'!N2^2)+('Perzentile Weiblich'!$D$47*'Perzentile Weiblich'!N2)+'Perzentile Weiblich'!$E$47,IF(AND('Tabelle Kaderkriterien'!$H6="w",Übersicht!$C2=11,'Perzentile Weiblich'!N2>'Perzentile Weiblich'!S$8),100,IF(AND('Tabelle Kaderkriterien'!$H6="w",Übersicht!$C2=11),('Perzentile Weiblich'!$B$48*'Perzentile Weiblich'!N2^3)+('Perzentile Weiblich'!$C$48*'Perzentile Weiblich'!N2^2)+('Perzentile Weiblich'!$D$48*'Perzentile Weiblich'!N2)+'Perzentile Weiblich'!$E$48,IF(AND('Tabelle Kaderkriterien'!I6<>"m",'Tabelle Kaderkriterien'!I6<>"!w"),#N/A,#N/A))))))))))))))))))))))))) -> #DIV/0! | O2: =IF(AND('Tabelle Kaderkriterien'!$H6="m",Übersicht!$C2=13,'Perzentile Männlich'!O2>'Perzentile Männlich'!T$3),100,IF(AND('Tabelle Kaderkriterien'!$H6="m",Übersicht!$C2=13),('Perzentile Männlich'!$B$11*'Perzentile Männlich'!O2^3)+('Perzentile Männlich'!$C$11*'Perzentile Männlich'!O2^2)+('Perzentile Männlich'!$D$11*'Perzentile Männlich'!O2)+'Perzentile Männlich'!$E$11,IF(AND('Tabelle Kaderkriterien'!$H6="m",Übersicht!$C2=14,'Perzentile Männlich'!O2>'Perzentile Männlich'!T$4),100,IF(AND('Tabelle Kaderkriterien'!$H6="m",Übersicht!$C2=14),('Perzentile Männlich'!$B$12*'Perzentile Männlich'!O2^3)+('Perzentile Männlich'!$C$12*'Perzentile Männlich'!O2^2)+('Perzentile Männlich'!$D$12*'Perzentile Männlich'!O2)+'Perzentile Männlich'!$E$12,IF(AND('Tabelle Kaderkriterien'!$H6="m",Übersicht!$C2=15,'Perzentile Männlich'!O2>'Perzentile Männlich'!T$5),100,IF(AND('Tabelle Kaderkriterien'!$H6="m",Übersicht!$C2=15),('Perzentile Männlich'!$B$13*'Perzentile Männlich'!O2^3)+('Perzentile Männlich'!$C$13*'Perzentile Männlich'!O2^2)+('Perzentile Männlich'!$D$13*'Perzentile Männlich'!O2)+'Perzentile Männlich'!$E$13,IF(AND('Tabelle Kaderkriterien'!$H6="m",Übersicht!$C2=16,'Perzentile Männlich'!O2>'Perzentile Männlich'!T$6),100,IF(AND('Tabelle Kaderkriterien'!$H6="m",Übersicht!$C2=16),('Perzentile Männlich'!$B$14*'Perzentile Männlich'!O2^3)+('Perzentile Männlich'!$C$14*'Perzentile Männlich'!O2^2)+('Perzentile Männlich'!$D$14*'Perzentile Männlich'!O2)+'Perzentile Männlich'!$E$14,IF(AND('Tabelle Kaderkriterien'!$H6="m",Übersicht!$C2=12,'Perzentile Männlich'!O2>'Perzentile Männlich'!T$7),100,IF(AND('Tabelle Kaderkriterien'!$H6="m",Übersicht!$C2=12),('Perzentile Männlich'!$B$15*'Perzentile Männlich'!O2^3)+('Perzentile Männlich'!$C$15*'Perzentile Männlich'!O2^2)+('Perzentile Männlich'!$D$15*'Perzentile Männlich'!O2)+'Perzentile Männlich'!$E$15,IF(AND('Tabelle Kaderkriterien'!$H6="m",Übersicht!$C2=11,'Perzentile Männlich'!O2>'Perzentile Männlich'!T$8),100,IF(AND('Tabelle Kaderkriterien'!$H6="m",Übersicht!$C2=11),('Perzentile Männlich'!$B$16*'Perzentile Männlich'!O2^3)+('Perzentile Männlich'!$C$16*'Perzentile Männlich'!O2^2)+('Perzentile Männlich'!$D$16*'Perzentile Männlich'!O2)+'Perzentile Männlich'!$E$16,IF(AND('Tabelle Kaderkriterien'!$H6="w",Übersicht!$C2=13,'Perzentile Weiblich'!O2>'Perzentile Weiblich'!T$3),100,IF(AND('Tabelle Kaderkriterien'!$H6="w",Übersicht!$C2=13),('Perzentile Weiblich'!$B$11*'Perzentile Weiblich'!O2^3)+('Perzentile Weiblich'!$C$11*'Perzentile Weiblich'!O2^2)+('Perzentile Weiblich'!$D$11*'Perzentile Weiblich'!O2)+'Perzentile Weiblich'!$E$11,IF(AND('Tabelle Kaderkriterien'!$H6="w",Übersicht!$C2=14,'Perzentile Weiblich'!O2>'Perzentile Weiblich'!T$4),100,IF(AND('Tabelle Kaderkriterien'!$H6="w",Übersicht!$C2=14),('Perzentile Weiblich'!$B$12*'Perzentile Weiblich'!O2^3)+('Perzentile Weiblich'!$C$12*'Perzentile Weiblich'!O2^2)+('Perzentile Weiblich'!$D$12*'Perzentile Weiblich'!O2)+'Perzentile Weiblich'!$E$12,IF(AND('Tabelle Kaderkriterien'!$H6="w",Übersicht!$C2=15,'Perzentile Weiblich'!O2>'Perzentile Weiblich'!T$5),100,IF(AND('Tabelle Kaderkriterien'!$H6="w",Übersicht!$C2=15),('Perzentile Weiblich'!$B$13*'Perzentile Weiblich'!O2^3)+('Perzentile Weiblich'!$C$13*'Perzentile Weiblich'!O2^2)+('Perzentile Weiblich'!$D$13*'Perzentile Weiblich'!O2)+'Perzentile Weiblich'!$E$13,IF(AND('Tabelle Kaderkriterien'!$H6="w",Übersicht!$C2=16,'Perzentile Weiblich'!O2>'Perzentile Weiblich'!T$6),100,IF(AND('Tabelle Kaderkriterien'!$H6="w",Übersicht!$C2=16),('Perzentile Weiblich'!$B$14*'Perzentile Weiblich'!O2^3)+('Perzentile Weiblich'!$C$14*'Perzentile Weiblich'!O2^2)+('Perzentile Weiblich'!$D$14*'Perzentile Weiblich'!O2)+'Perzentile Weiblich'!$E$14,IF(AND('Tabelle Kaderkriterien'!$H6="w",Übersicht!$C2=12,'Perzentile Weiblich'!O2>'Perzentile Weiblich'!T$7),100,IF(AND('Tabelle Kaderkriterien'!$H6="w",Übersicht!$C2=12),('Perzentile Weiblich'!$B$15*'Perzentile Weiblich'!O2^3)+('Perzentile Weiblich'!$C$15*'Perzentile Weiblich'!O2^2)+('Perzentile Weiblich'!$D$15*'Perzentile Weiblich'!O2)+'Perzentile Weiblich'!$E$15,IF(AND('Tabelle Kaderkriterien'!$H6="w",Übersicht!$C2=11,'Perzentile Weiblich'!O2>'Perzentile Weiblich'!T$8),100,IF(AND('Tabelle Kaderkriterien'!$H6="w",Übersicht!$C2=11),('Perzentile Weiblich'!$B$16*'Perzentile Weiblich'!O2^3)+('Perzentile Weiblich'!$C$16*'Perzentile Weiblich'!O2^2)+('Perzentile Weiblich'!$D$16*'Perzentile Weiblich'!O2)+'Perzentile Weiblich'!$E$16,IF(AND('Tabelle Kaderkriterien'!J6<>"m",'Tabelle Kaderkriterien'!J6<>"!w"),#N/A,#N/A))))))))))))))))))))))))) -> #DIV/0! | P2: =IF(AND('Tabelle Kaderkriterien'!$H6="m",Übersicht!$C2=13,J2<'Perzentile Männlich'!U$3),100,IF(AND('Tabelle Kaderkriterien'!$H6="m",Übersicht!$C2=13),('Perzentile Männlich'!$B$27*J2^3)+('Perzentile Männlich'!$C$27*J2^2)+('Perzentile Männlich'!$D$27*J2)+'Perzentile Männlich'!$E$27,IF(AND('Tabelle Kaderkriterien'!$H6="m",Übersicht!$C2=14,J2<'Perzentile Männlich'!U$4),100,IF(AND('Tabelle Kaderkriterien'!$H6="m",Übersicht!$C2=14),('Perzentile Männlich'!$B$28*J2^3)+('Perzentile Männlich'!$C$28*J2^2)+('Perzentile Männlich'!$D$28*J2)+'Perzentile Männlich'!$E$28,IF(AND('Tabelle Kaderkriterien'!$H6="m",Übersicht!$C2=15,J2<'Perzentile Männlich'!U$5),100,IF(AND('Tabelle Kaderkriterien'!$H6="m",Übersicht!$C2=15),('Perzentile Männlich'!$B$29*J2^3)+('Perzentile Männlich'!$C$29*J2^2)+('Perzentile Männlich'!$D$29*J2)+'Perzentile Männlich'!$E$29,IF(AND('Tabelle Kaderkriterien'!$H6="m",Übersicht!$C2=16,J2<'Perzentile Männlich'!U$6),100,IF(AND('Tabelle Kaderkriterien'!$H6="m",Übersicht!$C2=16),('Perzentile Männlich'!$B$30*J2^3)+('Perzentile Männlich'!$C$30*J2^2)+('Perzentile Männlich'!$D$30*J2)+'Perzentile Männlich'!$E$30,IF(AND('Tabelle Kaderkriterien'!$H6="m",Übersicht!$C2=12,J2<'Perzentile Männlich'!U$7),100,IF(AND('Tabelle Kaderkriterien'!$H6="m",Übersicht!$C2=12),('Perzentile Männlich'!$B$31*J2^3)+('Perzentile Männlich'!$C$31*J2^2)+('Perzentile Männlich'!$D$31*J2)+'Perzentile Männlich'!$E$31,IF(AND('Tabelle Kaderkriterien'!$H6="m",Übersicht!$C2=11,J2<'Perzentile Männlich'!U$8),100,IF(AND('Tabelle Kaderkriterien'!$H6="m",Übersicht!$C2=11),('Perzentile Männlich'!$B$32*J2^3)+('Perzentile Männlich'!$C$32*J2^2)+('Perzentile Männlich'!$D$32*J2)+'Perzentile Männlich'!$E$32,IF(AND('Tabelle Kaderkriterien'!$H6="w",Übersicht!$C2=13,J2<'Perzentile Weiblich'!U$3),100,IF(AND('Tabelle Kaderkriterien'!$H6="w",Übersicht!$C2=13),('Perzentile Weiblich'!$B$27*J2^3)+('Perzentile Weiblich'!$C$27*J2^2)+('Perzentile Weiblich'!$D$27*J2)+'Perzentile Weiblich'!$E$27,IF(AND('Tabelle Kaderkriterien'!$H6="w",Übersicht!$C2=14,J2<'Perzentile Weiblich'!U$4),100,IF(AND('Tabelle Kaderkriterien'!$H6="w",Übersicht!$C2=14),('Perzentile Weiblich'!$B$28*J2^3)+('Perzentile Weiblich'!$C$28*J2^2)+('Perzentile Weiblich'!$D$28*J2)+'Perzentile Weiblich'!$E$28,IF(AND('Tabelle Kaderkriterien'!$H6="w",Übersicht!$C2=15,J2<'Perzentile Weiblich'!U$5),100,IF(AND('Tabelle Kaderkriterien'!$H6="w",Übersicht!$C2=15),('Perzentile Weiblich'!$B$29*J2^3)+('Perzentile Weiblich'!$C$29*J2^2)+('Perzentile Weiblich'!$D$29*J2)+'Perzentile Weiblich'!$E$29,IF(AND('Tabelle Kaderkriterien'!$H6="w",Übersicht!$C2=16,J2<'Perzentile Weiblich'!U$6),100,IF(AND('Tabelle Kaderkriterien'!$H6="w",Übersicht!$C2=16),('Perzentile Weiblich'!$B$30*J2^3)+('Perzentile Weiblich'!$C$30*J2^2)+('Perzentile Weiblich'!$D$30*J2)+'Perzentile Weiblich'!$E$30,IF(AND('Tabelle Kaderkriterien'!$H6="w",Übersicht!$C2=12,J2<'Perzentile Weiblich'!U$7),100,IF(AND('Tabelle Kaderkriterien'!$H6="w",Übersicht!$C2=12),('Perzentile Weiblich'!$B$31*J2^3)+('Perzentile Weiblich'!$C$31*J2^2)+('Perzentile Weiblich'!$D$31*J2)+'Perzentile Weiblich'!$E$31,IF(AND('Tabelle Kaderkriterien'!$H6="w",Übersicht!$C2=11,J2<'Perzentile Weiblich'!U$8),100,IF(AND('Tabelle Kaderkriterien'!$H6="w",Übersicht!$C2=11),('Perzentile Weiblich'!$B$32*J2^3)+('Perzentile Weiblich'!$C$32*J2^2)+('Perzentile Weiblich'!$D$32*J2)+'Perzentile Weiblich'!$E$32,IF(AND('Tabelle Kaderkriterien'!H6<>"m",'Tabelle Kaderkriterien'!H6<>"!w"),#N/A,#N/A))))))))))))))))))))))))) -> #N/A | Q2: =IF(AND('Tabelle Kaderkriterien'!$H6="m",Übersicht!$C2=13,K2>'Perzentile Männlich'!V$3),100,IF(AND('Tabelle Kaderkriterien'!$H6="m",Übersicht!$C2=13),('Perzentile Männlich'!$B$19*K2^3)+('Perzentile Männlich'!$C$19*K2^2)+('Perzentile Männlich'!$D$19*K2)+'Perzentile Männlich'!$E$19,IF(AND('Tabelle Kaderkriterien'!$H6="m",Übersicht!$C2=14,K2>'Perzentile Männlich'!V$4),100,IF(AND('Tabelle Kaderkriterien'!$H6="m",Übersicht!$C2=14),('Perzentile Männlich'!$B$20*K2^3)+('Perzentile Männlich'!$C$20*K2^2)+('Perzentile Männlich'!$D$20*K2)+'Perzentile Männlich'!$E$20,IF(AND('Tabelle Kaderkriterien'!$H6="m",Übersicht!$C2=15,K2>'Perzentile Männlich'!V$5),100,IF(AND('Tabelle Kaderkriterien'!$H6="m",Übersicht!$C2=15),('Perzentile Männlich'!$B$21*K2^3)+('Perzentile Männlich'!$C$21*K2^2)+('Perzentile Männlich'!$D$21*K2)+'Perzentile Männlich'!$E$21,IF(AND('Tabelle Kaderkriterien'!$H6="m",Übersicht!$C2=16,K2>'Perzentile Männlich'!V$6),100,IF(AND('Tabelle Kaderkriterien'!$H6="m",Übersicht!$C2=16),('Perzentile Männlich'!$B$22*K2^3)+('Perzentile Männlich'!$C$22*K2^2)+('Perzentile Männlich'!$D$22*K2)+'Perzentile Männlich'!$E$22,IF(AND('Tabelle Kaderkriterien'!$H6="m",Übersicht!$C2=12,K2>'Perzentile Männlich'!V$7),100,IF(AND('Tabelle Kaderkriterien'!$H6="m",Übersicht!$C2=12),('Perzentile Männlich'!$B$23*K2^3)+('Perzentile Männlich'!$C$23*K2^2)+('Perzentile Männlich'!$D$23*K2)+'Perzentile Männlich'!$E$23,IF(AND('Tabelle Kaderkriterien'!$H6="m",Übersicht!$C2=11,K2>'Perzentile Männlich'!V$8),100,IF(AND('Tabelle Kaderkriterien'!$H6="m",Übersicht!$C2=11),('Perzentile Männlich'!$B$24*K2^3)+('Perzentile Männlich'!$C$24*K2^2)+('Perzentile Männlich'!$D$24*K2)+'Perzentile Männlich'!$E$24,IF(AND('Tabelle Kaderkriterien'!$H6="w",Übersicht!$C2=13,K2>'Perzentile Weiblich'!V$3),100,IF(AND('Tabelle Kaderkriterien'!$H6="w",Übersicht!$C2=13),('Perzentile Weiblich'!$B$19*K2^3)+('Perzentile Weiblich'!$C$19*K2^2)+('Perzentile Weiblich'!$D$19*K2)+'Perzentile Weiblich'!$E$19,IF(AND('Tabelle Kaderkriterien'!$H6="w",Übersicht!$C2=14,K2>'Perzentile Weiblich'!V$4),100,IF(AND('Tabelle Kaderkriterien'!$H6="w",Übersicht!$C2=14),('Perzentile Weiblich'!$B$20*K2^3)+('Perzentile Weiblich'!$C$20*K2^2)+('Perzentile Weiblich'!$D$20*K2)+'Perzentile Weiblich'!$E$20,IF(AND('Tabelle Kaderkriterien'!$H6="w",Übersicht!$C2=15,K2>'Perzentile Weiblich'!V$5),100,IF(AND('Tabelle Kaderkriterien'!$H6="w",Übersicht!$C2=15),('Perzentile Weiblich'!$B$21*K2^3)+('Perzentile Weiblich'!$C$21*K2^2)+('Perzentile Weiblich'!$D$21*K2)+'Perzentile Weiblich'!$E$21,IF(AND('Tabelle Kaderkriterien'!$H6="w",Übersicht!$C2=16,K2>'Perzentile Weiblich'!V$6),100,IF(AND('Tabelle Kaderkriterien'!$H6="w",Übersicht!$C2=16),('Perzentile Weiblich'!$B$22*K2^3)+('Perzentile Weiblich'!$C$22*K2^2)+('Perzentile Weiblich'!$D$22*K2)+'Perzentile Weiblich'!$E$22,IF(AND('Tabelle Kaderkriterien'!$H6="w",Übersicht!$C2=12,K2>'Perzentile Weiblich'!V$7),100,IF(AND('Tabelle Kaderkriterien'!$H6="w",Übersicht!$C2=12),('Perzentile Weiblich'!$B$23*K2^3)+('Perzentile Weiblich'!$C$23*K2^2)+('Perzentile Weiblich'!$D$23*K2)+'Perzentile Weiblich'!$E$23,IF(AND('Tabelle Kaderkriterien'!$H6="w",Übersicht!$C2=11,K2>'Perzentile Weiblich'!V$8),100,IF(AND('Tabelle Kaderkriterien'!$H6="w",Übersicht!$C2=11),('Perzentile Weiblich'!$B$24*K2^3)+('Perzentile Weiblich'!$C$24*K2^2)+('Perzentile Weiblich'!$D$24*K2)+'Perzentile Weiblich'!$E$24,IF(AND('Tabelle Kaderkriterien'!I6<>"m",'Tabelle Kaderkriterien'!I6<>"!w"),#N/A,#N/A))))))))))))))))))))))))) -> #N/A | S2: =M2*0.25+N2*0.25+O2*0.19+P2*0.14+Q2*0.17 -> #DIV/0! | T2: =M2*0.25+N2*0.25+O2*0.19+P2*0.14+Q2*0.17 -> #DIV/0! | V2: 50 | W2: =[1]Datenblatt!$I$10 -> 50 | X2: =[1]Datenblatt!$I$18 -> 50 | Y2: =[1]Datenblatt!$I$26 -> 50 | Z2: =[1]Datenblatt!$I$354 -> 0 | AA2: =IF(S2>Z2,"JA","NEIN") -> #DIV/0! | AC2: =[1]Datenblatt!$I$37 -> 70 | AD2: =[1]Datenblatt!$I$13 -> 70 | AE2: =[1]Datenblatt!$I$21 -> 70 | AF2: =[1]Datenblatt!$I$29 -> 70 | AG2: =[1]Datenblatt!$I$357 -> 0 | AH2: =IF(T2>AG2,"JA","NEIN") -> #DIV/0!
A3: ='Tabelle Kaderkriterien'!B7 -> 0 | B3: ='Tabelle Kaderkriterien'!C7 -> 0 | C3: ='Tabelle Kaderkriterien'!G7 -> 0 | D3: ='Tabelle Kaderkriterien'!K7 -> 0 | E3: ='Tabelle Kaderkriterien'!L7 -> 0 | F3: ='Tabelle Kaderkriterien'!N7 -> 0 | G3: ='Tabelle Kaderkriterien'!O7 -> 0 | H3: ='Tabelle Kaderkriterien'!Q7 -> 0 | I3: ='Tabelle Kaderkriterien'!R7 -> 0 | J3: ='Tabelle Kaderkriterien'!T7 -> 0 | K3: ='Tabelle Kaderkriterien'!V7 -> 0 | M3: =IF(AND('Tabelle Kaderkriterien'!$H7="m",Übersicht!$C3=13,'Perzentile Männlich'!M3>'Perzentile Männlich'!R$3),100,IF(AND('Tabelle Kaderkriterien'!$H7="m",Übersicht!$C3=13),('Perzentile Männlich'!$B$35*'Perzentile Männlich'!M3^3)+('Perzentile Männlich'!$C$35*'Perzentile Männlich'!M3^2)+('Perzentile Männlich'!$D$35*'Perzentile Männlich'!M3)+'Perzentile Männlich'!$E$35,IF(AND('Tabelle Kaderkriterien'!$H7="m",Übersicht!$C3=14,'Perzentile Männlich'!M3>'Perzentile Männlich'!R$4),100,IF(AND('Tabelle Kaderkriterien'!$H7="m",Übersicht!$C3=14),('Perzentile Männlich'!$B$36*'Perzentile Männlich'!M3^3)+('Perzentile Männlich'!$C$36*'Perzentile Männlich'!M3^2)+('Perzentile Männlich'!$D$36*'Perzentile Männlich'!M3)+'Perzentile Männlich'!$E$36,IF(AND('Tabelle Kaderkriterien'!$H7="m",Übersicht!$C3=15,'Perzentile Männlich'!M3>'Perzentile Männlich'!R$5),100,IF(AND('Tabelle Kaderkriterien'!$H7="m",Übersicht!$C3=15),('Perzentile Männlich'!$B$37*'Perzentile Männlich'!M3^3)+('Perzentile Männlich'!$C$37*'Perzentile Männlich'!M3^2)+('Perzentile Männlich'!$D$37*'Perzentile Männlich'!M3)+'Perzentile Männlich'!$E$37,IF(AND('Tabelle Kaderkriterien'!$H7="m",Übersicht!$C3=16,'Perzentile Männlich'!M3>'Perzentile Männlich'!R$6),100,IF(AND('Tabelle Kaderkriterien'!$H7="m",Übersicht!$C3=16),('Perzentile Männlich'!$B$38*'Perzentile Männlich'!M3^3)+('Perzentile Männlich'!$C$38*'Perzentile Männlich'!M3^2)+('Perzentile Männlich'!$D$38*'Perzentile Männlich'!M3)+'Perzentile Männlich'!$E$38,IF(AND('Tabelle Kaderkriterien'!$H7="m",Übersicht!$C3=12,'Perzentile Männlich'!M3>'Perzentile Männlich'!R$7),100,IF(AND('Tabelle Kaderkriterien'!$H7="m",Übersicht!$C3=12),('Perzentile Männlich'!$B$39*'Perzentile Männlich'!M3^3)+('Perzentile Männlich'!$C$39*'Perzentile Männlich'!M3^2)+('Perzentile Männlich'!$D$39*'Perzentile Männlich'!M3)+'Perzentile Männlich'!$E$39,IF(AND('Tabelle Kaderkriterien'!$H7="m",Übersicht!$C3=11,'Perzentile Männlich'!M3>'Perzentile Männlich'!R$8),100,IF(AND('Tabelle Kaderkriterien'!$H7="m",Übersicht!$C3=11),('Perzentile Männlich'!$B$40*'Perzentile Männlich'!M3^3)+('Perzentile Männlich'!$C$40*'Perzentile Männlich'!M3^2)+('Perzentile Männlich'!$D$40*'Perzentile Männlich'!M3)+'Perzentile Männlich'!$E$40,IF(AND('Tabelle Kaderkriterien'!$H7="w",Übersicht!$C3=13,'Perzentile Weiblich'!M3>'Perzentile Weiblich'!R$3),100,IF(AND('Tabelle Kaderkriterien'!$H7="w",Übersicht!$C3=13),('Perzentile Weiblich'!$B$35*'Perzentile Weiblich'!M3^3)+('Perzentile Weiblich'!$C$35*'Perzentile Weiblich'!M3^2)+('Perzentile Weiblich'!$D$35*'Perzentile Weiblich'!M3)+'Perzentile Weiblich'!$E$35,IF(AND('Tabelle Kaderkriterien'!$H7="w",Übersicht!$C3=14,'Perzentile Weiblich'!M3>'Perzentile Weiblich'!R$4),100,IF(AND('Tabelle Kaderkriterien'!$H7="w",Übersicht!$C3=14),('Perzentile Weiblich'!$B$36*'Perzentile Weiblich'!M3^3)+('Perzentile Weiblich'!$C$36*'Perzentile Weiblich'!M3^2)+('Perzentile Weiblich'!$D$36*'Perzentile Weiblich'!M3)+'Perzentile Weiblich'!$E$36,IF(AND('Tabelle Kaderkriterien'!$H7="w",Übersicht!$C3=15,'Perzentile Weiblich'!M3>'Perzentile Weiblich'!R$5),100,IF(AND('Tabelle Kaderkriterien'!$H7="w",Übersicht!$C3=15),('Perzentile Weiblich'!$B$37*'Perzentile Weiblich'!M3^3)+('Perzentile Weiblich'!$C$37*'Perzentile Weiblich'!M3^2)+('Perzentile Weiblich'!$D$37*'Perzentile Weiblich'!M3)+'Perzentile Weiblich'!$E$37,IF(AND('Tabelle Kaderkriterien'!$H7="w",Übersicht!$C3=16,'Perzentile Weiblich'!M3>'Perzentile Weiblich'!R$6),100,IF(AND('Tabelle Kaderkriterien'!$H7="w",Übersicht!$C3=16),('Perzentile Weiblich'!$B$38*'Perzentile Weiblich'!M3^3)+('Perzentile Weiblich'!$C$38*'Perzentile Weiblich'!M3^2)+('Perzentile Weiblich'!$D$38*'Perzentile Weiblich'!M3)+'Perzentile Weiblich'!$E$38,IF(AND('Tabelle Kaderkriterien'!$H7="w",Übersicht!$C3=12,'Perzentile Weiblich'!M3>'Perzentile Weiblich'!R$7),100,IF(AND('Tabelle Kaderkriterien'!$H7="w",Übersicht!$C3=12),('Perzentile Weiblich'!$B$39*'Perzentile Weiblich'!M3^3)+('Perzentile Weiblich'!$C$39*'Perzentile Weiblich'!M3^2)+('Perzentile Weiblich'!$D$39*'Perzentile Weiblich'!M3)+'Perzentile Weiblich'!$E$39,IF(AND('Tabelle Kaderkriterien'!$H7="w",Übersicht!$C3=11,'Perzentile Weiblich'!M3>'Perzentile Weiblich'!R$8),100,IF(AND('Tabelle Kaderkriterien'!$H7="w",Übersicht!$C3=11),('Perzentile Weiblich'!$B$40*'Perzentile Weiblich'!M3^3)+('Perzentile Weiblich'!$C$40*'Perzentile Weiblich'!M3^2)+('Perzentile Weiblich'!$D$40*'Perzentile Weiblich'!M3)+'Perzentile Weiblich'!$E$40,IF(AND('Tabelle Kaderkriterien'!H7<>"m",'Tabelle Kaderkriterien'!H7<>"!w"),#N/A,#N/A))))))))))))))))))))))))) -> #DIV/0! | N3: =IF(AND('Tabelle Kaderkriterien'!$H7="m",Übersicht!$C3=13,'Perzentile Männlich'!N3>'Perzentile Männlich'!S$3),100,IF(AND('Tabelle Kaderkriterien'!$H7="m",Übersicht!$C3=13),('Perzentile Männlich'!$B$43*'Perzentile Männlich'!N3^3)+('Perzentile Männlich'!$C$43*'Perzentile Männlich'!N3^2)+('Perzentile Männlich'!$D$43*'Perzentile Männlich'!N3)+'Perzentile Männlich'!$E$43,IF(AND('Tabelle Kaderkriterien'!$H7="m",Übersicht!$C3=14,'Perzentile Männlich'!N3>'Perzentile Männlich'!S$4),100,IF(AND('Tabelle Kaderkriterien'!$H7="m",Übersicht!$C3=14),('Perzentile Männlich'!$B$44*'Perzentile Männlich'!N3^3)+('Perzentile Männlich'!$C$44*'Perzentile Männlich'!N3^2)+('Perzentile Männlich'!$D$44*'Perzentile Männlich'!N3)+'Perzentile Männlich'!$E$44,IF(AND('Tabelle Kaderkriterien'!$H7="m",Übersicht!$C3=15,'Perzentile Männlich'!N3>'Perzentile Männlich'!S$5),100,IF(AND('Tabelle Kaderkriterien'!$H7="m",Übersicht!$C3=15),('Perzentile Männlich'!$B$45*'Perzentile Männlich'!N3^3)+('Perzentile Männlich'!$C$45*'Perzentile Männlich'!N3^2)+('Perzentile Männlich'!$D$45*'Perzentile Männlich'!N3)+'Perzentile Männlich'!$E$45,IF(AND('Tabelle Kaderkriterien'!$H7="m",Übersicht!$C3=16,'Perzentile Männlich'!N3>'Perzentile Männlich'!S$6),100,IF(AND('Tabelle Kaderkriterien'!$H7="m",Übersicht!$C3=16),('Perzentile Männlich'!$B$46*'Perzentile Männlich'!N3^3)+('Perzentile Männlich'!$C$46*'Perzentile Männlich'!N3^2)+('Perzentile Männlich'!$D$46*'Perzentile Männlich'!N3)+'Perzentile Männlich'!$E$46,IF(AND('Tabelle Kaderkriterien'!$H7="m",Übersicht!$C3=12,'Perzentile Männlich'!N3>'Perzentile Männlich'!S$7),100,IF(AND('Tabelle Kaderkriterien'!$H7="m",Übersicht!$C3=12),('Perzentile Männlich'!$B$47*'Perzentile Männlich'!N3^3)+('Perzentile Männlich'!$C$47*'Perzentile Männlich'!N3^2)+('Perzentile Männlich'!$D$47*'Perzentile Männlich'!N3)+'Perzentile Männlich'!$E$47,IF(AND('Tabelle Kaderkriterien'!$H7="m",Übersicht!$C3=11,'Perzentile Männlich'!N3>'Perzentile Männlich'!S$8),100,IF(AND('Tabelle Kaderkriterien'!$H7="m",Übersicht!$C3=11),('Perzentile Männlich'!$B$48*'Perzentile Männlich'!N3^3)+('Perzentile Männlich'!$C$48*'Perzentile Männlich'!N3^2)+('Perzentile Männlich'!$D$48*'Perzentile Männlich'!N3)+'Perzentile Männlich'!$E$48,IF(AND('Tabelle Kaderkriterien'!$H7="w",Übersicht!$C3=13,'Perzentile Weiblich'!N3>'Perzentile Weiblich'!S$3),100,IF(AND('Tabelle Kaderkriterien'!$H7="w",Übersicht!$C3=13),('Perzentile Weiblich'!$B$43*'Perzentile Weiblich'!N3^3)+('Perzentile Weiblich'!$C$43*'Perzentile Weiblich'!N3^2)+('Perzentile Weiblich'!$D$43*'Perzentile Weiblich'!N3)+'Perzentile Weiblich'!$E$43,IF(AND('Tabelle Kaderkriterien'!$H7="w",Übersicht!$C3=14,'Perzentile Weiblich'!N3>'Perzentile Weiblich'!S$4),100,IF(AND('Tabelle Kaderkriterien'!$H7="w",Übersicht!$C3=14),('Perzentile Weiblich'!$B$44*'Perzentile Weiblich'!N3^3)+('Perzentile Weiblich'!$C$44*'Perzentile Weiblich'!N3^2)+('Perzentile Weiblich'!$D$44*'Perzentile Weiblich'!N3)+'Perzentile Weiblich'!$E$44,IF(AND('Tabelle Kaderkriterien'!$H7="w",Übersicht!$C3=15,'Perzentile Weiblich'!N3>'Perzentile Weiblich'!S$5),100,IF(AND('Tabelle Kaderkriterien'!$H7="w",Übersicht!$C3=15),('Perzentile Weiblich'!$B$45*'Perzentile Weiblich'!N3^3)+('Perzentile Weiblich'!$C$45*'Perzentile Weiblich'!N3^2)+('Perzentile Weiblich'!$D$45*'Perzentile Weiblich'!N3)+'Perzentile Weiblich'!$E$45,IF(AND('Tabelle Kaderkriterien'!$H7="w",Übersicht!$C3=16,'Perzentile Weiblich'!N3>'Perzentile Weiblich'!S$6),100,IF(AND('Tabelle Kaderkriterien'!$H7="w",Übersicht!$C3=16),('Perzentile Weiblich'!$B$46*'Perzentile Weiblich'!N3^3)+('Perzentile Weiblich'!$C$46*'Perzentile Weiblich'!N3^2)+('Perzentile Weiblich'!$D$46*'Perzentile Weiblich'!N3)+'Perzentile Weiblich'!$E$46,IF(AND('Tabelle Kaderkriterien'!$H7="w",Übersicht!$C3=12,'Perzentile Weiblich'!N3>'Perzentile Weiblich'!S$7),100,IF(AND('Tabelle Kaderkriterien'!$H7="w",Übersicht!$C3=12),('Perzentile Weiblich'!$B$47*'Perzentile Weiblich'!N3^3)+('Perzentile Weiblich'!$C$47*'Perzentile Weiblich'!N3^2)+('Perzentile Weiblich'!$D$47*'Perzentile Weiblich'!N3)+'Perzentile Weiblich'!$E$47,IF(AND('Tabelle Kaderkriterien'!$H7="w",Übersicht!$C3=11,'Perzentile Weiblich'!N3>'Perzentile Weiblich'!S$8),100,IF(AND('Tabelle Kaderkriterien'!$H7="w",Übersicht!$C3=11),('Perzentile Weiblich'!$B$48*'Perzentile Weiblich'!N3^3)+('Perzentile Weiblich'!$C$48*'Perzentile Weiblich'!N3^2)+('Perzentile Weiblich'!$D$48*'Perzentile Weiblich'!N3)+'Perzentile Weiblich'!$E$48,IF(AND('Tabelle Kaderkriterien'!I7<>"m",'Tabelle Kaderkriterien'!I7<>"!w"),#N/A,#N/A))))))))))))))))))))))))) -> #DIV/0! | O3: =IF(AND('Tabelle Kaderkriterien'!$H7="m",Übersicht!$C3=13,'Perzentile Männlich'!O3>'Perzentile Männlich'!T$3),100,IF(AND('Tabelle Kaderkriterien'!$H7="m",Übersicht!$C3=13),('Perzentile Männlich'!$B$11*'Perzentile Männlich'!O3^3)+('Perzentile Männlich'!$C$11*'Perzentile Männlich'!O3^2)+('Perzentile Männlich'!$D$11*'Perzentile Männlich'!O3)+'Perzentile Männlich'!$E$11,IF(AND('Tabelle Kaderkriterien'!$H7="m",Übersicht!$C3=14,'Perzentile Männlich'!O3>'Perzentile Männlich'!T$4),100,IF(AND('Tabelle Kaderkriterien'!$H7="m",Übersicht!$C3=14),('Perzentile Männlich'!$B$12*'Perzentile Männlich'!O3^3)+('Perzentile Männlich'!$C$12*'Perzentile Männlich'!O3^2)+('Perzentile Männlich'!$D$12*'Perzentile Männlich'!O3)+'Perzentile Männlich'!$E$12,IF(AND('Tabelle Kaderkriterien'!$H7="m",Übersicht!$C3=15,'Perzentile Männlich'!O3>'Perzentile Männlich'!T$5),100,IF(AND('Tabelle Kaderkriterien'!$H7="m",Übersicht!$C3=15),('Perzentile Männlich'!$B$13*'Perzentile Männlich'!O3^3)+('Perzentile Männlich'!$C$13*'Perzentile Männlich'!O3^2)+('Perzentile Männlich'!$D$13*'Perzentile Männlich'!O3)+'Perzentile Männlich'!$E$13,IF(AND('Tabelle Kaderkriterien'!$H7="m",Übersicht!$C3=16,'Perzentile Männlich'!O3>'Perzentile Männlich'!T$6),100,IF(AND('Tabelle Kaderkriterien'!$H7="m",Übersicht!$C3=16),('Perzentile Männlich'!$B$14*'Perzentile Männlich'!O3^3)+('Perzentile Männlich'!$C$14*'Perzentile Männlich'!O3^2)+('Perzentile Männlich'!$D$14*'Perzentile Männlich'!O3)+'Perzentile Männlich'!$E$14,IF(AND('Tabelle Kaderkriterien'!$H7="m",Übersicht!$C3=12,'Perzentile Männlich'!O3>'Perzentile Männlich'!T$7),100,IF(AND('Tabelle Kaderkriterien'!$H7="m",Übersicht!$C3=12),('Perzentile Männlich'!$B$15*'Perzentile Männlich'!O3^3)+('Perzentile Männlich'!$C$15*'Perzentile Männlich'!O3^2)+('Perzentile Männlich'!$D$15*'Perzentile Männlich'!O3)+'Perzentile Männlich'!$E$15,IF(AND('Tabelle Kaderkriterien'!$H7="m",Übersicht!$C3=11,'Perzentile Männlich'!O3>'Perzentile Männlich'!T$8),100,IF(AND('Tabelle Kaderkriterien'!$H7="m",Übersicht!$C3=11),('Perzentile Männlich'!$B$16*'Perzentile Männlich'!O3^3)+('Perzentile Männlich'!$C$16*'Perzentile Männlich'!O3^2)+('Perzentile Männlich'!$D$16*'Perzentile Männlich'!O3)+'Perzentile Männlich'!$E$16,IF(AND('Tabelle Kaderkriterien'!$H7="w",Übersicht!$C3=13,'Perzentile Weiblich'!O3>'Perzentile Weiblich'!T$3),100,IF(AND('Tabelle Kaderkriterien'!$H7="w",Übersicht!$C3=13),('Perzentile Weiblich'!$B$11*'Perzentile Weiblich'!O3^3)+('Perzentile Weiblich'!$C$11*'Perzentile Weiblich'!O3^2)+('Perzentile Weiblich'!$D$11*'Perzentile Weiblich'!O3)+'Perzentile Weiblich'!$E$11,IF(AND('Tabelle Kaderkriterien'!$H7="w",Übersicht!$C3=14,'Perzentile Weiblich'!O3>'Perzentile Weiblich'!T$4),100,IF(AND('Tabelle Kaderkriterien'!$H7="w",Übersicht!$C3=14),('Perzentile Weiblich'!$B$12*'Perzentile Weiblich'!O3^3)+('Perzentile Weiblich'!$C$12*'Perzentile Weiblich'!O3^2)+('Perzentile Weiblich'!$D$12*'Perzentile Weiblich'!O3)+'Perzentile Weiblich'!$E$12,IF(AND('Tabelle Kaderkriterien'!$H7="w",Übersicht!$C3=15,'Perzentile Weiblich'!O3>'Perzentile Weiblich'!T$5),100,IF(AND('Tabelle Kaderkriterien'!$H7="w",Übersicht!$C3=15),('Perzentile Weiblich'!$B$13*'Perzentile Weiblich'!O3^3)+('Perzentile Weiblich'!$C$13*'Perzentile Weiblich'!O3^2)+('Perzentile Weiblich'!$D$13*'Perzentile Weiblich'!O3)+'Perzentile Weiblich'!$E$13,IF(AND('Tabelle Kaderkriterien'!$H7="w",Übersicht!$C3=16,'Perzentile Weiblich'!O3>'Perzentile Weiblich'!T$6),100,IF(AND('Tabelle Kaderkriterien'!$H7="w",Übersicht!$C3=16),('Perzentile Weiblich'!$B$14*'Perzentile Weiblich'!O3^3)+('Perzentile Weiblich'!$C$14*'Perzentile Weiblich'!O3^2)+('Perzentile Weiblich'!$D$14*'Perzentile Weiblich'!O3)+'Perzentile Weiblich'!$E$14,IF(AND('Tabelle Kaderkriterien'!$H7="w",Übersicht!$C3=12,'Perzentile Weiblich'!O3>'Perzentile Weiblich'!T$7),100,IF(AND('Tabelle Kaderkriterien'!$H7="w",Übersicht!$C3=12),('Perzentile Weiblich'!$B$15*'Perzentile Weiblich'!O3^3)+('Perzentile Weiblich'!$C$15*'Perzentile Weiblich'!O3^2)+('Perzentile Weiblich'!$D$15*'Perzentile Weiblich'!O3)+'Perzentile Weiblich'!$E$15,IF(AND('Tabelle Kaderkriterien'!$H7="w",Übersicht!$C3=11,'Perzentile Weiblich'!O3>'Perzentile Weiblich'!T$8),100,IF(AND('Tabelle Kaderkriterien'!$H7="w",Übersicht!$C3=11),('Perzentile Weiblich'!$B$16*'Perzentile Weiblich'!O3^3)+('Perzentile Weiblich'!$C$16*'Perzentile Weiblich'!O3^2)+('Perzentile Weiblich'!$D$16*'Perzentile Weiblich'!O3)+'Perzentile Weiblich'!$E$16,IF(AND('Tabelle Kaderkriterien'!J7<>"m",'Tabelle Kaderkriterien'!J7<>"!w"),#N/A,#N/A))))))))))))))))))))))))) -> #DIV/0! | P3: =IF(AND('Tabelle Kaderkriterien'!$H7="m",Übersicht!$C3=13,J3<'Perzentile Männlich'!U$3),100,IF(AND('Tabelle Kaderkriterien'!$H7="m",Übersicht!$C3=13),('Perzentile Männlich'!$B$27*J3^3)+('Perzentile Männlich'!$C$27*J3^2)+('Perzentile Männlich'!$D$27*J3)+'Perzentile Männlich'!$E$27,IF(AND('Tabelle Kaderkriterien'!$H7="m",Übersicht!$C3=14,J3<'Perzentile Männlich'!U$4),100,IF(AND('Tabelle Kaderkriterien'!$H7="m",Übersicht!$C3=14),('Perzentile Männlich'!$B$28*J3^3)+('Perzentile Männlich'!$C$28*J3^2)+('Perzentile Männlich'!$D$28*J3)+'Perzentile Männlich'!$E$28,IF(AND('Tabelle Kaderkriterien'!$H7="m",Übersicht!$C3=15,J3<'Perzentile Männlich'!U$5),100,IF(AND('Tabelle Kaderkriterien'!$H7="m",Übersicht!$C3=15),('Perzentile Männlich'!$B$29*J3^3)+('Perzentile Männlich'!$C$29*J3^2)+('Perzentile Männlich'!$D$29*J3)+'Perzentile Männlich'!$E$29,IF(AND('Tabelle Kaderkriterien'!$H7="m",Übersicht!$C3=16,J3<'Perzentile Männlich'!U$6),100,IF(AND('Tabelle Kaderkriterien'!$H7="m",Übersicht!$C3=16),('Perzentile Männlich'!$B$30*J3^3)+('Perzentile Männlich'!$C$30*J3^2)+('Perzentile Männlich'!$D$30*J3)+'Perzentile Männlich'!$E$30,IF(AND('Tabelle Kaderkriterien'!$H7="m",Übersicht!$C3=12,J3<'Perzentile Männlich'!U$7),100,IF(AND('Tabelle Kaderkriterien'!$H7="m",Übersicht!$C3=12),('Perzentile Männlich'!$B$31*J3^3)+('Perzentile Männlich'!$C$31*J3^2)+('Perzentile Männlich'!$D$31*J3)+'Perzentile Männlich'!$E$31,IF(AND('Tabelle Kaderkriterien'!$H7="m",Übersicht!$C3=11,J3<'Perzentile Männlich'!U$8),100,IF(AND('Tabelle Kaderkriterien'!$H7="m",Übersicht!$C3=11),('Perzentile Männlich'!$B$32*J3^3)+('Perzentile Männlich'!$C$32*J3^2)+('Perzentile Männlich'!$D$32*J3)+'Perzentile Männlich'!$E$32,IF(AND('Tabelle Kaderkriterien'!$H7="w",Übersicht!$C3=13,J3<'Perzentile Weiblich'!U$3),100,IF(AND('Tabelle Kaderkriterien'!$H7="w",Übersicht!$C3=13),('Perzentile Weiblich'!$B$27*J3^3)+('Perzentile Weiblich'!$C$27*J3^2)+('Perzentile Weiblich'!$D$27*J3)+'Perzentile Weiblich'!$E$27,IF(AND('Tabelle Kaderkriterien'!$H7="w",Übersicht!$C3=14,J3<'Perzentile Weiblich'!U$4),100,IF(AND('Tabelle Kaderkriterien'!$H7="w",Übersicht!$C3=14),('Perzentile Weiblich'!$B$28*J3^3)+('Perzentile Weiblich'!$C$28*J3^2)+('Perzentile Weiblich'!$D$28*J3)+'Perzentile Weiblich'!$E$28,IF(AND('Tabelle Kaderkriterien'!$H7="w",Übersicht!$C3=15,J3<'Perzentile Weiblich'!U$5),100,IF(AND('Tabelle Kaderkriterien'!$H7="w",Übersicht!$C3=15),('Perzentile Weiblich'!$B$29*J3^3)+('Perzentile Weiblich'!$C$29*J3^2)+('Perzentile Weiblich'!$D$29*J3)+'Perzentile Weiblich'!$E$29,IF(AND('Tabelle Kaderkriterien'!$H7="w",Übersicht!$C3=16,J3<'Perzentile Weiblich'!U$6),100,IF(AND('Tabelle Kaderkriterien'!$H7="w",Übersicht!$C3=16),('Perzentile Weiblich'!$B$30*J3^3)+('Perzentile Weiblich'!$C$30*J3^2)+('Perzentile Weiblich'!$D$30*J3)+'Perzentile Weiblich'!$E$30,IF(AND('Tabelle Kaderkriterien'!$H7="w",Übersicht!$C3=12,J3<'Perzentile Weiblich'!U$7),100,IF(AND('Tabelle Kaderkriterien'!$H7="w",Übersicht!$C3=12),('Perzentile Weiblich'!$B$31*J3^3)+('Perzentile Weiblich'!$C$31*J3^2)+('Perzentile Weiblich'!$D$31*J3)+'Perzentile Weiblich'!$E$31,IF(AND('Tabelle Kaderkriterien'!$H7="w",Übersicht!$C3=11,J3<'Perzentile Weiblich'!U$8),100,IF(AND('Tabelle Kaderkriterien'!$H7="w",Übersicht!$C3=11),('Perzentile Weiblich'!$B$32*J3^3)+('Perzentile Weiblich'!$C$32*J3^2)+('Perzentile Weiblich'!$D$32*J3)+'Perzentile Weiblich'!$E$32,IF(AND('Tabelle Kaderkriterien'!H7<>"m",'Tabelle Kaderkriterien'!H7<>"!w"),#N/A,#N/A))))))))))))))))))))))))) -> #N/A | Q3: =IF(AND('Tabelle Kaderkriterien'!$H7="m",Übersicht!$C3=13,K3>'Perzentile Männlich'!V$3),100,IF(AND('Tabelle Kaderkriterien'!$H7="m",Übersicht!$C3=13),('Perzentile Männlich'!$B$19*K3^3)+('Perzentile Männlich'!$C$19*K3^2)+('Perzentile Männlich'!$D$19*K3)+'Perzentile Männlich'!$E$19,IF(AND('Tabelle Kaderkriterien'!$H7="m",Übersicht!$C3=14,K3>'Perzentile Männlich'!V$4),100,IF(AND('Tabelle Kaderkriterien'!$H7="m",Übersicht!$C3=14),('Perzentile Männlich'!$B$20*K3^3)+('Perzentile Männlich'!$C$20*K3^2)+('Perzentile Männlich'!$D$20*K3)+'Perzentile Männlich'!$E$20,IF(AND('Tabelle Kaderkriterien'!$H7="m",Übersicht!$C3=15,K3>'Perzentile Männlich'!V$5),100,IF(AND('Tabelle Kaderkriterien'!$H7="m",Übersicht!$C3=15),('Perzentile Männlich'!$B$21*K3^3)+('Perzentile Männlich'!$C$21*K3^2)+('Perzentile Männlich'!$D$21*K3)+'Perzentile Männlich'!$E$21,IF(AND('Tabelle Kaderkriterien'!$H7="m",Übersicht!$C3=16,K3>'Perzentile Männlich'!V$6),100,IF(AND('Tabelle Kaderkriterien'!$H7="m",Übersicht!$C3=16),('Perzentile Männlich'!$B$22*K3^3)+('Perzentile Männlich'!$C$22*K3^2)+('Perzentile Männlich'!$D$22*K3)+'Perzentile Männlich'!$E$22,IF(AND('Tabelle Kaderkriterien'!$H7="m",Übersicht!$C3=12,K3>'Perzentile Männlich'!V$7),100,IF(AND('Tabelle Kaderkriterien'!$H7="m",Übersicht!$C3=12),('Perzentile Männlich'!$B$23*K3^3)+('Perzentile Männlich'!$C$23*K3^2)+('Perzentile Männlich'!$D$23*K3)+'Perzentile Männlich'!$E$23,IF(AND('Tabelle Kaderkriterien'!$H7="m",Übersicht!$C3=11,K3>'Perzentile Männlich'!V$8),100,IF(AND('Tabelle Kaderkriterien'!$H7="m",Übersicht!$C3=11),('Perzentile Männlich'!$B$24*K3^3)+('Perzentile Männlich'!$C$24*K3^2)+('Perzentile Männlich'!$D$24*K3)+'Perzentile Männlich'!$E$24,IF(AND('Tabelle Kaderkriterien'!$H7="w",Übersicht!$C3=13,K3>'Perzentile Weiblich'!V$3),100,IF(AND('Tabelle Kaderkriterien'!$H7="w",Übersicht!$C3=13),('Perzentile Weiblich'!$B$19*K3^3)+('Perzentile Weiblich'!$C$19*K3^2)+('Perzentile Weiblich'!$D$19*K3)+'Perzentile Weiblich'!$E$19,IF(AND('Tabelle Kaderkriterien'!$H7="w",Übersicht!$C3=14,K3>'Perzentile Weiblich'!V$4),100,IF(AND('Tabelle Kaderkriterien'!$H7="w",Übersicht!$C3=14),('Perzentile Weiblich'!$B$20*K3^3)+('Perzentile Weiblich'!$C$20*K3^2)+('Perzentile Weiblich'!$D$20*K3)+'Perzentile Weiblich'!$E$20,IF(AND('Tabelle Kaderkriterien'!$H7="w",Übersicht!$C3=15,K3>'Perzentile Weiblich'!V$5),100,IF(AND('Tabelle Kaderkriterien'!$H7="w",Übersicht!$C3=15),('Perzentile Weiblich'!$B$21*K3^3)+('Perzentile Weiblich'!$C$21*K3^2)+('Perzentile Weiblich'!$D$21*K3)+'Perzentile Weiblich'!$E$21,IF(AND('Tabelle Kaderkriterien'!$H7="w",Übersicht!$C3=16,K3>'Perzentile Weiblich'!V$6),100,IF(AND('Tabelle Kaderkriterien'!$H7="w",Übersicht!$C3=16),('Perzentile Weiblich'!$B$22*K3^3)+('Perzentile Weiblich'!$C$22*K3^2)+('Perzentile Weiblich'!$D$22*K3)+'Perzentile Weiblich'!$E$22,IF(AND('Tabelle Kaderkriterien'!$H7="w",Übersicht!$C3=12,K3>'Perzentile Weiblich'!V$7),100,IF(AND('Tabelle Kaderkriterien'!$H7="w",Übersicht!$C3=12),('Perzentile Weiblich'!$B$23*K3^3)+('Perzentile Weiblich'!$C$23*K3^2)+('Perzentile Weiblich'!$D$23*K3)+'Perzentile Weiblich'!$E$23,IF(AND('Tabelle Kaderkriterien'!$H7="w",Übersicht!$C3=11,K3>'Perzentile Weiblich'!V$8),100,IF(AND('Tabelle Kaderkriterien'!$H7="w",Übersicht!$C3=11),('Perzentile Weiblich'!$B$24*K3^3)+('Perzentile Weiblich'!$C$24*K3^2)+('Perzentile Weiblich'!$D$24*K3)+'Perzentile Weiblich'!$E$24,IF(AND('Tabelle Kaderkriterien'!I7<>"m",'Tabelle Kaderkriterien'!I7<>"!w"),#N/A,#N/A))))))))))))))))))))))))) -> #N/A | S3: =M3*0.25+N3*0.25+O3*0.19+P3*0.14+Q3*0.17 -> #DIV/0! | T3: =M3*0.25+N3*0.25+O3*0.19+P3*0.14+Q3*0.17 -> #DIV/0!
A4: ='Tabelle Kaderkriterien'!B8 -> 0 | B4: ='Tabelle Kaderkriterien'!C8 -> 0 | C4: ='Tabelle Kaderkriterien'!G8 -> 0 | D4: ='Tabelle Kaderkriterien'!K8 -> 0 | E4: ='Tabelle Kaderkriterien'!L8 -> 0 | F4: ='Tabelle Kaderkriterien'!N8 -> 0 | G4: ='Tabelle Kaderkriterien'!O8 -> 0 | H4: ='Tabelle Kaderkriterien'!Q8 -> 0 | I4: ='Tabelle Kaderkriterien'!R8 -> 0 | J4: ='Tabelle Kaderkriterien'!T8 -> 0 | K4: ='Tabelle Kaderkriterien'!V8 -> 0 | M4: =IF(AND('Tabelle Kaderkriterien'!$H8="m",Übersicht!$C4=13,'Perzentile Männlich'!M4>'Perzentile Männlich'!R$3),100,IF(AND('Tabelle Kaderkriterien'!$H8="m",Übersicht!$C4=13),('Perzentile Männlich'!$B$35*'Perzentile Männlich'!M4^3)+('Perzentile Männlich'!$C$35*'Perzentile Männlich'!M4^2)+('Perzentile Männlich'!$D$35*'Perzentile Männlich'!M4)+'Perzentile Männlich'!$E$35,IF(AND('Tabelle Kaderkriterien'!$H8="m",Übersicht!$C4=14,'Perzentile Männlich'!M4>'Perzentile Männlich'!R$4),100,IF(AND('Tabelle Kaderkriterien'!$H8="m",Übersicht!$C4=14),('Perzentile Männlich'!$B$36*'Perzentile Männlich'!M4^3)+('Perzentile Männlich'!$C$36*'Perzentile Männlich'!M4^2)+('Perzentile Männlich'!$D$36*'Perzentile Männlich'!M4)+'Perzentile Männlich'!$E$36,IF(AND('Tabelle Kaderkriterien'!$H8="m",Übersicht!$C4=15,'Perzentile Männlich'!M4>'Perzentile Männlich'!R$5),100,IF(AND('Tabelle Kaderkriterien'!$H8="m",Übersicht!$C4=15),('Perzentile Männlich'!$B$37*'Perzentile Männlich'!M4^3)+('Perzentile Männlich'!$C$37*'Perzentile Männlich'!M4^2)+('Perzentile Männlich'!$D$37*'Perzentile Männlich'!M4)+'Perzentile Männlich'!$E$37,IF(AND('Tabelle Kaderkriterien'!$H8="m",Übersicht!$C4=16,'Perzentile Männlich'!M4>'Perzentile Männlich'!R$6),100,IF(AND('Tabelle Kaderkriterien'!$H8="m",Übersicht!$C4=16),('Perzentile Männlich'!$B$38*'Perzentile Männlich'!M4^3)+('Perzentile Männlich'!$C$38*'Perzentile Männlich'!M4^2)+('Perzentile Männlich'!$D$38*'Perzentile Männlich'!M4)+'Perzentile Männlich'!$E$38,IF(AND('Tabelle Kaderkriterien'!$H8="m",Übersicht!$C4=12,'Perzentile Männlich'!M4>'Perzentile Männlich'!R$7),100,IF(AND('Tabelle Kaderkriterien'!$H8="m",Übersicht!$C4=12),('Perzentile Männlich'!$B$39*'Perzentile Männlich'!M4^3)+('Perzentile Männlich'!$C$39*'Perzentile Männlich'!M4^2)+('Perzentile Männlich'!$D$39*'Perzentile Männlich'!M4)+'Perzentile Männlich'!$E$39,IF(AND('Tabelle Kaderkriterien'!$H8="m",Übersicht!$C4=11,'Perzentile Männlich'!M4>'Perzentile Männlich'!R$8),100,IF(AND('Tabelle Kaderkriterien'!$H8="m",Übersicht!$C4=11),('Perzentile Männlich'!$B$40*'Perzentile Männlich'!M4^3)+('Perzentile Männlich'!$C$40*'Perzentile Männlich'!M4^2)+('Perzentile Männlich'!$D$40*'Perzentile Männlich'!M4)+'Perzentile Männlich'!$E$40,IF(AND('Tabelle Kaderkriterien'!$H8="w",Übersicht!$C4=13,'Perzentile Weiblich'!M4>'Perzentile Weiblich'!R$3),100,IF(AND('Tabelle Kaderkriterien'!$H8="w",Übersicht!$C4=13),('Perzentile Weiblich'!$B$35*'Perzentile Weiblich'!M4^3)+('Perzentile Weiblich'!$C$35*'Perzentile Weiblich'!M4^2)+('Perzentile Weiblich'!$D$35*'Perzentile Weiblich'!M4)+'Perzentile Weiblich'!$E$35,IF(AND('Tabelle Kaderkriterien'!$H8="w",Übersicht!$C4=14,'Perzentile Weiblich'!M4>'Perzentile Weiblich'!R$4),100,IF(AND('Tabelle Kaderkriterien'!$H8="w",Übersicht!$C4=14),('Perzentile Weiblich'!$B$36*'Perzentile Weiblich'!M4^3)+('Perzentile Weiblich'!$C$36*'Perzentile Weiblich'!M4^2)+('Perzentile Weiblich'!$D$36*'Perzentile Weiblich'!M4)+'Perzentile Weiblich'!$E$36,IF(AND('Tabelle Kaderkriterien'!$H8="w",Übersicht!$C4=15,'Perzentile Weiblich'!M4>'Perzentile Weiblich'!R$5),100,IF(AND('Tabelle Kaderkriterien'!$H8="w",Übersicht!$C4=15),('Perzentile Weiblich'!$B$37*'Perzentile Weiblich'!M4^3)+('Perzentile Weiblich'!$C$37*'Perzentile Weiblich'!M4^2)+('Perzentile Weiblich'!$D$37*'Perzentile Weiblich'!M4)+'Perzentile Weiblich'!$E$37,IF(AND('Tabelle Kaderkriterien'!$H8="w",Übersicht!$C4=16,'Perzentile Weiblich'!M4>'Perzentile Weiblich'!R$6),100,IF(AND('Tabelle Kaderkriterien'!$H8="w",Übersicht!$C4=16),('Perzentile Weiblich'!$B$38*'Perzentile Weiblich'!M4^3)+('Perzentile Weiblich'!$C$38*'Perzentile Weiblich'!M4^2)+('Perzentile Weiblich'!$D$38*'Perzentile Weiblich'!M4)+'Perzentile Weiblich'!$E$38,IF(AND('Tabelle Kaderkriterien'!$H8="w",Übersicht!$C4=12,'Perzentile Weiblich'!M4>'Perzentile Weiblich'!R$7),100,IF(AND('Tabelle Kaderkriterien'!$H8="w",Übersicht!$C4=12),('Perzentile Weiblich'!$B$39*'Perzentile Weiblich'!M4^3)+('Perzentile Weiblich'!$C$39*'Perzentile Weiblich'!M4^2)+('Perzentile Weiblich'!$D$39*'Perzentile Weiblich'!M4)+'Perzentile Weiblich'!$E$39,IF(AND('Tabelle Kaderkriterien'!$H8="w",Übersicht!$C4=11,'Perzentile Weiblich'!M4>'Perzentile Weiblich'!R$8),100,IF(AND('Tabelle Kaderkriterien'!$H8="w",Übersicht!$C4=11),('Perzentile Weiblich'!$B$40*'Perzentile Weiblich'!M4^3)+('Perzentile Weiblich'!$C$40*'Perzentile Weiblich'!M4^2)+('Perzentile Weiblich'!$D$40*'Perzentile Weiblich'!M4)+'Perzentile Weiblich'!$E$40,IF(AND('Tabelle Kaderkriterien'!H8<>"m",'Tabelle Kaderkriterien'!H8<>"!w"),#N/A,#N/A))))))))))))))))))))))))) -> #DIV/0! | N4: =IF(AND('Tabelle Kaderkriterien'!$H8="m",Übersicht!$C4=13,'Perzentile Männlich'!N4>'Perzentile Männlich'!S$3),100,IF(AND('Tabelle Kaderkriterien'!$H8="m",Übersicht!$C4=13),('Perzentile Männlich'!$B$43*'Perzentile Männlich'!N4^3)+('Perzentile Männlich'!$C$43*'Perzentile Männlich'!N4^2)+('Perzentile Männlich'!$D$43*'Perzentile Männlich'!N4)+'Perzentile Männlich'!$E$43,IF(AND('Tabelle Kaderkriterien'!$H8="m",Übersicht!$C4=14,'Perzentile Männlich'!N4>'Perzentile Männlich'!S$4),100,IF(AND('Tabelle Kaderkriterien'!$H8="m",Übersicht!$C4=14),('Perzentile Männlich'!$B$44*'Perzentile Männlich'!N4^3)+('Perzentile Männlich'!$C$44*'Perzentile Männlich'!N4^2)+('Perzentile Männlich'!$D$44*'Perzentile Männlich'!N4)+'Perzentile Männlich'!$E$44,IF(AND('Tabelle Kaderkriterien'!$H8="m",Übersicht!$C4=15,'Perzentile Männlich'!N4>'Perzentile Männlich'!S$5),100,IF(AND('Tabelle Kaderkriterien'!$H8="m",Übersicht!$C4=15),('Perzentile Männlich'!$B$45*'Perzentile Männlich'!N4^3)+('Perzentile Männlich'!$C$45*'Perzentile Männlich'!N4^2)+('Perzentile Männlich'!$D$45*'Perzentile Männlich'!N4)+'Perzentile Männlich'!$E$45,IF(AND('Tabelle Kaderkriterien'!$H8="m",Übersicht!$C4=16,'Perzentile Männlich'!N4>'Perzentile Männlich'!S$6),100,IF(AND('Tabelle Kaderkriterien'!$H8="m",Übersicht!$C4=16),('Perzentile Männlich'!$B$46*'Perzentile Männlich'!N4^3)+('Perzentile Männlich'!$C$46*'Perzentile Männlich'!N4^2)+('Perzentile Männlich'!$D$46*'Perzentile Männlich'!N4)+'Perzentile Männlich'!$E$46,IF(AND('Tabelle Kaderkriterien'!$H8="m",Übersicht!$C4=12,'Perzentile Männlich'!N4>'Perzentile Männlich'!S$7),100,IF(AND('Tabelle Kaderkriterien'!$H8="m",Übersicht!$C4=12),('Perzentile Männlich'!$B$47*'Perzentile Männlich'!N4^3)+('Perzentile Männlich'!$C$47*'Perzentile Männlich'!N4^2)+('Perzentile Männlich'!$D$47*'Perzentile Männlich'!N4)+'Perzentile Männlich'!$E$47,IF(AND('Tabelle Kaderkriterien'!$H8="m",Übersicht!$C4=11,'Perzentile Männlich'!N4>'Perzentile Männlich'!S$8),100,IF(AND('Tabelle Kaderkriterien'!$H8="m",Übersicht!$C4=11),('Perzentile Männlich'!$B$48*'Perzentile Männlich'!N4^3)+('Perzentile Männlich'!$C$48*'Perzentile Männlich'!N4^2)+('Perzentile Männlich'!$D$48*'Perzentile Männlich'!N4)+'Perzentile Männlich'!$E$48,IF(AND('Tabelle Kaderkriterien'!$H8="w",Übersicht!$C4=13,'Perzentile Weiblich'!N4>'Perzentile Weiblich'!S$3),100,IF(AND('Tabelle Kaderkriterien'!$H8="w",Übersicht!$C4=13),('Perzentile Weiblich'!$B$43*'Perzentile Weiblich'!N4^3)+('Perzentile Weiblich'!$C$43*'Perzentile Weiblich'!N4^2)+('Perzentile Weiblich'!$D$43*'Perzentile Weiblich'!N4)+'Perzentile Weiblich'!$E$43,IF(AND('Tabelle Kaderkriterien'!$H8="w",Übersicht!$C4=14,'Perzentile Weiblich'!N4>'Perzentile Weiblich'!S$4),100,IF(AND('Tabelle Kaderkriterien'!$H8="w",Übersicht!$C4=14),('Perzentile Weiblich'!$B$44*'Perzentile Weiblich'!N4^3)+('Perzentile Weiblich'!$C$44*'Perzentile Weiblich'!N4^2)+('Perzentile Weiblich'!$D$44*'Perzentile Weiblich'!N4)+'Perzentile Weiblich'!$E$44,IF(AND('Tabelle Kaderkriterien'!$H8="w",Übersicht!$C4=15,'Perzentile Weiblich'!N4>'Perzentile Weiblich'!S$5),100,IF(AND('Tabelle Kaderkriterien'!$H8="w",Übersicht!$C4=15),('Perzentile Weiblich'!$B$45*'Perzentile Weiblich'!N4^3)+('Perzentile Weiblich'!$C$45*'Perzentile Weiblich'!N4^2)+('Perzentile Weiblich'!$D$45*'Perzentile Weiblich'!N4)+'Perzentile Weiblich'!$E$45,IF(AND('Tabelle Kaderkriterien'!$H8="w",Übersicht!$C4=16,'Perzentile Weiblich'!N4>'Perzentile Weiblich'!S$6),100,IF(AND('Tabelle Kaderkriterien'!$H8="w",Übersicht!$C4=16),('Perzentile Weiblich'!$B$46*'Perzentile Weiblich'!N4^3)+('Perzentile Weiblich'!$C$46*'Perzentile Weiblich'!N4^2)+('Perzentile Weiblich'!$D$46*'Perzentile Weiblich'!N4)+'Perzentile Weiblich'!$E$46,IF(AND('Tabelle Kaderkriterien'!$H8="w",Übersicht!$C4=12,'Perzentile Weiblich'!N4>'Perzentile Weiblich'!S$7),100,IF(AND('Tabelle Kaderkriterien'!$H8="w",Übersicht!$C4=12),('Perzentile Weiblich'!$B$47*'Perzentile Weiblich'!N4^3)+('Perzentile Weiblich'!$C$47*'Perzentile Weiblich'!N4^2)+('Perzentile Weiblich'!$D$47*'Perzentile Weiblich'!N4)+'Perzentile Weiblich'!$E$47,IF(AND('Tabelle Kaderkriterien'!$H8="w",Übersicht!$C4=11,'Perzentile Weiblich'!N4>'Perzentile Weiblich'!S$8),100,IF(AND('Tabelle Kaderkriterien'!$H8="w",Übersicht!$C4=11),('Perzentile Weiblich'!$B$48*'Perzentile Weiblich'!N4^3)+('Perzentile Weiblich'!$C$48*'Perzentile Weiblich'!N4^2)+('Perzentile Weiblich'!$D$48*'Perzentile Weiblich'!N4)+'Perzentile Weiblich'!$E$48,IF(AND('Tabelle Kaderkriterien'!I8<>"m",'Tabelle Kaderkriterien'!I8<>"!w"),#N/A,#N/A))))))))))))))))))))))))) -> #DIV/0! | O4: =IF(AND('Tabelle Kaderkriterien'!$H8="m",Übersicht!$C4=13,'Perzentile Männlich'!O4>'Perzentile Männlich'!T$3),100,IF(AND('Tabelle Kaderkriterien'!$H8="m",Übersicht!$C4=13),('Perzentile Männlich'!$B$11*'Perzentile Männlich'!O4^3)+('Perzentile Männlich'!$C$11*'Perzentile Männlich'!O4^2)+('Perzentile Männlich'!$D$11*'Perzentile Männlich'!O4)+'Perzentile Männlich'!$E$11,IF(AND('Tabelle Kaderkriterien'!$H8="m",Übersicht!$C4=14,'Perzentile Männlich'!O4>'Perzentile Männlich'!T$4),100,IF(AND('Tabelle Kaderkriterien'!$H8="m",Übersicht!$C4=14),('Perzentile Männlich'!$B$12*'Perzentile Männlich'!O4^3)+('Perzentile Männlich'!$C$12*'Perzentile Männlich'!O4^2)+('Perzentile Männlich'!$D$12*'Perzentile Männlich'!O4)+'Perzentile Männlich'!$E$12,IF(AND('Tabelle Kaderkriterien'!$H8="m",Übersicht!$C4=15,'Perzentile Männlich'!O4>'Perzentile Männlich'!T$5),100,IF(AND('Tabelle Kaderkriterien'!$H8="m",Übersicht!$C4=15),('Perzentile Männlich'!$B$13*'Perzentile Männlich'!O4^3)+('Perzentile Männlich'!$C$13*'Perzentile Männlich'!O4^2)+('Perzentile Männlich'!$D$13*'Perzentile Männlich'!O4)+'Perzentile Männlich'!$E$13,IF(AND('Tabelle Kaderkriterien'!$H8="m",Übersicht!$C4=16,'Perzentile Männlich'!O4>'Perzentile Männlich'!T$6),100,IF(AND('Tabelle Kaderkriterien'!$H8="m",Übersicht!$C4=16),('Perzentile Männlich'!$B$14*'Perzentile Männlich'!O4^3)+('Perzentile Männlich'!$C$14*'Perzentile Männlich'!O4^2)+('Perzentile Männlich'!$D$14*'Perzentile Männlich'!O4)+'Perzentile Männlich'!$E$14,IF(AND('Tabelle Kaderkriterien'!$H8="m",Übersicht!$C4=12,'Perzentile Männlich'!O4>'Perzentile Männlich'!T$7),100,IF(AND('Tabelle Kaderkriterien'!$H8="m",Übersicht!$C4=12),('Perzentile Männlich'!$B$15*'Perzentile Männlich'!O4^3)+('Perzentile Männlich'!$C$15*'Perzentile Männlich'!O4^2)+('Perzentile Männlich'!$D$15*'Perzentile Männlich'!O4)+'Perzentile Männlich'!$E$15,IF(AND('Tabelle Kaderkriterien'!$H8="m",Übersicht!$C4=11,'Perzentile Männlich'!O4>'Perzentile Männlich'!T$8),100,IF(AND('Tabelle Kaderkriterien'!$H8="m",Übersicht!$C4=11),('Perzentile Männlich'!$B$16*'Perzentile Männlich'!O4^3)+('Perzentile Männlich'!$C$16*'Perzentile Männlich'!O4^2)+('Perzentile Männlich'!$D$16*'Perzentile Männlich'!O4)+'Perzentile Männlich'!$E$16,IF(AND('Tabelle Kaderkriterien'!$H8="w",Übersicht!$C4=13,'Perzentile Weiblich'!O4>'Perzentile Weiblich'!T$3),100,IF(AND('Tabelle Kaderkriterien'!$H8="w",Übersicht!$C4=13),('Perzentile Weiblich'!$B$11*'Perzentile Weiblich'!O4^3)+('Perzentile Weiblich'!$C$11*'Perzentile Weiblich'!O4^2)+('Perzentile Weiblich'!$D$11*'Perzentile Weiblich'!O4)+'Perzentile Weiblich'!$E$11,IF(AND('Tabelle Kaderkriterien'!$H8="w",Übersicht!$C4=14,'Perzentile Weiblich'!O4>'Perzentile Weiblich'!T$4),100,IF(AND('Tabelle Kaderkriterien'!$H8="w",Übersicht!$C4=14),('Perzentile Weiblich'!$B$12*'Perzentile Weiblich'!O4^3)+('Perzentile Weiblich'!$C$12*'Perzentile Weiblich'!O4^2)+('Perzentile Weiblich'!$D$12*'Perzentile Weiblich'!O4)+'Perzentile Weiblich'!$E$12,IF(AND('Tabelle Kaderkriterien'!$H8="w",Übersicht!$C4=15,'Perzentile Weiblich'!O4>'Perzentile Weiblich'!T$5),100,IF(AND('Tabelle Kaderkriterien'!$H8="w",Übersicht!$C4=15),('Perzentile Weiblich'!$B$13*'Perzentile Weiblich'!O4^3)+('Perzentile Weiblich'!$C$13*'Perzentile Weiblich'!O4^2)+('Perzentile Weiblich'!$D$13*'Perzentile Weiblich'!O4)+'Perzentile Weiblich'!$E$13,IF(AND('Tabelle Kaderkriterien'!$H8="w",Übersicht!$C4=16,'Perzentile Weiblich'!O4>'Perzentile Weiblich'!T$6),100,IF(AND('Tabelle Kaderkriterien'!$H8="w",Übersicht!$C4=16),('Perzentile Weiblich'!$B$14*'Perzentile Weiblich'!O4^3)+('Perzentile Weiblich'!$C$14*'Perzentile Weiblich'!O4^2)+('Perzentile Weiblich'!$D$14*'Perzentile Weiblich'!O4)+'Perzentile Weiblich'!$E$14,IF(AND('Tabelle Kaderkriterien'!$H8="w",Übersicht!$C4=12,'Perzentile Weiblich'!O4>'Perzentile Weiblich'!T$7),100,IF(AND('Tabelle Kaderkriterien'!$H8="w",Übersicht!$C4=12),('Perzentile Weiblich'!$B$15*'Perzentile Weiblich'!O4^3)+('Perzentile Weiblich'!$C$15*'Perzentile Weiblich'!O4^2)+('Perzentile Weiblich'!$D$15*'Perzentile Weiblich'!O4)+'Perzentile Weiblich'!$E$15,IF(AND('Tabelle Kaderkriterien'!$H8="w",Übersicht!$C4=11,'Perzentile Weiblich'!O4>'Perzentile Weiblich'!T$8),100,IF(AND('Tabelle Kaderkriterien'!$H8="w",Übersicht!$C4=11),('Perzentile Weiblich'!$B$16*'Perzentile Weiblich'!O4^3)+('Perzentile Weiblich'!$C$16*'Perzentile Weiblich'!O4^2)+('Perzentile Weiblich'!$D$16*'Perzentile Weiblich'!O4)+'Perzentile Weiblich'!$E$16,IF(AND('Tabelle Kaderkriterien'!J8<>"m",'Tabelle Kaderkriterien'!J8<>"!w"),#N/A,#N/A))))))))))))))))))))))))) -> #DIV/0! | P4: =IF(AND('Tabelle Kaderkriterien'!$H8="m",Übersicht!$C4=13,J4<'Perzentile Männlich'!U$3),100,IF(AND('Tabelle Kaderkriterien'!$H8="m",Übersicht!$C4=13),('Perzentile Männlich'!$B$27*J4^3)+('Perzentile Männlich'!$C$27*J4^2)+('Perzentile Männlich'!$D$27*J4)+'Perzentile Männlich'!$E$27,IF(AND('Tabelle Kaderkriterien'!$H8="m",Übersicht!$C4=14,J4<'Perzentile Männlich'!U$4),100,IF(AND('Tabelle Kaderkriterien'!$H8="m",Übersicht!$C4=14),('Perzentile Männlich'!$B$28*J4^3)+('Perzentile Männlich'!$C$28*J4^2)+('Perzentile Männlich'!$D$28*J4)+'Perzentile Männlich'!$E$28,IF(AND('Tabelle Kaderkriterien'!$H8="m",Übersicht!$C4=15,J4<'Perzentile Männlich'!U$5),100,IF(AND('Tabelle Kaderkriterien'!$H8="m",Übersicht!$C4=15),('Perzentile Männlich'!$B$29*J4^3)+('Perzentile Männlich'!$C$29*J4^2)+('Perzentile Männlich'!$D$29*J4)+'Perzentile Männlich'!$E$29,IF(AND('Tabelle Kaderkriterien'!$H8="m",Übersicht!$C4=16,J4<'Perzentile Männlich'!U$6),100,IF(AND('Tabelle Kaderkriterien'!$H8="m",Übersicht!$C4=16),('Perzentile Männlich'!$B$30*J4^3)+('Perzentile Männlich'!$C$30*J4^2)+('Perzentile Männlich'!$D$30*J4)+'Perzentile Männlich'!$E$30,IF(AND('Tabelle Kaderkriterien'!$H8="m",Übersicht!$C4=12,J4<'Perzentile Männlich'!U$7),100,IF(AND('Tabelle Kaderkriterien'!$H8="m",Übersicht!$C4=12),('Perzentile Männlich'!$B$31*J4^3)+('Perzentile Männlich'!$C$31*J4^2)+('Perzentile Männlich'!$D$31*J4)+'Perzentile Männlich'!$E$31,IF(AND('Tabelle Kaderkriterien'!$H8="m",Übersicht!$C4=11,J4<'Perzentile Männlich'!U$8),100,IF(AND('Tabelle Kaderkriterien'!$H8="m",Übersicht!$C4=11),('Perzentile Männlich'!$B$32*J4^3)+('Perzentile Männlich'!$C$32*J4^2)+('Perzentile Männlich'!$D$32*J4)+'Perzentile Männlich'!$E$32,IF(AND('Tabelle Kaderkriterien'!$H8="w",Übersicht!$C4=13,J4<'Perzentile Weiblich'!U$3),100,IF(AND('Tabelle Kaderkriterien'!$H8="w",Übersicht!$C4=13),('Perzentile Weiblich'!$B$27*J4^3)+('Perzentile Weiblich'!$C$27*J4^2)+('Perzentile Weiblich'!$D$27*J4)+'Perzentile Weiblich'!$E$27,IF(AND('Tabelle Kaderkriterien'!$H8="w",Übersicht!$C4=14,J4<'Perzentile Weiblich'!U$4),100,IF(AND('Tabelle Kaderkriterien'!$H8="w",Übersicht!$C4=14),('Perzentile Weiblich'!$B$28*J4^3)+('Perzentile Weiblich'!$C$28*J4^2)+('Perzentile Weiblich'!$D$28*J4)+'Perzentile Weiblich'!$E$28,IF(AND('Tabelle Kaderkriterien'!$H8="w",Übersicht!$C4=15,J4<'Perzentile Weiblich'!U$5),100,IF(AND('Tabelle Kaderkriterien'!$H8="w",Übersicht!$C4=15),('Perzentile Weiblich'!$B$29*J4^3)+('Perzentile Weiblich'!$C$29*J4^2)+('Perzentile Weiblich'!$D$29*J4)+'Perzentile Weiblich'!$E$29,IF(AND('Tabelle Kaderkriterien'!$H8="w",Übersicht!$C4=16,J4<'Perzentile Weiblich'!U$6),100,IF(AND('Tabelle Kaderkriterien'!$H8="w",Übersicht!$C4=16),('Perzentile Weiblich'!$B$30*J4^3)+('Perzentile Weiblich'!$C$30*J4^2)+('Perzentile Weiblich'!$D$30*J4)+'Perzentile Weiblich'!$E$30,IF(AND('Tabelle Kaderkriterien'!$H8="w",Übersicht!$C4=12,J4<'Perzentile Weiblich'!U$7),100,IF(AND('Tabelle Kaderkriterien'!$H8="w",Übersicht!$C4=12),('Perzentile Weiblich'!$B$31*J4^3)+('Perzentile Weiblich'!$C$31*J4^2)+('Perzentile Weiblich'!$D$31*J4)+'Perzentile Weiblich'!$E$31,IF(AND('Tabelle Kaderkriterien'!$H8="w",Übersicht!$C4=11,J4<'Perzentile Weiblich'!U$8),100,IF(AND('Tabelle Kaderkriterien'!$H8="w",Übersicht!$C4=11),('Perzentile Weiblich'!$B$32*J4^3)+('Perzentile Weiblich'!$C$32*J4^2)+('Perzentile Weiblich'!$D$32*J4)+'Perzentile Weiblich'!$E$32,IF(AND('Tabelle Kaderkriterien'!H8<>"m",'Tabelle Kaderkriterien'!H8<>"!w"),#N/A,#N/A))))))))))))))))))))))))) -> #N/A | Q4: =IF(AND('Tabelle Kaderkriterien'!$H8="m",Übersicht!$C4=13,K4>'Perzentile Männlich'!V$3),100,IF(AND('Tabelle Kaderkriterien'!$H8="m",Übersicht!$C4=13),('Perzentile Männlich'!$B$19*K4^3)+('Perzentile Männlich'!$C$19*K4^2)+('Perzentile Männlich'!$D$19*K4)+'Perzentile Männlich'!$E$19,IF(AND('Tabelle Kaderkriterien'!$H8="m",Übersicht!$C4=14,K4>'Perzentile Männlich'!V$4),100,IF(AND('Tabelle Kaderkriterien'!$H8="m",Übersicht!$C4=14),('Perzentile Männlich'!$B$20*K4^3)+('Perzentile Männlich'!$C$20*K4^2)+('Perzentile Männlich'!$D$20*K4)+'Perzentile Männlich'!$E$20,IF(AND('Tabelle Kaderkriterien'!$H8="m",Übersicht!$C4=15,K4>'Perzentile Männlich'!V$5),100,IF(AND('Tabelle Kaderkriterien'!$H8="m",Übersicht!$C4=15),('Perzentile Männlich'!$B$21*K4^3)+('Perzentile Männlich'!$C$21*K4^2)+('Perzentile Männlich'!$D$21*K4)+'Perzentile Männlich'!$E$21,IF(AND('Tabelle Kaderkriterien'!$H8="m",Übersicht!$C4=16,K4>'Perzentile Männlich'!V$6),100,IF(AND('Tabelle Kaderkriterien'!$H8="m",Übersicht!$C4=16),('Perzentile Männlich'!$B$22*K4^3)+('Perzentile Männlich'!$C$22*K4^2)+('Perzentile Männlich'!$D$22*K4)+'Perzentile Männlich'!$E$22,IF(AND('Tabelle Kaderkriterien'!$H8="m",Übersicht!$C4=12,K4>'Perzentile Männlich'!V$7),100,IF(AND('Tabelle Kaderkriterien'!$H8="m",Übersicht!$C4=12),('Perzentile Männlich'!$B$23*K4^3)+('Perzentile Männlich'!$C$23*K4^2)+('Perzentile Männlich'!$D$23*K4)+'Perzentile Männlich'!$E$23,IF(AND('Tabelle Kaderkriterien'!$H8="m",Übersicht!$C4=11,K4>'Perzentile Männlich'!V$8),100,IF(AND('Tabelle Kaderkriterien'!$H8="m",Übersicht!$C4=11),('Perzentile Männlich'!$B$24*K4^3)+('Perzentile Männlich'!$C$24*K4^2)+('Perzentile Männlich'!$D$24*K4)+'Perzentile Männlich'!$E$24,IF(AND('Tabelle Kaderkriterien'!$H8="w",Übersicht!$C4=13,K4>'Perzentile Weiblich'!V$3),100,IF(AND('Tabelle Kaderkriterien'!$H8="w",Übersicht!$C4=13),('Perzentile Weiblich'!$B$19*K4^3)+('Perzentile Weiblich'!$C$19*K4^2)+('Perzentile Weiblich'!$D$19*K4)+'Perzentile Weiblich'!$E$19,IF(AND('Tabelle Kaderkriterien'!$H8="w",Übersicht!$C4=14,K4>'Perzentile Weiblich'!V$4),100,IF(AND('Tabelle Kaderkriterien'!$H8="w",Übersicht!$C4=14),('Perzentile Weiblich'!$B$20*K4^3)+('Perzentile Weiblich'!$C$20*K4^2)+('Perzentile Weiblich'!$D$20*K4)+'Perzentile Weiblich'!$E$20,IF(AND('Tabelle Kaderkriterien'!$H8="w",Übersicht!$C4=15,K4>'Perzentile Weiblich'!V$5),100,IF(AND('Tabelle Kaderkriterien'!$H8="w",Übersicht!$C4=15),('Perzentile Weiblich'!$B$21*K4^3)+('Perzentile Weiblich'!$C$21*K4^2)+('Perzentile Weiblich'!$D$21*K4)+'Perzentile Weiblich'!$E$21,IF(AND('Tabelle Kaderkriterien'!$H8="w",Übersicht!$C4=16,K4>'Perzentile Weiblich'!V$6),100,IF(AND('Tabelle Kaderkriterien'!$H8="w",Übersicht!$C4=16),('Perzentile Weiblich'!$B$22*K4^3)+('Perzentile Weiblich'!$C$22*K4^2)+('Perzentile Weiblich'!$D$22*K4)+'Perzentile Weiblich'!$E$22,IF(AND('Tabelle Kaderkriterien'!$H8="w",Übersicht!$C4=12,K4>'Perzentile Weiblich'!V$7),100,IF(AND('Tabelle Kaderkriterien'!$H8="w",Übersicht!$C4=12),('Perzentile Weiblich'!$B$23*K4^3)+('Perzentile Weiblich'!$C$23*K4^2)+('Perzentile Weiblich'!$D$23*K4)+'Perzentile Weiblich'!$E$23,IF(AND('Tabelle Kaderkriterien'!$H8="w",Übersicht!$C4=11,K4>'Perzentile Weiblich'!V$8),100,IF(AND('Tabelle Kaderkriterien'!$H8="w",Übersicht!$C4=11),('Perzentile Weiblich'!$B$24*K4^3)+('Perzentile Weiblich'!$C$24*K4^2)+('Perzentile Weiblich'!$D$24*K4)+'Perzentile Weiblich'!$E$24,IF(AND('Tabelle Kaderkriterien'!I8<>"m",'Tabelle Kaderkriterien'!I8<>"!w"),#N/A,#N/A))))))))))))))))))))))))) -> #N/A | S4: =M4*0.25+N4*0.25+O4*0.19+P4*0.14+Q4*0.17 -> #DIV/0! | T4: =M4*0.25+N4*0.25+O4*0.19+P4*0.14+Q4*0.17 -> #DIV/0!
A5: ='Tabelle Kaderkriterien'!B9 -> 0 | B5: ='Tabelle Kaderkriterien'!C9 -> 0 | C5: ='Tabelle Kaderkriterien'!G9 -> 0 | D5: ='Tabelle Kaderkriterien'!K9 -> 0 | E5: ='Tabelle Kaderkriterien'!L9 -> 0 | F5: ='Tabelle Kaderkriterien'!N9 -> 0 | G5: ='Tabelle Kaderkriterien'!O9 -> 0 | H5: ='Tabelle Kaderkriterien'!Q9 -> 0 | I5: ='Tabelle Kaderkriterien'!R9 -> 0 | J5: ='Tabelle Kaderkriterien'!T9 -> 0 | K5: ='Tabelle Kaderkriterien'!V9 -> 0 | M5: =IF(AND('Tabelle Kaderkriterien'!$H9="m",Übersicht!$C5=13,'Perzentile Männlich'!M5>'Perzentile Männlich'!R$3),100,IF(AND('Tabelle Kaderkriterien'!$H9="m",Übersicht!$C5=13),('Perzentile Männlich'!$B$35*'Perzentile Männlich'!M5^3)+('Perzentile Männlich'!$C$35*'Perzentile Männlich'!M5^2)+('Perzentile Männlich'!$D$35*'Perzentile Männlich'!M5)+'Perzentile Männlich'!$E$35,IF(AND('Tabelle Kaderkriterien'!$H9="m",Übersicht!$C5=14,'Perzentile Männlich'!M5>'Perzentile Männlich'!R$4),100,IF(AND('Tabelle Kaderkriterien'!$H9="m",Übersicht!$C5=14),('Perzentile Männlich'!$B$36*'Perzentile Männlich'!M5^3)+('Perzentile Männlich'!$C$36*'Perzentile Männlich'!M5^2)+('Perzentile Männlich'!$D$36*'Perzentile Männlich'!M5)+'Perzentile Männlich'!$E$36,IF(AND('Tabelle Kaderkriterien'!$H9="m",Übersicht!$C5=15,'Perzentile Männlich'!M5>'Perzentile Männlich'!R$5),100,IF(AND('Tabelle Kaderkriterien'!$H9="m",Übersicht!$C5=15),('Perzentile Männlich'!$B$37*'Perzentile Männlich'!M5^3)+('Perzentile Männlich'!$C$37*'Perzentile Männlich'!M5^2)+('Perzentile Männlich'!$D$37*'Perzentile Männlich'!M5)+'Perzentile Männlich'!$E$37,IF(AND('Tabelle Kaderkriterien'!$H9="m",Übersicht!$C5=16,'Perzentile Männlich'!M5>'Perzentile Männlich'!R$6),100,IF(AND('Tabelle Kaderkriterien'!$H9="m",Übersicht!$C5=16),('Perzentile Männlich'!$B$38*'Perzentile Männlich'!M5^3)+('Perzentile Männlich'!$C$38*'Perzentile Männlich'!M5^2)+('Perzentile Männlich'!$D$38*'Perzentile Männlich'!M5)+'Perzentile Männlich'!$E$38,IF(AND('Tabelle Kaderkriterien'!$H9="m",Übersicht!$C5=12,'Perzentile Männlich'!M5>'Perzentile Männlich'!R$7),100,IF(AND('Tabelle Kaderkriterien'!$H9="m",Übersicht!$C5=12),('Perzentile Männlich'!$B$39*'Perzentile Männlich'!M5^3)+('Perzentile Männlich'!$C$39*'Perzentile Männlich'!M5^2)+('Perzentile Männlich'!$D$39*'Perzentile Männlich'!M5)+'Perzentile Männlich'!$E$39,IF(AND('Tabelle Kaderkriterien'!$H9="m",Übersicht!$C5=11,'Perzentile Männlich'!M5>'Perzentile Männlich'!R$8),100,IF(AND('Tabelle Kaderkriterien'!$H9="m",Übersicht!$C5=11),('Perzentile Männlich'!$B$40*'Perzentile Männlich'!M5^3)+('Perzentile Männlich'!$C$40*'Perzentile Männlich'!M5^2)+('Perzentile Männlich'!$D$40*'Perzentile Männlich'!M5)+'Perzentile Männlich'!$E$40,IF(AND('Tabelle Kaderkriterien'!$H9="w",Übersicht!$C5=13,'Perzentile Weiblich'!M5>'Perzentile Weiblich'!R$3),100,IF(AND('Tabelle Kaderkriterien'!$H9="w",Übersicht!$C5=13),('Perzentile Weiblich'!$B$35*'Perzentile Weiblich'!M5^3)+('Perzentile Weiblich'!$C$35*'Perzentile Weiblich'!M5^2)+('Perzentile Weiblich'!$D$35*'Perzentile Weiblich'!M5)+'Perzentile Weiblich'!$E$35,IF(AND('Tabelle Kaderkriterien'!$H9="w",Übersicht!$C5=14,'Perzentile Weiblich'!M5>'Perzentile Weiblich'!R$4),100,IF(AND('Tabelle Kaderkriterien'!$H9="w",Übersicht!$C5=14),('Perzentile Weiblich'!$B$36*'Perzentile Weiblich'!M5^3)+('Perzentile Weiblich'!$C$36*'Perzentile Weiblich'!M5^2)+('Perzentile Weiblich'!$D$36*'Perzentile Weiblich'!M5)+'Perzentile Weiblich'!$E$36,IF(AND('Tabelle Kaderkriterien'!$H9="w",Übersicht!$C5=15,'Perzentile Weiblich'!M5>'Perzentile Weiblich'!R$5),100,IF(AND('Tabelle Kaderkriterien'!$H9="w",Übersicht!$C5=15),('Perzentile Weiblich'!$B$37*'Perzentile Weiblich'!M5^3)+('Perzentile Weiblich'!$C$37*'Perzentile Weiblich'!M5^2)+('Perzentile Weiblich'!$D$37*'Perzentile Weiblich'!M5)+'Perzentile Weiblich'!$E$37,IF(AND('Tabelle Kaderkriterien'!$H9="w",Übersicht!$C5=16,'Perzentile Weiblich'!M5>'Perzentile Weiblich'!R$6),100,IF(AND('Tabelle Kaderkriterien'!$H9="w",Übersicht!$C5=16),('Perzentile Weiblich'!$B$38*'Perzentile Weiblich'!M5^3)+('Perzentile Weiblich'!$C$38*'Perzentile Weiblich'!M5^2)+('Perzentile Weiblich'!$D$38*'Perzentile Weiblich'!M5)+'Perzentile Weiblich'!$E$38,IF(AND('Tabelle Kaderkriterien'!$H9="w",Übersicht!$C5=12,'Perzentile Weiblich'!M5>'Perzentile Weiblich'!R$7),100,IF(AND('Tabelle Kaderkriterien'!$H9="w",Übersicht!$C5=12),('Perzentile Weiblich'!$B$39*'Perzentile Weiblich'!M5^3)+('Perzentile Weiblich'!$C$39*'Perzentile Weiblich'!M5^2)+('Perzentile Weiblich'!$D$39*'Perzentile Weiblich'!M5)+'Perzentile Weiblich'!$E$39,IF(AND('Tabelle Kaderkriterien'!$H9="w",Übersicht!$C5=11,'Perzentile Weiblich'!M5>'Perzentile Weiblich'!R$8),100,IF(AND('Tabelle Kaderkriterien'!$H9="w",Übersicht!$C5=11),('Perzentile Weiblich'!$B$40*'Perzentile Weiblich'!M5^3)+('Perzentile Weiblich'!$C$40*'Perzentile Weiblich'!M5^2)+('Perzentile Weiblich'!$D$40*'Perzentile Weiblich'!M5)+'Perzentile Weiblich'!$E$40,IF(AND('Tabelle Kaderkriterien'!H9<>"m",'Tabelle Kaderkriterien'!H9<>"!w"),#N/A,#N/A))))))))))))))))))))))))) -> #DIV/0! | N5: =IF(AND('Tabelle Kaderkriterien'!$H9="m",Übersicht!$C5=13,'Perzentile Männlich'!N5>'Perzentile Männlich'!S$3),100,IF(AND('Tabelle Kaderkriterien'!$H9="m",Übersicht!$C5=13),('Perzentile Männlich'!$B$43*'Perzentile Männlich'!N5^3)+('Perzentile Männlich'!$C$43*'Perzentile Männlich'!N5^2)+('Perzentile Männlich'!$D$43*'Perzentile Männlich'!N5)+'Perzentile Männlich'!$E$43,IF(AND('Tabelle Kaderkriterien'!$H9="m",Übersicht!$C5=14,'Perzentile Männlich'!N5>'Perzentile Männlich'!S$4),100,IF(AND('Tabelle Kaderkriterien'!$H9="m",Übersicht!$C5=14),('Perzentile Männlich'!$B$44*'Perzentile Männlich'!N5^3)+('Perzentile Männlich'!$C$44*'Perzentile Männlich'!N5^2)+('Perzentile Männlich'!$D$44*'Perzentile Männlich'!N5)+'Perzentile Männlich'!$E$44,IF(AND('Tabelle Kaderkriterien'!$H9="m",Übersicht!$C5=15,'Perzentile Männlich'!N5>'Perzentile Männlich'!S$5),100,IF(AND('Tabelle Kaderkriterien'!$H9="m",Übersicht!$C5=15),('Perzentile Männlich'!$B$45*'Perzentile Männlich'!N5^3)+('Perzentile Männlich'!$C$45*'Perzentile Männlich'!N5^2)+('Perzentile Männlich'!$D$45*'Perzentile Männlich'!N5)+'Perzentile Männlich'!$E$45,IF(AND('Tabelle Kaderkriterien'!$H9="m",Übersicht!$C5=16,'Perzentile Männlich'!N5>'Perzentile Männlich'!S$6),100,IF(AND('Tabelle Kaderkriterien'!$H9="m",Übersicht!$C5=16),('Perzentile Männlich'!$B$46*'Perzentile Männlich'!N5^3)+('Perzentile Männlich'!$C$46*'Perzentile Männlich'!N5^2)+('Perzentile Männlich'!$D$46*'Perzentile Männlich'!N5)+'Perzentile Männlich'!$E$46,IF(AND('Tabelle Kaderkriterien'!$H9="m",Übersicht!$C5=12,'Perzentile Männlich'!N5>'Perzentile Männlich'!S$7),100,IF(AND('Tabelle Kaderkriterien'!$H9="m",Übersicht!$C5=12),('Perzentile Männlich'!$B$47*'Perzentile Männlich'!N5^3)+('Perzentile Männlich'!$C$47*'Perzentile Männlich'!N5^2)+('Perzentile Männlich'!$D$47*'Perzentile Männlich'!N5)+'Perzentile Männlich'!$E$47,IF(AND('Tabelle Kaderkriterien'!$H9="m",Übersicht!$C5=11,'Perzentile Männlich'!N5>'Perzentile Männlich'!S$8),100,IF(AND('Tabelle Kaderkriterien'!$H9="m",Übersicht!$C5=11),('Perzentile Männlich'!$B$48*'Perzentile Männlich'!N5^3)+('Perzentile Männlich'!$C$48*'Perzentile Männlich'!N5^2)+('Perzentile Männlich'!$D$48*'Perzentile Männlich'!N5)+'Perzentile Männlich'!$E$48,IF(AND('Tabelle Kaderkriterien'!$H9="w",Übersicht!$C5=13,'Perzentile Weiblich'!N5>'Perzentile Weiblich'!S$3),100,IF(AND('Tabelle Kaderkriterien'!$H9="w",Übersicht!$C5=13),('Perzentile Weiblich'!$B$43*'Perzentile Weiblich'!N5^3)+('Perzentile Weiblich'!$C$43*'Perzentile Weiblich'!N5^2)+('Perzentile Weiblich'!$D$43*'Perzentile Weiblich'!N5)+'Perzentile Weiblich'!$E$43,IF(AND('Tabelle Kaderkriterien'!$H9="w",Übersicht!$C5=14,'Perzentile Weiblich'!N5>'Perzentile Weiblich'!S$4),100,IF(AND('Tabelle Kaderkriterien'!$H9="w",Übersicht!$C5=14),('Perzentile Weiblich'!$B$44*'Perzentile Weiblich'!N5^3)+('Perzentile Weiblich'!$C$44*'Perzentile Weiblich'!N5^2)+('Perzentile Weiblich'!$D$44*'Perzentile Weiblich'!N5)+'Perzentile Weiblich'!$E$44,IF(AND('Tabelle Kaderkriterien'!$H9="w",Übersicht!$C5=15,'Perzentile Weiblich'!N5>'Perzentile Weiblich'!S$5),100,IF(AND('Tabelle Kaderkriterien'!$H9="w",Übersicht!$C5=15),('Perzentile Weiblich'!$B$45*'Perzentile Weiblich'!N5^3)+('Perzentile Weiblich'!$C$45*'Perzentile Weiblich'!N5^2)+('Perzentile Weiblich'!$D$45*'Perzentile Weiblich'!N5)+'Perzentile Weiblich'!$E$45,IF(AND('Tabelle Kaderkriterien'!$H9="w",Übersicht!$C5=16,'Perzentile Weiblich'!N5>'Perzentile Weiblich'!S$6),100,IF(AND('Tabelle Kaderkriterien'!$H9="w",Übersicht!$C5=16),('Perzentile Weiblich'!$B$46*'Perzentile Weiblich'!N5^3)+('Perzentile Weiblich'!$C$46*'Perzentile Weiblich'!N5^2)+('Perzentile Weiblich'!$D$46*'Perzentile Weiblich'!N5)+'Perzentile Weiblich'!$E$46,IF(AND('Tabelle Kaderkriterien'!$H9="w",Übersicht!$C5=12,'Perzentile Weiblich'!N5>'Perzentile Weiblich'!S$7),100,IF(AND('Tabelle Kaderkriterien'!$H9="w",Übersicht!$C5=12),('Perzentile Weiblich'!$B$47*'Perzentile Weiblich'!N5^3)+('Perzentile Weiblich'!$C$47*'Perzentile Weiblich'!N5^2)+('Perzentile Weiblich'!$D$47*'Perzentile Weiblich'!N5)+'Perzentile Weiblich'!$E$47,IF(AND('Tabelle Kaderkriterien'!$H9="w",Übersicht!$C5=11,'Perzentile Weiblich'!N5>'Perzentile Weiblich'!S$8),100,IF(AND('Tabelle Kaderkriterien'!$H9="w",Übersicht!$C5=11),('Perzentile Weiblich'!$B$48*'Perzentile Weiblich'!N5^3)+('Perzentile Weiblich'!$C$48*'Perzentile Weiblich'!N5^2)+('Perzentile Weiblich'!$D$48*'Perzentile Weiblich'!N5)+'Perzentile Weiblich'!$E$48,IF(AND('Tabelle Kaderkriterien'!I9<>"m",'Tabelle Kaderkriterien'!I9<>"!w"),#N/A,#N/A))))))))))))))))))))))))) -> #DIV/0! | O5: =IF(AND('Tabelle Kaderkriterien'!$H9="m",Übersicht!$C5=13,'Perzentile Männlich'!O5>'Perzentile Männlich'!T$3),100,IF(AND('Tabelle Kaderkriterien'!$H9="m",Übersicht!$C5=13),('Perzentile Männlich'!$B$11*'Perzentile Männlich'!O5^3)+('Perzentile Männlich'!$C$11*'Perzentile Männlich'!O5^2)+('Perzentile Männlich'!$D$11*'Perzentile Männlich'!O5)+'Perzentile Männlich'!$E$11,IF(AND('Tabelle Kaderkriterien'!$H9="m",Übersicht!$C5=14,'Perzentile Männlich'!O5>'Perzentile Männlich'!T$4),100,IF(AND('Tabelle Kaderkriterien'!$H9="m",Übersicht!$C5=14),('Perzentile Männlich'!$B$12*'Perzentile Männlich'!O5^3)+('Perzentile Männlich'!$C$12*'Perzentile Männlich'!O5^2)+('Perzentile Männlich'!$D$12*'Perzentile Männlich'!O5)+'Perzentile Männlich'!$E$12,IF(AND('Tabelle Kaderkriterien'!$H9="m",Übersicht!$C5=15,'Perzentile Männlich'!O5>'Perzentile Männlich'!T$5),100,IF(AND('Tabelle Kaderkriterien'!$H9="m",Übersicht!$C5=15),('Perzentile Männlich'!$B$13*'Perzentile Männlich'!O5^3)+('Perzentile Männlich'!$C$13*'Perzentile Männlich'!O5^2)+('Perzentile Männlich'!$D$13*'Perzentile Männlich'!O5)+'Perzentile Männlich'!$E$13,IF(AND('Tabelle Kaderkriterien'!$H9="m",Übersicht!$C5=16,'Perzentile Männlich'!O5>'Perzentile Männlich'!T$6),100,IF(AND('Tabelle Kaderkriterien'!$H9="m",Übersicht!$C5=16),('Perzentile Männlich'!$B$14*'Perzentile Männlich'!O5^3)+('Perzentile Männlich'!$C$14*'Perzentile Männlich'!O5^2)+('Perzentile Männlich'!$D$14*'Perzentile Männlich'!O5)+'Perzentile Männlich'!$E$14,IF(AND('Tabelle Kaderkriterien'!$H9="m",Übersicht!$C5=12,'Perzentile Männlich'!O5>'Perzentile Männlich'!T$7),100,IF(AND('Tabelle Kaderkriterien'!$H9="m",Übersicht!$C5=12),('Perzentile Männlich'!$B$15*'Perzentile Männlich'!O5^3)+('Perzentile Männlich'!$C$15*'Perzentile Männlich'!O5^2)+('Perzentile Männlich'!$D$15*'Perzentile Männlich'!O5)+'Perzentile Männlich'!$E$15,IF(AND('Tabelle Kaderkriterien'!$H9="m",Übersicht!$C5=11,'Perzentile Männlich'!O5>'Perzentile Männlich'!T$8),100,IF(AND('Tabelle Kaderkriterien'!$H9="m",Übersicht!$C5=11),('Perzentile Männlich'!$B$16*'Perzentile Männlich'!O5^3)+('Perzentile Männlich'!$C$16*'Perzentile Männlich'!O5^2)+('Perzentile Männlich'!$D$16*'Perzentile Männlich'!O5)+'Perzentile Männlich'!$E$16,IF(AND('Tabelle Kaderkriterien'!$H9="w",Übersicht!$C5=13,'Perzentile Weiblich'!O5>'Perzentile Weiblich'!T$3),100,IF(AND('Tabelle Kaderkriterien'!$H9="w",Übersicht!$C5=13),('Perzentile Weiblich'!$B$11*'Perzentile Weiblich'!O5^3)+('Perzentile Weiblich'!$C$11*'Perzentile Weiblich'!O5^2)+('Perzentile Weiblich'!$D$11*'Perzentile Weiblich'!O5)+'Perzentile Weiblich'!$E$11,IF(AND('Tabelle Kaderkriterien'!$H9="w",Übersicht!$C5=14,'Perzentile Weiblich'!O5>'Perzentile Weiblich'!T$4),100,IF(AND('Tabelle Kaderkriterien'!$H9="w",Übersicht!$C5=14),('Perzentile Weiblich'!$B$12*'Perzentile Weiblich'!O5^3)+('Perzentile Weiblich'!$C$12*'Perzentile Weiblich'!O5^2)+('Perzentile Weiblich'!$D$12*'Perzentile Weiblich'!O5)+'Perzentile Weiblich'!$E$12,IF(AND('Tabelle Kaderkriterien'!$H9="w",Übersicht!$C5=15,'Perzentile Weiblich'!O5>'Perzentile Weiblich'!T$5),100,IF(AND('Tabelle Kaderkriterien'!$H9="w",Übersicht!$C5=15),('Perzentile Weiblich'!$B$13*'Perzentile Weiblich'!O5^3)+('Perzentile Weiblich'!$C$13*'Perzentile Weiblich'!O5^2)+('Perzentile Weiblich'!$D$13*'Perzentile Weiblich'!O5)+'Perzentile Weiblich'!$E$13,IF(AND('Tabelle Kaderkriterien'!$H9="w",Übersicht!$C5=16,'Perzentile Weiblich'!O5>'Perzentile Weiblich'!T$6),100,IF(AND('Tabelle Kaderkriterien'!$H9="w",Übersicht!$C5=16),('Perzentile Weiblich'!$B$14*'Perzentile Weiblich'!O5^3)+('Perzentile Weiblich'!$C$14*'Perzentile Weiblich'!O5^2)+('Perzentile Weiblich'!$D$14*'Perzentile Weiblich'!O5)+'Perzentile Weiblich'!$E$14,IF(AND('Tabelle Kaderkriterien'!$H9="w",Übersicht!$C5=12,'Perzentile Weiblich'!O5>'Perzentile Weiblich'!T$7),100,IF(AND('Tabelle Kaderkriterien'!$H9="w",Übersicht!$C5=12),('Perzentile Weiblich'!$B$15*'Perzentile Weiblich'!O5^3)+('Perzentile Weiblich'!$C$15*'Perzentile Weiblich'!O5^2)+('Perzentile Weiblich'!$D$15*'Perzentile Weiblich'!O5)+'Perzentile Weiblich'!$E$15,IF(AND('Tabelle Kaderkriterien'!$H9="w",Übersicht!$C5=11,'Perzentile Weiblich'!O5>'Perzentile Weiblich'!T$8),100,IF(AND('Tabelle Kaderkriterien'!$H9="w",Übersicht!$C5=11),('Perzentile Weiblich'!$B$16*'Perzentile Weiblich'!O5^3)+('Perzentile Weiblich'!$C$16*'Perzentile Weiblich'!O5^2)+('Perzentile Weiblich'!$D$16*'Perzentile Weiblich'!O5)+'Perzentile Weiblich'!$E$16,IF(AND('Tabelle Kaderkriterien'!J9<>"m",'Tabelle Kaderkriterien'!J9<>"!w"),#N/A,#N/A))))))))))))))))))))))))) -> #DIV/0! | P5: =IF(AND('Tabelle Kaderkriterien'!$H9="m",Übersicht!$C5=13,J5<'Perzentile Männlich'!U$3),100,IF(AND('Tabelle Kaderkriterien'!$H9="m",Übersicht!$C5=13),('Perzentile Männlich'!$B$27*J5^3)+('Perzentile Männlich'!$C$27*J5^2)+('Perzentile Männlich'!$D$27*J5)+'Perzentile Männlich'!$E$27,IF(AND('Tabelle Kaderkriterien'!$H9="m",Übersicht!$C5=14,J5<'Perzentile Männlich'!U$4),100,IF(AND('Tabelle Kaderkriterien'!$H9="m",Übersicht!$C5=14),('Perzentile Männlich'!$B$28*J5^3)+('Perzentile Männlich'!$C$28*J5^2)+('Perzentile Männlich'!$D$28*J5)+'Perzentile Männlich'!$E$28,IF(AND('Tabelle Kaderkriterien'!$H9="m",Übersicht!$C5=15,J5<'Perzentile Männlich'!U$5),100,IF(AND('Tabelle Kaderkriterien'!$H9="m",Übersicht!$C5=15),('Perzentile Männlich'!$B$29*J5^3)+('Perzentile Männlich'!$C$29*J5^2)+('Perzentile Männlich'!$D$29*J5)+'Perzentile Männlich'!$E$29,IF(AND('Tabelle Kaderkriterien'!$H9="m",Übersicht!$C5=16,J5<'Perzentile Männlich'!U$6),100,IF(AND('Tabelle Kaderkriterien'!$H9="m",Übersicht!$C5=16),('Perzentile Männlich'!$B$30*J5^3)+('Perzentile Männlich'!$C$30*J5^2)+('Perzentile Männlich'!$D$30*J5)+'Perzentile Männlich'!$E$30,IF(AND('Tabelle Kaderkriterien'!$H9="m",Übersicht!$C5=12,J5<'Perzentile Männlich'!U$7),100,IF(AND('Tabelle Kaderkriterien'!$H9="m",Übersicht!$C5=12),('Perzentile Männlich'!$B$31*J5^3)+('Perzentile Männlich'!$C$31*J5^2)+('Perzentile Männlich'!$D$31*J5)+'Perzentile Männlich'!$E$31,IF(AND('Tabelle Kaderkriterien'!$H9="m",Übersicht!$C5=11,J5<'Perzentile Männlich'!U$8),100,IF(AND('Tabelle Kaderkriterien'!$H9="m",Übersicht!$C5=11),('Perzentile Männlich'!$B$32*J5^3)+('Perzentile Männlich'!$C$32*J5^2)+('Perzentile Männlich'!$D$32*J5)+'Perzentile Männlich'!$E$32,IF(AND('Tabelle Kaderkriterien'!$H9="w",Übersicht!$C5=13,J5<'Perzentile Weiblich'!U$3),100,IF(AND('Tabelle Kaderkriterien'!$H9="w",Übersicht!$C5=13),('Perzentile Weiblich'!$B$27*J5^3)+('Perzentile Weiblich'!$C$27*J5^2)+('Perzentile Weiblich'!$D$27*J5)+'Perzentile Weiblich'!$E$27,IF(AND('Tabelle Kaderkriterien'!$H9="w",Übersicht!$C5=14,J5<'Perzentile Weiblich'!U$4),100,IF(AND('Tabelle Kaderkriterien'!$H9="w",Übersicht!$C5=14),('Perzentile Weiblich'!$B$28*J5^3)+('Perzentile Weiblich'!$C$28*J5^2)+('Perzentile Weiblich'!$D$28*J5)+'Perzentile Weiblich'!$E$28,IF(AND('Tabelle Kaderkriterien'!$H9="w",Übersicht!$C5=15,J5<'Perzentile Weiblich'!U$5),100,IF(AND('Tabelle Kaderkriterien'!$H9="w",Übersicht!$C5=15),('Perzentile Weiblich'!$B$29*J5^3)+('Perzentile Weiblich'!$C$29*J5^2)+('Perzentile Weiblich'!$D$29*J5)+'Perzentile Weiblich'!$E$29,IF(AND('Tabelle Kaderkriterien'!$H9="w",Übersicht!$C5=16,J5<'Perzentile Weiblich'!U$6),100,IF(AND('Tabelle Kaderkriterien'!$H9="w",Übersicht!$C5=16),('Perzentile Weiblich'!$B$30*J5^3)+('Perzentile Weiblich'!$C$30*J5^2)+('Perzentile Weiblich'!$D$30*J5)+'Perzentile Weiblich'!$E$30,IF(AND('Tabelle Kaderkriterien'!$H9="w",Übersicht!$C5=12,J5<'Perzentile Weiblich'!U$7),100,IF(AND('Tabelle Kaderkriterien'!$H9="w",Übersicht!$C5=12),('Perzentile Weiblich'!$B$31*J5^3)+('Perzentile Weiblich'!$C$31*J5^2)+('Perzentile Weiblich'!$D$31*J5)+'Perzentile Weiblich'!$E$31,IF(AND('Tabelle Kaderkriterien'!$H9="w",Übersicht!$C5=11,J5<'Perzentile Weiblich'!U$8),100,IF(AND('Tabelle Kaderkriterien'!$H9="w",Übersicht!$C5=11),('Perzentile Weiblich'!$B$32*J5^3)+('Perzentile Weiblich'!$C$32*J5^2)+('Perzentile Weiblich'!$D$32*J5)+'Perzentile Weiblich'!$E$32,IF(AND('Tabelle Kaderkriterien'!H9<>"m",'Tabelle Kaderkriterien'!H9<>"!w"),#N/A,#N/A))))))))))))))))))))))))) -> #N/A | Q5: =IF(AND('Tabelle Kaderkriterien'!$H9="m",Übersicht!$C5=13,K5>'Perzentile Männlich'!V$3),100,IF(AND('Tabelle Kaderkriterien'!$H9="m",Übersicht!$C5=13),('Perzentile Männlich'!$B$19*K5^3)+('Perzentile Männlich'!$C$19*K5^2)+('Perzentile Männlich'!$D$19*K5)+'Perzentile Männlich'!$E$19,IF(AND('Tabelle Kaderkriterien'!$H9="m",Übersicht!$C5=14,K5>'Perzentile Männlich'!V$4),100,IF(AND('Tabelle Kaderkriterien'!$H9="m",Übersicht!$C5=14),('Perzentile Männlich'!$B$20*K5^3)+('Perzentile Männlich'!$C$20*K5^2)+('Perzentile Männlich'!$D$20*K5)+'Perzentile Männlich'!$E$20,IF(AND('Tabelle Kaderkriterien'!$H9="m",Übersicht!$C5=15,K5>'Perzentile Männlich'!V$5),100,IF(AND('Tabelle Kaderkriterien'!$H9="m",Übersicht!$C5=15),('Perzentile Männlich'!$B$21*K5^3)+('Perzentile Männlich'!$C$21*K5^2)+('Perzentile Männlich'!$D$21*K5)+'Perzentile Männlich'!$E$21,IF(AND('Tabelle Kaderkriterien'!$H9="m",Übersicht!$C5=16,K5>'Perzentile Männlich'!V$6),100,IF(AND('Tabelle Kaderkriterien'!$H9="m",Übersicht!$C5=16),('Perzentile Männlich'!$B$22*K5^3)+('Perzentile Männlich'!$C$22*K5^2)+('Perzentile Männlich'!$D$22*K5)+'Perzentile Männlich'!$E$22,IF(AND('Tabelle Kaderkriterien'!$H9="m",Übersicht!$C5=12,K5>'Perzentile Männlich'!V$7),100,IF(AND('Tabelle Kaderkriterien'!$H9="m",Übersicht!$C5=12),('Perzentile Männlich'!$B$23*K5^3)+('Perzentile Männlich'!$C$23*K5^2)+('Perzentile Männlich'!$D$23*K5)+'Perzentile Männlich'!$E$23,IF(AND('Tabelle Kaderkriterien'!$H9="m",Übersicht!$C5=11,K5>'Perzentile Männlich'!V$8),100,IF(AND('Tabelle Kaderkriterien'!$H9="m",Übersicht!$C5=11),('Perzentile Männlich'!$B$24*K5^3)+('Perzentile Männlich'!$C$24*K5^2)+('Perzentile Männlich'!$D$24*K5)+'Perzentile Männlich'!$E$24,IF(AND('Tabelle Kaderkriterien'!$H9="w",Übersicht!$C5=13,K5>'Perzentile Weiblich'!V$3),100,IF(AND('Tabelle Kaderkriterien'!$H9="w",Übersicht!$C5=13),('Perzentile Weiblich'!$B$19*K5^3)+('Perzentile Weiblich'!$C$19*K5^2)+('Perzentile Weiblich'!$D$19*K5)+'Perzentile Weiblich'!$E$19,IF(AND('Tabelle Kaderkriterien'!$H9="w",Übersicht!$C5=14,K5>'Perzentile Weiblich'!V$4),100,IF(AND('Tabelle Kaderkriterien'!$H9="w",Übersicht!$C5=14),('Perzentile Weiblich'!$B$20*K5^3)+('Perzentile Weiblich'!$C$20*K5^2)+('Perzentile Weiblich'!$D$20*K5)+'Perzentile Weiblich'!$E$20,IF(AND('Tabelle Kaderkriterien'!$H9="w",Übersicht!$C5=15,K5>'Perzentile Weiblich'!V$5),100,IF(AND('Tabelle Kaderkriterien'!$H9="w",Übersicht!$C5=15),('Perzentile Weiblich'!$B$21*K5^3)+('Perzentile Weiblich'!$C$21*K5^2)+('Perzentile Weiblich'!$D$21*K5)+'Perzentile Weiblich'!$E$21,IF(AND('Tabelle Kaderkriterien'!$H9="w",Übersicht!$C5=16,K5>'Perzentile Weiblich'!V$6),100,IF(AND('Tabelle Kaderkriterien'!$H9="w",Übersicht!$C5=16),('Perzentile Weiblich'!$B$22*K5^3)+('Perzentile Weiblich'!$C$22*K5^2)+('Perzentile Weiblich'!$D$22*K5)+'Perzentile Weiblich'!$E$22,IF(AND('Tabelle Kaderkriterien'!$H9="w",Übersicht!$C5=12,K5>'Perzentile Weiblich'!V$7),100,IF(AND('Tabelle Kaderkriterien'!$H9="w",Übersicht!$C5=12),('Perzentile Weiblich'!$B$23*K5^3)+('Perzentile Weiblich'!$C$23*K5^2)+('Perzentile Weiblich'!$D$23*K5)+'Perzentile Weiblich'!$E$23,IF(AND('Tabelle Kaderkriterien'!$H9="w",Übersicht!$C5=11,K5>'Perzentile Weiblich'!V$8),100,IF(AND('Tabelle Kaderkriterien'!$H9="w",Übersicht!$C5=11),('Perzentile Weiblich'!$B$24*K5^3)+('Perzentile Weiblich'!$C$24*K5^2)+('Perzentile Weiblich'!$D$24*K5)+'Perzentile Weiblich'!$E$24,IF(AND('Tabelle Kaderkriterien'!I9<>"m",'Tabelle Kaderkriterien'!I9<>"!w"),#N/A,#N/A))))))))))))))))))))))))) -> #N/A | S5: =M5*0.25+N5*0.25+O5*0.19+P5*0.14+Q5*0.17 -> #DIV/0! | T5: =M5*0.25+N5*0.25+O5*0.19+P5*0.14+Q5*0.17 -> #DIV/0!
A6: ='Tabelle Kaderkriterien'!B10 -> 0 | B6: ='Tabelle Kaderkriterien'!C10 -> 0 | C6: ='Tabelle Kaderkriterien'!G10 -> 0 | D6: ='Tabelle Kaderkriterien'!K10 -> 0 | E6: ='Tabelle Kaderkriterien'!L10 -> 0 | F6: ='Tabelle Kaderkriterien'!N10 -> 0 | G6: ='Tabelle Kaderkriterien'!O10 -> 0 | H6: ='Tabelle Kaderkriterien'!Q10 -> 0 | I6: ='Tabelle Kaderkriterien'!R10 -> 0 | J6: ='Tabelle Kaderkriterien'!T10 -> 0 | K6: ='Tabelle Kaderkriterien'!V10 -> 0 | M6: =IF(AND('Tabelle Kaderkriterien'!$H10="m",Übersicht!$C6=13,'Perzentile Männlich'!M6>'Perzentile Männlich'!R$3),100,IF(AND('Tabelle Kaderkriterien'!$H10="m",Übersicht!$C6=13),('Perzentile Männlich'!$B$35*'Perzentile Männlich'!M6^3)+('Perzentile Männlich'!$C$35*'Perzentile Männlich'!M6^2)+('Perzentile Männlich'!$D$35*'Perzentile Männlich'!M6)+'Perzentile Männlich'!$E$35,IF(AND('Tabelle Kaderkriterien'!$H10="m",Übersicht!$C6=14,'Perzentile Männlich'!M6>'Perzentile Männlich'!R$4),100,IF(AND('Tabelle Kaderkriterien'!$H10="m",Übersicht!$C6=14),('Perzentile Männlich'!$B$36*'Perzentile Männlich'!M6^3)+('Perzentile Männlich'!$C$36*'Perzentile Männlich'!M6^2)+('Perzentile Männlich'!$D$36*'Perzentile Männlich'!M6)+'Perzentile Männlich'!$E$36,IF(AND('Tabelle Kaderkriterien'!$H10="m",Übersicht!$C6=15,'Perzentile Männlich'!M6>'Perzentile Männlich'!R$5),100,IF(AND('Tabelle Kaderkriterien'!$H10="m",Übersicht!$C6=15),('Perzentile Männlich'!$B$37*'Perzentile Männlich'!M6^3)+('Perzentile Männlich'!$C$37*'Perzentile Männlich'!M6^2)+('Perzentile Männlich'!$D$37*'Perzentile Männlich'!M6)+'Perzentile Männlich'!$E$37,IF(AND('Tabelle Kaderkriterien'!$H10="m",Übersicht!$C6=16,'Perzentile Männlich'!M6>'Perzentile Männlich'!R$6),100,IF(AND('Tabelle Kaderkriterien'!$H10="m",Übersicht!$C6=16),('Perzentile Männlich'!$B$38*'Perzentile Männlich'!M6^3)+('Perzentile Männlich'!$C$38*'Perzentile Männlich'!M6^2)+('Perzentile Männlich'!$D$38*'Perzentile Männlich'!M6)+'Perzentile Männlich'!$E$38,IF(AND('Tabelle Kaderkriterien'!$H10="m",Übersicht!$C6=12,'Perzentile Männlich'!M6>'Perzentile Männlich'!R$7),100,IF(AND('Tabelle Kaderkriterien'!$H10="m",Übersicht!$C6=12),('Perzentile Männlich'!$B$39*'Perzentile Männlich'!M6^3)+('Perzentile Männlich'!$C$39*'Perzentile Männlich'!M6^2)+('Perzentile Männlich'!$D$39*'Perzentile Männlich'!M6)+'Perzentile Männlich'!$E$39,IF(AND('Tabelle Kaderkriterien'!$H10="m",Übersicht!$C6=11,'Perzentile Männlich'!M6>'Perzentile Männlich'!R$8),100,IF(AND('Tabelle Kaderkriterien'!$H10="m",Übersicht!$C6=11),('Perzentile Männlich'!$B$40*'Perzentile Männlich'!M6^3)+('Perzentile Männlich'!$C$40*'Perzentile Männlich'!M6^2)+('Perzentile Männlich'!$D$40*'Perzentile Männlich'!M6)+'Perzentile Männlich'!$E$40,IF(AND('Tabelle Kaderkriterien'!$H10="w",Übersicht!$C6=13,'Perzentile Weiblich'!M6>'Perzentile Weiblich'!R$3),100,IF(AND('Tabelle Kaderkriterien'!$H10="w",Übersicht!$C6=13),('Perzentile Weiblich'!$B$35*'Perzentile Weiblich'!M6^3)+('Perzentile Weiblich'!$C$35*'Perzentile Weiblich'!M6^2)+('Perzentile Weiblich'!$D$35*'Perzentile Weiblich'!M6)+'Perzentile Weiblich'!$E$35,IF(AND('Tabelle Kaderkriterien'!$H10="w",Übersicht!$C6=14,'Perzentile Weiblich'!M6>'Perzentile Weiblich'!R$4),100,IF(AND('Tabelle Kaderkriterien'!$H10="w",Übersicht!$C6=14),('Perzentile Weiblich'!$B$36*'Perzentile Weiblich'!M6^3)+('Perzentile Weiblich'!$C$36*'Perzentile Weiblich'!M6^2)+('Perzentile Weiblich'!$D$36*'Perzentile Weiblich'!M6)+'Perzentile Weiblich'!$E$36,IF(AND('Tabelle Kaderkriterien'!$H10="w",Übersicht!$C6=15,'Perzentile Weiblich'!M6>'Perzentile Weiblich'!R$5),100,IF(AND('Tabelle Kaderkriterien'!$H10="w",Übersicht!$C6=15),('Perzentile Weiblich'!$B$37*'Perzentile Weiblich'!M6^3)+('Perzentile Weiblich'!$C$37*'Perzentile Weiblich'!M6^2)+('Perzentile Weiblich'!$D$37*'Perzentile Weiblich'!M6)+'Perzentile Weiblich'!$E$37,IF(AND('Tabelle Kaderkriterien'!$H10="w",Übersicht!$C6=16,'Perzentile Weiblich'!M6>'Perzentile Weiblich'!R$6),100,IF(AND('Tabelle Kaderkriterien'!$H10="w",Übersicht!$C6=16),('Perzentile Weiblich'!$B$38*'Perzentile Weiblich'!M6^3)+('Perzentile Weiblich'!$C$38*'Perzentile Weiblich'!M6^2)+('Perzentile Weiblich'!$D$38*'Perzentile Weiblich'!M6)+'Perzentile Weiblich'!$E$38,IF(AND('Tabelle Kaderkriterien'!$H10="w",Übersicht!$C6=12,'Perzentile Weiblich'!M6>'Perzentile Weiblich'!R$7),100,IF(AND('Tabelle Kaderkriterien'!$H10="w",Übersicht!$C6=12),('Perzentile Weiblich'!$B$39*'Perzentile Weiblich'!M6^3)+('Perzentile Weiblich'!$C$39*'Perzentile Weiblich'!M6^2)+('Perzentile Weiblich'!$D$39*'Perzentile Weiblich'!M6)+'Perzentile Weiblich'!$E$39,IF(AND('Tabelle Kaderkriterien'!$H10="w",Übersicht!$C6=11,'Perzentile Weiblich'!M6>'Perzentile Weiblich'!R$8),100,IF(AND('Tabelle Kaderkriterien'!$H10="w",Übersicht!$C6=11),('Perzentile Weiblich'!$B$40*'Perzentile Weiblich'!M6^3)+('Perzentile Weiblich'!$C$40*'Perzentile Weiblich'!M6^2)+('Perzentile Weiblich'!$D$40*'Perzentile Weiblich'!M6)+'Perzentile Weiblich'!$E$40,IF(AND('Tabelle Kaderkriterien'!H10<>"m",'Tabelle Kaderkriterien'!H10<>"!w"),#N/A,#N/A))))))))))))))))))))))))) -> #DIV/0! | N6: =IF(AND('Tabelle Kaderkriterien'!$H10="m",Übersicht!$C6=13,'Perzentile Männlich'!N6>'Perzentile Männlich'!S$3),100,IF(AND('Tabelle Kaderkriterien'!$H10="m",Übersicht!$C6=13),('Perzentile Männlich'!$B$43*'Perzentile Männlich'!N6^3)+('Perzentile Männlich'!$C$43*'Perzentile Männlich'!N6^2)+('Perzentile Männlich'!$D$43*'Perzentile Männlich'!N6)+'Perzentile Männlich'!$E$43,IF(AND('Tabelle Kaderkriterien'!$H10="m",Übersicht!$C6=14,'Perzentile Männlich'!N6>'Perzentile Männlich'!S$4),100,IF(AND('Tabelle Kaderkriterien'!$H10="m",Übersicht!$C6=14),('Perzentile Männlich'!$B$44*'Perzentile Männlich'!N6^3)+('Perzentile Männlich'!$C$44*'Perzentile Männlich'!N6^2)+('Perzentile Männlich'!$D$44*'Perzentile Männlich'!N6)+'Perzentile Männlich'!$E$44,IF(AND('Tabelle Kaderkriterien'!$H10="m",Übersicht!$C6=15,'Perzentile Männlich'!N6>'Perzentile Männlich'!S$5),100,IF(AND('Tabelle Kaderkriterien'!$H10="m",Übersicht!$C6=15),('Perzentile Männlich'!$B$45*'Perzentile Männlich'!N6^3)+('Perzentile Männlich'!$C$45*'Perzentile Männlich'!N6^2)+('Perzentile Männlich'!$D$45*'Perzentile Männlich'!N6)+'Perzentile Männlich'!$E$45,IF(AND('Tabelle Kaderkriterien'!$H10="m",Übersicht!$C6=16,'Perzentile Männlich'!N6>'Perzentile Männlich'!S$6),100,IF(AND('Tabelle Kaderkriterien'!$H10="m",Übersicht!$C6=16),('Perzentile Männlich'!$B$46*'Perzentile Männlich'!N6^3)+('Perzentile Männlich'!$C$46*'Perzentile Männlich'!N6^2)+('Perzentile Männlich'!$D$46*'Perzentile Männlich'!N6)+'Perzentile Männlich'!$E$46,IF(AND('Tabelle Kaderkriterien'!$H10="m",Übersicht!$C6=12,'Perzentile Männlich'!N6>'Perzentile Männlich'!S$7),100,IF(AND('Tabelle Kaderkriterien'!$H10="m",Übersicht!$C6=12),('Perzentile Männlich'!$B$47*'Perzentile Männlich'!N6^3)+('Perzentile Männlich'!$C$47*'Perzentile Männlich'!N6^2)+('Perzentile Männlich'!$D$47*'Perzentile Männlich'!N6)+'Perzentile Männlich'!$E$47,IF(AND('Tabelle Kaderkriterien'!$H10="m",Übersicht!$C6=11,'Perzentile Männlich'!N6>'Perzentile Männlich'!S$8),100,IF(AND('Tabelle Kaderkriterien'!$H10="m",Übersicht!$C6=11),('Perzentile Männlich'!$B$48*'Perzentile Männlich'!N6^3)+('Perzentile Männlich'!$C$48*'Perzentile Männlich'!N6^2)+('Perzentile Männlich'!$D$48*'Perzentile Männlich'!N6)+'Perzentile Männlich'!$E$48,IF(AND('Tabelle Kaderkriterien'!$H10="w",Übersicht!$C6=13,'Perzentile Weiblich'!N6>'Perzentile Weiblich'!S$3),100,IF(AND('Tabelle Kaderkriterien'!$H10="w",Übersicht!$C6=13),('Perzentile Weiblich'!$B$43*'Perzentile Weiblich'!N6^3)+('Perzentile Weiblich'!$C$43*'Perzentile Weiblich'!N6^2)+('Perzentile Weiblich'!$D$43*'Perzentile Weiblich'!N6)+'Perzentile Weiblich'!$E$43,IF(AND('Tabelle Kaderkriterien'!$H10="w",Übersicht!$C6=14,'Perzentile Weiblich'!N6>'Perzentile Weiblich'!S$4),100,IF(AND('Tabelle Kaderkriterien'!$H10="w",Übersicht!$C6=14),('Perzentile Weiblich'!$B$44*'Perzentile Weiblich'!N6^3)+('Perzentile Weiblich'!$C$44*'Perzentile Weiblich'!N6^2)+('Perzentile Weiblich'!$D$44*'Perzentile Weiblich'!N6)+'Perzentile Weiblich'!$E$44,IF(AND('Tabelle Kaderkriterien'!$H10="w",Übersicht!$C6=15,'Perzentile Weiblich'!N6>'Perzentile Weiblich'!S$5),100,IF(AND('Tabelle Kaderkriterien'!$H10="w",Übersicht!$C6=15),('Perzentile Weiblich'!$B$45*'Perzentile Weiblich'!N6^3)+('Perzentile Weiblich'!$C$45*'Perzentile Weiblich'!N6^2)+('Perzentile Weiblich'!$D$45*'Perzentile Weiblich'!N6)+'Perzentile Weiblich'!$E$45,IF(AND('Tabelle Kaderkriterien'!$H10="w",Übersicht!$C6=16,'Perzentile Weiblich'!N6>'Perzentile Weiblich'!S$6),100,IF(AND('Tabelle Kaderkriterien'!$H10="w",Übersicht!$C6=16),('Perzentile Weiblich'!$B$46*'Perzentile Weiblich'!N6^3)+('Perzentile Weiblich'!$C$46*'Perzentile Weiblich'!N6^2)+('Perzentile Weiblich'!$D$46*'Perzentile Weiblich'!N6)+'Perzentile Weiblich'!$E$46,IF(AND('Tabelle Kaderkriterien'!$H10="w",Übersicht!$C6=12,'Perzentile Weiblich'!N6>'Perzentile Weiblich'!S$7),100,IF(AND('Tabelle Kaderkriterien'!$H10="w",Übersicht!$C6=12),('Perzentile Weiblich'!$B$47*'Perzentile Weiblich'!N6^3)+('Perzentile Weiblich'!$C$47*'Perzentile Weiblich'!N6^2)+('Perzentile Weiblich'!$D$47*'Perzentile Weiblich'!N6)+'Perzentile Weiblich'!$E$47,IF(AND('Tabelle Kaderkriterien'!$H10="w",Übersicht!$C6=11,'Perzentile Weiblich'!N6>'Perzentile Weiblich'!S$8),100,IF(AND('Tabelle Kaderkriterien'!$H10="w",Übersicht!$C6=11),('Perzentile Weiblich'!$B$48*'Perzentile Weiblich'!N6^3)+('Perzentile Weiblich'!$C$48*'Perzentile Weiblich'!N6^2)+('Perzentile Weiblich'!$D$48*'Perzentile Weiblich'!N6)+'Perzentile Weiblich'!$E$48,IF(AND('Tabelle Kaderkriterien'!I10<>"m",'Tabelle Kaderkriterien'!I10<>"!w"),#N/A,#N/A))))))))))))))))))))))))) -> #DIV/0! | O6: =IF(AND('Tabelle Kaderkriterien'!$H10="m",Übersicht!$C6=13,'Perzentile Männlich'!O6>'Perzentile Männlich'!T$3),100,IF(AND('Tabelle Kaderkriterien'!$H10="m",Übersicht!$C6=13),('Perzentile Männlich'!$B$11*'Perzentile Männlich'!O6^3)+('Perzentile Männlich'!$C$11*'Perzentile Männlich'!O6^2)+('Perzentile Männlich'!$D$11*'Perzentile Männlich'!O6)+'Perzentile Männlich'!$E$11,IF(AND('Tabelle Kaderkriterien'!$H10="m",Übersicht!$C6=14,'Perzentile Männlich'!O6>'Perzentile Männlich'!T$4),100,IF(AND('Tabelle Kaderkriterien'!$H10="m",Übersicht!$C6=14),('Perzentile Männlich'!$B$12*'Perzentile Männlich'!O6^3)+('Perzentile Männlich'!$C$12*'Perzentile Männlich'!O6^2)+('Perzentile Männlich'!$D$12*'Perzentile Männlich'!O6)+'Perzentile Männlich'!$E$12,IF(AND('Tabelle Kaderkriterien'!$H10="m",Übersicht!$C6=15,'Perzentile Männlich'!O6>'Perzentile Männlich'!T$5),100,IF(AND('Tabelle Kaderkriterien'!$H10="m",Übersicht!$C6=15),('Perzentile Männlich'!$B$13*'Perzentile Männlich'!O6^3)+('Perzentile Männlich'!$C$13*'Perzentile Männlich'!O6^2)+('Perzentile Männlich'!$D$13*'Perzentile Männlich'!O6)+'Perzentile Männlich'!$E$13,IF(AND('Tabelle Kaderkriterien'!$H10="m",Übersicht!$C6=16,'Perzentile Männlich'!O6>'Perzentile Männlich'!T$6),100,IF(AND('Tabelle Kaderkriterien'!$H10="m",Übersicht!$C6=16),('Perzentile Männlich'!$B$14*'Perzentile Männlich'!O6^3)+('Perzentile Männlich'!$C$14*'Perzentile Männlich'!O6^2)+('Perzentile Männlich'!$D$14*'Perzentile Männlich'!O6)+'Perzentile Männlich'!$E$14,IF(AND('Tabelle Kaderkriterien'!$H10="m",Übersicht!$C6=12,'Perzentile Männlich'!O6>'Perzentile Männlich'!T$7),100,IF(AND('Tabelle Kaderkriterien'!$H10="m",Übersicht!$C6=12),('Perzentile Männlich'!$B$15*'Perzentile Männlich'!O6^3)+('Perzentile Männlich'!$C$15*'Perzentile Männlich'!O6^2)+('Perzentile Männlich'!$D$15*'Perzentile Männlich'!O6)+'Perzentile Männlich'!$E$15,IF(AND('Tabelle Kaderkriterien'!$H10="m",Übersicht!$C6=11,'Perzentile Männlich'!O6>'Perzentile Männlich'!T$8),100,IF(AND('Tabelle Kaderkriterien'!$H10="m",Übersicht!$C6=11),('Perzentile Männlich'!$B$16*'Perzentile Männlich'!O6^3)+('Perzentile Männlich'!$C$16*'Perzentile Männlich'!O6^2)+('Perzentile Männlich'!$D$16*'Perzentile Männlich'!O6)+'Perzentile Männlich'!$E$16,IF(AND('Tabelle Kaderkriterien'!$H10="w",Übersicht!$C6=13,'Perzentile Weiblich'!O6>'Perzentile Weiblich'!T$3),100,IF(AND('Tabelle Kaderkriterien'!$H10="w",Übersicht!$C6=13),('Perzentile Weiblich'!$B$11*'Perzentile Weiblich'!O6^3)+('Perzentile Weiblich'!$C$11*'Perzentile Weiblich'!O6^2)+('Perzentile Weiblich'!$D$11*'Perzentile Weiblich'!O6)+'Perzentile Weiblich'!$E$11,IF(AND('Tabelle Kaderkriterien'!$H10="w",Übersicht!$C6=14,'Perzentile Weiblich'!O6>'Perzentile Weiblich'!T$4),100,IF(AND('Tabelle Kaderkriterien'!$H10="w",Übersicht!$C6=14),('Perzentile Weiblich'!$B$12*'Perzentile Weiblich'!O6^3)+('Perzentile Weiblich'!$C$12*'Perzentile Weiblich'!O6^2)+('Perzentile Weiblich'!$D$12*'Perzentile Weiblich'!O6)+'Perzentile Weiblich'!$E$12,IF(AND('Tabelle Kaderkriterien'!$H10="w",Übersicht!$C6=15,'Perzentile Weiblich'!O6>'Perzentile Weiblich'!T$5),100,IF(AND('Tabelle Kaderkriterien'!$H10="w",Übersicht!$C6=15),('Perzentile Weiblich'!$B$13*'Perzentile Weiblich'!O6^3)+('Perzentile Weiblich'!$C$13*'Perzentile Weiblich'!O6^2)+('Perzentile Weiblich'!$D$13*'Perzentile Weiblich'!O6)+'Perzentile Weiblich'!$E$13,IF(AND('Tabelle Kaderkriterien'!$H10="w",Übersicht!$C6=16,'Perzentile Weiblich'!O6>'Perzentile Weiblich'!T$6),100,IF(AND('Tabelle Kaderkriterien'!$H10="w",Übersicht!$C6=16),('Perzentile Weiblich'!$B$14*'Perzentile Weiblich'!O6^3)+('Perzentile Weiblich'!$C$14*'Perzentile Weiblich'!O6^2)+('Perzentile Weiblich'!$D$14*'Perzentile Weiblich'!O6)+'Perzentile Weiblich'!$E$14,IF(AND('Tabelle Kaderkriterien'!$H10="w",Übersicht!$C6=12,'Perzentile Weiblich'!O6>'Perzentile Weiblich'!T$7),100,IF(AND('Tabelle Kaderkriterien'!$H10="w",Übersicht!$C6=12),('Perzentile Weiblich'!$B$15*'Perzentile Weiblich'!O6^3)+('Perzentile Weiblich'!$C$15*'Perzentile Weiblich'!O6^2)+('Perzentile Weiblich'!$D$15*'Perzentile Weiblich'!O6)+'Perzentile Weiblich'!$E$15,IF(AND('Tabelle Kaderkriterien'!$H10="w",Übersicht!$C6=11,'Perzentile Weiblich'!O6>'Perzentile Weiblich'!T$8),100,IF(AND('Tabelle Kaderkriterien'!$H10="w",Übersicht!$C6=11),('Perzentile Weiblich'!$B$16*'Perzentile Weiblich'!O6^3)+('Perzentile Weiblich'!$C$16*'Perzentile Weiblich'!O6^2)+('Perzentile Weiblich'!$D$16*'Perzentile Weiblich'!O6)+'Perzentile Weiblich'!$E$16,IF(AND('Tabelle Kaderkriterien'!J10<>"m",'Tabelle Kaderkriterien'!J10<>"!w"),#N/A,#N/A))))))))))))))))))))))))) -> #DIV/0! | P6: =IF(AND('Tabelle Kaderkriterien'!$H10="m",Übersicht!$C6=13,J6<'Perzentile Männlich'!U$3),100,IF(AND('Tabelle Kaderkriterien'!$H10="m",Übersicht!$C6=13),('Perzentile Männlich'!$B$27*J6^3)+('Perzentile Männlich'!$C$27*J6^2)+('Perzentile Männlich'!$D$27*J6)+'Perzentile Männlich'!$E$27,IF(AND('Tabelle Kaderkriterien'!$H10="m",Übersicht!$C6=14,J6<'Perzentile Männlich'!U$4),100,IF(AND('Tabelle Kaderkriterien'!$H10="m",Übersicht!$C6=14),('Perzentile Männlich'!$B$28*J6^3)+('Perzentile Männlich'!$C$28*J6^2)+('Perzentile Männlich'!$D$28*J6)+'Perzentile Männlich'!$E$28,IF(AND('Tabelle Kaderkriterien'!$H10="m",Übersicht!$C6=15,J6<'Perzentile Männlich'!U$5),100,IF(AND('Tabelle Kaderkriterien'!$H10="m",Übersicht!$C6=15),('Perzentile Männlich'!$B$29*J6^3)+('Perzentile Männlich'!$C$29*J6^2)+('Perzentile Männlich'!$D$29*J6)+'Perzentile Männlich'!$E$29,IF(AND('Tabelle Kaderkriterien'!$H10="m",Übersicht!$C6=16,J6<'Perzentile Männlich'!U$6),100,IF(AND('Tabelle Kaderkriterien'!$H10="m",Übersicht!$C6=16),('Perzentile Männlich'!$B$30*J6^3)+('Perzentile Männlich'!$C$30*J6^2)+('Perzentile Männlich'!$D$30*J6)+'Perzentile Männlich'!$E$30,IF(AND('Tabelle Kaderkriterien'!$H10="m",Übersicht!$C6=12,J6<'Perzentile Männlich'!U$7),100,IF(AND('Tabelle Kaderkriterien'!$H10="m",Übersicht!$C6=12),('Perzentile Männlich'!$B$31*J6^3)+('Perzentile Männlich'!$C$31*J6^2)+('Perzentile Männlich'!$D$31*J6)+'Perzentile Männlich'!$E$31,IF(AND('Tabelle Kaderkriterien'!$H10="m",Übersicht!$C6=11,J6<'Perzentile Männlich'!U$8),100,IF(AND('Tabelle Kaderkriterien'!$H10="m",Übersicht!$C6=11),('Perzentile Männlich'!$B$32*J6^3)+('Perzentile Männlich'!$C$32*J6^2)+('Perzentile Männlich'!$D$32*J6)+'Perzentile Männlich'!$E$32,IF(AND('Tabelle Kaderkriterien'!$H10="w",Übersicht!$C6=13,J6<'Perzentile Weiblich'!U$3),100,IF(AND('Tabelle Kaderkriterien'!$H10="w",Übersicht!$C6=13),('Perzentile Weiblich'!$B$27*J6^3)+('Perzentile Weiblich'!$C$27*J6^2)+('Perzentile Weiblich'!$D$27*J6)+'Perzentile Weiblich'!$E$27,IF(AND('Tabelle Kaderkriterien'!$H10="w",Übersicht!$C6=14,J6<'Perzentile Weiblich'!U$4),100,IF(AND('Tabelle Kaderkriterien'!$H10="w",Übersicht!$C6=14),('Perzentile Weiblich'!$B$28*J6^3)+('Perzentile Weiblich'!$C$28*J6^2)+('Perzentile Weiblich'!$D$28*J6)+'Perzentile Weiblich'!$E$28,IF(AND('Tabelle Kaderkriterien'!$H10="w",Übersicht!$C6=15,J6<'Perzentile Weiblich'!U$5),100,IF(AND('Tabelle Kaderkriterien'!$H10="w",Übersicht!$C6=15),('Perzentile Weiblich'!$B$29*J6^3)+('Perzentile Weiblich'!$C$29*J6^2)+('Perzentile Weiblich'!$D$29*J6)+'Perzentile Weiblich'!$E$29,IF(AND('Tabelle Kaderkriterien'!$H10="w",Übersicht!$C6=16,J6<'Perzentile Weiblich'!U$6),100,IF(AND('Tabelle Kaderkriterien'!$H10="w",Übersicht!$C6=16),('Perzentile Weiblich'!$B$30*J6^3)+('Perzentile Weiblich'!$C$30*J6^2)+('Perzentile Weiblich'!$D$30*J6)+'Perzentile Weiblich'!$E$30,IF(AND('Tabelle Kaderkriterien'!$H10="w",Übersicht!$C6=12,J6<'Perzentile Weiblich'!U$7),100,IF(AND('Tabelle Kaderkriterien'!$H10="w",Übersicht!$C6=12),('Perzentile Weiblich'!$B$31*J6^3)+('Perzentile Weiblich'!$C$31*J6^2)+('Perzentile Weiblich'!$D$31*J6)+'Perzentile Weiblich'!$E$31,IF(AND('Tabelle Kaderkriterien'!$H10="w",Übersicht!$C6=11,J6<'Perzentile Weiblich'!U$8),100,IF(AND('Tabelle Kaderkriterien'!$H10="w",Übersicht!$C6=11),('Perzentile Weiblich'!$B$32*J6^3)+('Perzentile Weiblich'!$C$32*J6^2)+('Perzentile Weiblich'!$D$32*J6)+'Perzentile Weiblich'!$E$32,IF(AND('Tabelle Kaderkriterien'!H10<>"m",'Tabelle Kaderkriterien'!H10<>"!w"),#N/A,#N/A))))))))))))))))))))))))) -> #N/A | Q6: =IF(AND('Tabelle Kaderkriterien'!$H10="m",Übersicht!$C6=13,K6>'Perzentile Männlich'!V$3),100,IF(AND('Tabelle Kaderkriterien'!$H10="m",Übersicht!$C6=13),('Perzentile Männlich'!$B$19*K6^3)+('Perzentile Männlich'!$C$19*K6^2)+('Perzentile Männlich'!$D$19*K6)+'Perzentile Männlich'!$E$19,IF(AND('Tabelle Kaderkriterien'!$H10="m",Übersicht!$C6=14,K6>'Perzentile Männlich'!V$4),100,IF(AND('Tabelle Kaderkriterien'!$H10="m",Übersicht!$C6=14),('Perzentile Männlich'!$B$20*K6^3)+('Perzentile Männlich'!$C$20*K6^2)+('Perzentile Männlich'!$D$20*K6)+'Perzentile Männlich'!$E$20,IF(AND('Tabelle Kaderkriterien'!$H10="m",Übersicht!$C6=15,K6>'Perzentile Männlich'!V$5),100,IF(AND('Tabelle Kaderkriterien'!$H10="m",Übersicht!$C6=15),('Perzentile Männlich'!$B$21*K6^3)+('Perzentile Männlich'!$C$21*K6^2)+('Perzentile Männlich'!$D$21*K6)+'Perzentile Männlich'!$E$21,IF(AND('Tabelle Kaderkriterien'!$H10="m",Übersicht!$C6=16,K6>'Perzentile Männlich'!V$6),100,IF(AND('Tabelle Kaderkriterien'!$H10="m",Übersicht!$C6=16),('Perzentile Männlich'!$B$22*K6^3)+('Perzentile Männlich'!$C$22*K6^2)+('Perzentile Männlich'!$D$22*K6)+'Perzentile Männlich'!$E$22,IF(AND('Tabelle Kaderkriterien'!$H10="m",Übersicht!$C6=12,K6>'Perzentile Männlich'!V$7),100,IF(AND('Tabelle Kaderkriterien'!$H10="m",Übersicht!$C6=12),('Perzentile Männlich'!$B$23*K6^3)+('Perzentile Männlich'!$C$23*K6^2)+('Perzentile Männlich'!$D$23*K6)+'Perzentile Männlich'!$E$23,IF(AND('Tabelle Kaderkriterien'!$H10="m",Übersicht!$C6=11,K6>'Perzentile Männlich'!V$8),100,IF(AND('Tabelle Kaderkriterien'!$H10="m",Übersicht!$C6=11),('Perzentile Männlich'!$B$24*K6^3)+('Perzentile Männlich'!$C$24*K6^2)+('Perzentile Männlich'!$D$24*K6)+'Perzentile Männlich'!$E$24,IF(AND('Tabelle Kaderkriterien'!$H10="w",Übersicht!$C6=13,K6>'Perzentile Weiblich'!V$3),100,IF(AND('Tabelle Kaderkriterien'!$H10="w",Übersicht!$C6=13),('Perzentile Weiblich'!$B$19*K6^3)+('Perzentile Weiblich'!$C$19*K6^2)+('Perzentile Weiblich'!$D$19*K6)+'Perzentile Weiblich'!$E$19,IF(AND('Tabelle Kaderkriterien'!$H10="w",Übersicht!$C6=14,K6>'Perzentile Weiblich'!V$4),100,IF(AND('Tabelle Kaderkriterien'!$H10="w",Übersicht!$C6=14),('Perzentile Weiblich'!$B$20*K6^3)+('Perzentile Weiblich'!$C$20*K6^2)+('Perzentile Weiblich'!$D$20*K6)+'Perzentile Weiblich'!$E$20,IF(AND('Tabelle Kaderkriterien'!$H10="w",Übersicht!$C6=15,K6>'Perzentile Weiblich'!V$5),100,IF(AND('Tabelle Kaderkriterien'!$H10="w",Übersicht!$C6=15),('Perzentile Weiblich'!$B$21*K6^3)+('Perzentile Weiblich'!$C$21*K6^2)+('Perzentile Weiblich'!$D$21*K6)+'Perzentile Weiblich'!$E$21,IF(AND('Tabelle Kaderkriterien'!$H10="w",Übersicht!$C6=16,K6>'Perzentile Weiblich'!V$6),100,IF(AND('Tabelle Kaderkriterien'!$H10="w",Übersicht!$C6=16),('Perzentile Weiblich'!$B$22*K6^3)+('Perzentile Weiblich'!$C$22*K6^2)+('Perzentile Weiblich'!$D$22*K6)+'Perzentile Weiblich'!$E$22,IF(AND('Tabelle Kaderkriterien'!$H10="w",Übersicht!$C6=12,K6>'Perzentile Weiblich'!V$7),100,IF(AND('Tabelle Kaderkriterien'!$H10="w",Übersicht!$C6=12),('Perzentile Weiblich'!$B$23*K6^3)+('Perzentile Weiblich'!$C$23*K6^2)+('Perzentile Weiblich'!$D$23*K6)+'Perzentile Weiblich'!$E$23,IF(AND('Tabelle Kaderkriterien'!$H10="w",Übersicht!$C6=11,K6>'Perzentile Weiblich'!V$8),100,IF(AND('Tabelle Kaderkriterien'!$H10="w",Übersicht!$C6=11),('Perzentile Weiblich'!$B$24*K6^3)+('Perzentile Weiblich'!$C$24*K6^2)+('Perzentile Weiblich'!$D$24*K6)+'Perzentile Weiblich'!$E$24,IF(AND('Tabelle Kaderkriterien'!I10<>"m",'Tabelle Kaderkriterien'!I10<>"!w"),#N/A,#N/A))))))))))))))))))))))))) -> #N/A | S6: =M6*0.25+N6*0.25+O6*0.19+P6*0.14+Q6*0.17 -> #DIV/0! | T6: =M6*0.25+N6*0.25+O6*0.19+P6*0.14+Q6*0.17 -> #DIV/0!
A7: ='Tabelle Kaderkriterien'!B11 -> 0 | B7: ='Tabelle Kaderkriterien'!C11 -> 0 | C7: ='Tabelle Kaderkriterien'!G11 -> 0 | D7: ='Tabelle Kaderkriterien'!K11 -> 0 | E7: ='Tabelle Kaderkriterien'!L11 -> 0 | F7: ='Tabelle Kaderkriterien'!N11 -> 0 | G7: ='Tabelle Kaderkriterien'!O11 -> 0 | H7: ='Tabelle Kaderkriterien'!Q11 -> 0 | I7: ='Tabelle Kaderkriterien'!R11 -> 0 | J7: ='Tabelle Kaderkriterien'!T11 -> 0 | K7: ='Tabelle Kaderkriterien'!V11 -> 0 | M7: =IF(AND('Tabelle Kaderkriterien'!$H11="m",Übersicht!$C7=13,'Perzentile Männlich'!M7>'Perzentile Männlich'!R$3),100,IF(AND('Tabelle Kaderkriterien'!$H11="m",Übersicht!$C7=13),('Perzentile Männlich'!$B$35*'Perzentile Männlich'!M7^3)+('Perzentile Männlich'!$C$35*'Perzentile Männlich'!M7^2)+('Perzentile Männlich'!$D$35*'Perzentile Männlich'!M7)+'Perzentile Männlich'!$E$35,IF(AND('Tabelle Kaderkriterien'!$H11="m",Übersicht!$C7=14,'Perzentile Männlich'!M7>'Perzentile Männlich'!R$4),100,IF(AND('Tabelle Kaderkriterien'!$H11="m",Übersicht!$C7=14),('Perzentile Männlich'!$B$36*'Perzentile Männlich'!M7^3)+('Perzentile Männlich'!$C$36*'Perzentile Männlich'!M7^2)+('Perzentile Männlich'!$D$36*'Perzentile Männlich'!M7)+'Perzentile Männlich'!$E$36,IF(AND('Tabelle Kaderkriterien'!$H11="m",Übersicht!$C7=15,'Perzentile Männlich'!M7>'Perzentile Männlich'!R$5),100,IF(AND('Tabelle Kaderkriterien'!$H11="m",Übersicht!$C7=15),('Perzentile Männlich'!$B$37*'Perzentile Männlich'!M7^3)+('Perzentile Männlich'!$C$37*'Perzentile Männlich'!M7^2)+('Perzentile Männlich'!$D$37*'Perzentile Männlich'!M7)+'Perzentile Männlich'!$E$37,IF(AND('Tabelle Kaderkriterien'!$H11="m",Übersicht!$C7=16,'Perzentile Männlich'!M7>'Perzentile Männlich'!R$6),100,IF(AND('Tabelle Kaderkriterien'!$H11="m",Übersicht!$C7=16),('Perzentile Männlich'!$B$38*'Perzentile Männlich'!M7^3)+('Perzentile Männlich'!$C$38*'Perzentile Männlich'!M7^2)+('Perzentile Männlich'!$D$38*'Perzentile Männlich'!M7)+'Perzentile Männlich'!$E$38,IF(AND('Tabelle Kaderkriterien'!$H11="m",Übersicht!$C7=12,'Perzentile Männlich'!M7>'Perzentile Männlich'!R$7),100,IF(AND('Tabelle Kaderkriterien'!$H11="m",Übersicht!$C7=12),('Perzentile Männlich'!$B$39*'Perzentile Männlich'!M7^3)+('Perzentile Männlich'!$C$39*'Perzentile Männlich'!M7^2)+('Perzentile Männlich'!$D$39*'Perzentile Männlich'!M7)+'Perzentile Männlich'!$E$39,IF(AND('Tabelle Kaderkriterien'!$H11="m",Übersicht!$C7=11,'Perzentile Männlich'!M7>'Perzentile Männlich'!R$8),100,IF(AND('Tabelle Kaderkriterien'!$H11="m",Übersicht!$C7=11),('Perzentile Männlich'!$B$40*'Perzentile Männlich'!M7^3)+('Perzentile Männlich'!$C$40*'Perzentile Männlich'!M7^2)+('Perzentile Männlich'!$D$40*'Perzentile Männlich'!M7)+'Perzentile Männlich'!$E$40,IF(AND('Tabelle Kaderkriterien'!$H11="w",Übersicht!$C7=13,'Perzentile Weiblich'!M7>'Perzentile Weiblich'!R$3),100,IF(AND('Tabelle Kaderkriterien'!$H11="w",Übersicht!$C7=13),('Perzentile Weiblich'!$B$35*'Perzentile Weiblich'!M7^3)+('Perzentile Weiblich'!$C$35*'Perzentile Weiblich'!M7^2)+('Perzentile Weiblich'!$D$35*'Perzentile Weiblich'!M7)+'Perzentile Weiblich'!$E$35,IF(AND('Tabelle Kaderkriterien'!$H11="w",Übersicht!$C7=14,'Perzentile Weiblich'!M7>'Perzentile Weiblich'!R$4),100,IF(AND('Tabelle Kaderkriterien'!$H11="w",Übersicht!$C7=14),('Perzentile Weiblich'!$B$36*'Perzentile Weiblich'!M7^3)+('Perzentile Weiblich'!$C$36*'Perzentile Weiblich'!M7^2)+('Perzentile Weiblich'!$D$36*'Perzentile Weiblich'!M7)+'Perzentile Weiblich'!$E$36,IF(AND('Tabelle Kaderkriterien'!$H11="w",Übersicht!$C7=15,'Perzentile Weiblich'!M7>'Perzentile Weiblich'!R$5),100,IF(AND('Tabelle Kaderkriterien'!$H11="w",Übersicht!$C7=15),('Perzentile Weiblich'!$B$37*'Perzentile Weiblich'!M7^3)+('Perzentile Weiblich'!$C$37*'Perzentile Weiblich'!M7^2)+('Perzentile Weiblich'!$D$37*'Perzentile Weiblich'!M7)+'Perzentile Weiblich'!$E$37,IF(AND('Tabelle Kaderkriterien'!$H11="w",Übersicht!$C7=16,'Perzentile Weiblich'!M7>'Perzentile Weiblich'!R$6),100,IF(AND('Tabelle Kaderkriterien'!$H11="w",Übersicht!$C7=16),('Perzentile Weiblich'!$B$38*'Perzentile Weiblich'!M7^3)+('Perzentile Weiblich'!$C$38*'Perzentile Weiblich'!M7^2)+('Perzentile Weiblich'!$D$38*'Perzentile Weiblich'!M7)+'Perzentile Weiblich'!$E$38,IF(AND('Tabelle Kaderkriterien'!$H11="w",Übersicht!$C7=12,'Perzentile Weiblich'!M7>'Perzentile Weiblich'!R$7),100,IF(AND('Tabelle Kaderkriterien'!$H11="w",Übersicht!$C7=12),('Perzentile Weiblich'!$B$39*'Perzentile Weiblich'!M7^3)+('Perzentile Weiblich'!$C$39*'Perzentile Weiblich'!M7^2)+('Perzentile Weiblich'!$D$39*'Perzentile Weiblich'!M7)+'Perzentile Weiblich'!$E$39,IF(AND('Tabelle Kaderkriterien'!$H11="w",Übersicht!$C7=11,'Perzentile Weiblich'!M7>'Perzentile Weiblich'!R$8),100,IF(AND('Tabelle Kaderkriterien'!$H11="w",Übersicht!$C7=11),('Perzentile Weiblich'!$B$40*'Perzentile Weiblich'!M7^3)+('Perzentile Weiblich'!$C$40*'Perzentile Weiblich'!M7^2)+('Perzentile Weiblich'!$D$40*'Perzentile Weiblich'!M7)+'Perzentile Weiblich'!$E$40,IF(AND('Tabelle Kaderkriterien'!H11<>"m",'Tabelle Kaderkriterien'!H11<>"!w"),#N/A,#N/A))))))))))))))))))))))))) -> #DIV/0! | N7: =IF(AND('Tabelle Kaderkriterien'!$H11="m",Übersicht!$C7=13,'Perzentile Männlich'!N7>'Perzentile Männlich'!S$3),100,IF(AND('Tabelle Kaderkriterien'!$H11="m",Übersicht!$C7=13),('Perzentile Männlich'!$B$43*'Perzentile Männlich'!N7^3)+('Perzentile Männlich'!$C$43*'Perzentile Männlich'!N7^2)+('Perzentile Männlich'!$D$43*'Perzentile Männlich'!N7)+'Perzentile Männlich'!$E$43,IF(AND('Tabelle Kaderkriterien'!$H11="m",Übersicht!$C7=14,'Perzentile Männlich'!N7>'Perzentile Männlich'!S$4),100,IF(AND('Tabelle Kaderkriterien'!$H11="m",Übersicht!$C7=14),('Perzentile Männlich'!$B$44*'Perzentile Männlich'!N7^3)+('Perzentile Männlich'!$C$44*'Perzentile Männlich'!N7^2)+('Perzentile Männlich'!$D$44*'Perzentile Männlich'!N7)+'Perzentile Männlich'!$E$44,IF(AND('Tabelle Kaderkriterien'!$H11="m",Übersicht!$C7=15,'Perzentile Männlich'!N7>'Perzentile Männlich'!S$5),100,IF(AND('Tabelle Kaderkriterien'!$H11="m",Übersicht!$C7=15),('Perzentile Männlich'!$B$45*'Perzentile Männlich'!N7^3)+('Perzentile Männlich'!$C$45*'Perzentile Männlich'!N7^2)+('Perzentile Männlich'!$D$45*'Perzentile Männlich'!N7)+'Perzentile Männlich'!$E$45,IF(AND('Tabelle Kaderkriterien'!$H11="m",Übersicht!$C7=16,'Perzentile Männlich'!N7>'Perzentile Männlich'!S$6),100,IF(AND('Tabelle Kaderkriterien'!$H11="m",Übersicht!$C7=16),('Perzentile Männlich'!$B$46*'Perzentile Männlich'!N7^3)+('Perzentile Männlich'!$C$46*'Perzentile Männlich'!N7^2)+('Perzentile Männlich'!$D$46*'Perzentile Männlich'!N7)+'Perzentile Männlich'!$E$46,IF(AND('Tabelle Kaderkriterien'!$H11="m",Übersicht!$C7=12,'Perzentile Männlich'!N7>'Perzentile Männlich'!S$7),100,IF(AND('Tabelle Kaderkriterien'!$H11="m",Übersicht!$C7=12),('Perzentile Männlich'!$B$47*'Perzentile Männlich'!N7^3)+('Perzentile Männlich'!$C$47*'Perzentile Männlich'!N7^2)+('Perzentile Männlich'!$D$47*'Perzentile Männlich'!N7)+'Perzentile Männlich'!$E$47,IF(AND('Tabelle Kaderkriterien'!$H11="m",Übersicht!$C7=11,'Perzentile Männlich'!N7>'Perzentile Männlich'!S$8),100,IF(AND('Tabelle Kaderkriterien'!$H11="m",Übersicht!$C7=11),('Perzentile Männlich'!$B$48*'Perzentile Männlich'!N7^3)+('Perzentile Männlich'!$C$48*'Perzentile Männlich'!N7^2)+('Perzentile Männlich'!$D$48*'Perzentile Männlich'!N7)+'Perzentile Männlich'!$E$48,IF(AND('Tabelle Kaderkriterien'!$H11="w",Übersicht!$C7=13,'Perzentile Weiblich'!N7>'Perzentile Weiblich'!S$3),100,IF(AND('Tabelle Kaderkriterien'!$H11="w",Übersicht!$C7=13),('Perzentile Weiblich'!$B$43*'Perzentile Weiblich'!N7^3)+('Perzentile Weiblich'!$C$43*'Perzentile Weiblich'!N7^2)+('Perzentile Weiblich'!$D$43*'Perzentile Weiblich'!N7)+'Perzentile Weiblich'!$E$43,IF(AND('Tabelle Kaderkriterien'!$H11="w",Übersicht!$C7=14,'Perzentile Weiblich'!N7>'Perzentile Weiblich'!S$4),100,IF(AND('Tabelle Kaderkriterien'!$H11="w",Übersicht!$C7=14),('Perzentile Weiblich'!$B$44*'Perzentile Weiblich'!N7^3)+('Perzentile Weiblich'!$C$44*'Perzentile Weiblich'!N7^2)+('Perzentile Weiblich'!$D$44*'Perzentile Weiblich'!N7)+'Perzentile Weiblich'!$E$44,IF(AND('Tabelle Kaderkriterien'!$H11="w",Übersicht!$C7=15,'Perzentile Weiblich'!N7>'Perzentile Weiblich'!S$5),100,IF(AND('Tabelle Kaderkriterien'!$H11="w",Übersicht!$C7=15),('Perzentile Weiblich'!$B$45*'Perzentile Weiblich'!N7^3)+('Perzentile Weiblich'!$C$45*'Perzentile Weiblich'!N7^2)+('Perzentile Weiblich'!$D$45*'Perzentile Weiblich'!N7)+'Perzentile Weiblich'!$E$45,IF(AND('Tabelle Kaderkriterien'!$H11="w",Übersicht!$C7=16,'Perzentile Weiblich'!N7>'Perzentile Weiblich'!S$6),100,IF(AND('Tabelle Kaderkriterien'!$H11="w",Übersicht!$C7=16),('Perzentile Weiblich'!$B$46*'Perzentile Weiblich'!N7^3)+('Perzentile Weiblich'!$C$46*'Perzentile Weiblich'!N7^2)+('Perzentile Weiblich'!$D$46*'Perzentile Weiblich'!N7)+'Perzentile Weiblich'!$E$46,IF(AND('Tabelle Kaderkriterien'!$H11="w",Übersicht!$C7=12,'Perzentile Weiblich'!N7>'Perzentile Weiblich'!S$7),100,IF(AND('Tabelle Kaderkriterien'!$H11="w",Übersicht!$C7=12),('Perzentile Weiblich'!$B$47*'Perzentile Weiblich'!N7^3)+('Perzentile Weiblich'!$C$47*'Perzentile Weiblich'!N7^2)+('Perzentile Weiblich'!$D$47*'Perzentile Weiblich'!N7)+'Perzentile Weiblich'!$E$47,IF(AND('Tabelle Kaderkriterien'!$H11="w",Übersicht!$C7=11,'Perzentile Weiblich'!N7>'Perzentile Weiblich'!S$8),100,IF(AND('Tabelle Kaderkriterien'!$H11="w",Übersicht!$C7=11),('Perzentile Weiblich'!$B$48*'Perzentile Weiblich'!N7^3)+('Perzentile Weiblich'!$C$48*'Perzentile Weiblich'!N7^2)+('Perzentile Weiblich'!$D$48*'Perzentile Weiblich'!N7)+'Perzentile Weiblich'!$E$48,IF(AND('Tabelle Kaderkriterien'!I11<>"m",'Tabelle Kaderkriterien'!I11<>"!w"),#N/A,#N/A))))))))))))))))))))))))) -> #DIV/0! | O7: =IF(AND('Tabelle Kaderkriterien'!$H11="m",Übersicht!$C7=13,'Perzentile Männlich'!O7>'Perzentile Männlich'!T$3),100,IF(AND('Tabelle Kaderkriterien'!$H11="m",Übersicht!$C7=13),('Perzentile Männlich'!$B$11*'Perzentile Männlich'!O7^3)+('Perzentile Männlich'!$C$11*'Perzentile Männlich'!O7^2)+('Perzentile Männlich'!$D$11*'Perzentile Männlich'!O7)+'Perzentile Männlich'!$E$11,IF(AND('Tabelle Kaderkriterien'!$H11="m",Übersicht!$C7=14,'Perzentile Männlich'!O7>'Perzentile Männlich'!T$4),100,IF(AND('Tabelle Kaderkriterien'!$H11="m",Übersicht!$C7=14),('Perzentile Männlich'!$B$12*'Perzentile Männlich'!O7^3)+('Perzentile Männlich'!$C$12*'Perzentile Männlich'!O7^2)+('Perzentile Männlich'!$D$12*'Perzentile Männlich'!O7)+'Perzentile Männlich'!$E$12,IF(AND('Tabelle Kaderkriterien'!$H11="m",Übersicht!$C7=15,'Perzentile Männlich'!O7>'Perzentile Männlich'!T$5),100,IF(AND('Tabelle Kaderkriterien'!$H11="m",Übersicht!$C7=15),('Perzentile Männlich'!$B$13*'Perzentile Männlich'!O7^3)+('Perzentile Männlich'!$C$13*'Perzentile Männlich'!O7^2)+('Perzentile Männlich'!$D$13*'Perzentile Männlich'!O7)+'Perzentile Männlich'!$E$13,IF(AND('Tabelle Kaderkriterien'!$H11="m",Übersicht!$C7=16,'Perzentile Männlich'!O7>'Perzentile Männlich'!T$6),100,IF(AND('Tabelle Kaderkriterien'!$H11="m",Übersicht!$C7=16),('Perzentile Männlich'!$B$14*'Perzentile Männlich'!O7^3)+('Perzentile Männlich'!$C$14*'Perzentile Männlich'!O7^2)+('Perzentile Männlich'!$D$14*'Perzentile Männlich'!O7)+'Perzentile Männlich'!$E$14,IF(AND('Tabelle Kaderkriterien'!$H11="m",Übersicht!$C7=12,'Perzentile Männlich'!O7>'Perzentile Männlich'!T$7),100,IF(AND('Tabelle Kaderkriterien'!$H11="m",Übersicht!$C7=12),('Perzentile Männlich'!$B$15*'Perzentile Männlich'!O7^3)+('Perzentile Männlich'!$C$15*'Perzentile Männlich'!O7^2)+('Perzentile Männlich'!$D$15*'Perzentile Männlich'!O7)+'Perzentile Männlich'!$E$15,IF(AND('Tabelle Kaderkriterien'!$H11="m",Übersicht!$C7=11,'Perzentile Männlich'!O7>'Perzentile Männlich'!T$8),100,IF(AND('Tabelle Kaderkriterien'!$H11="m",Übersicht!$C7=11),('Perzentile Männlich'!$B$16*'Perzentile Männlich'!O7^3)+('Perzentile Männlich'!$C$16*'Perzentile Männlich'!O7^2)+('Perzentile Männlich'!$D$16*'Perzentile Männlich'!O7)+'Perzentile Männlich'!$E$16,IF(AND('Tabelle Kaderkriterien'!$H11="w",Übersicht!$C7=13,'Perzentile Weiblich'!O7>'Perzentile Weiblich'!T$3),100,IF(AND('Tabelle Kaderkriterien'!$H11="w",Übersicht!$C7=13),('Perzentile Weiblich'!$B$11*'Perzentile Weiblich'!O7^3)+('Perzentile Weiblich'!$C$11*'Perzentile Weiblich'!O7^2)+('Perzentile Weiblich'!$D$11*'Perzentile Weiblich'!O7)+'Perzentile Weiblich'!$E$11,IF(AND('Tabelle Kaderkriterien'!$H11="w",Übersicht!$C7=14,'Perzentile Weiblich'!O7>'Perzentile Weiblich'!T$4),100,IF(AND('Tabelle Kaderkriterien'!$H11="w",Übersicht!$C7=14),('Perzentile Weiblich'!$B$12*'Perzentile Weiblich'!O7^3)+('Perzentile Weiblich'!$C$12*'Perzentile Weiblich'!O7^2)+('Perzentile Weiblich'!$D$12*'Perzentile Weiblich'!O7)+'Perzentile Weiblich'!$E$12,IF(AND('Tabelle Kaderkriterien'!$H11="w",Übersicht!$C7=15,'Perzentile Weiblich'!O7>'Perzentile Weiblich'!T$5),100,IF(AND('Tabelle Kaderkriterien'!$H11="w",Übersicht!$C7=15),('Perzentile Weiblich'!$B$13*'Perzentile Weiblich'!O7^3)+('Perzentile Weiblich'!$C$13*'Perzentile Weiblich'!O7^2)+('Perzentile Weiblich'!$D$13*'Perzentile Weiblich'!O7)+'Perzentile Weiblich'!$E$13,IF(AND('Tabelle Kaderkriterien'!$H11="w",Übersicht!$C7=16,'Perzentile Weiblich'!O7>'Perzentile Weiblich'!T$6),100,IF(AND('Tabelle Kaderkriterien'!$H11="w",Übersicht!$C7=16),('Perzentile Weiblich'!$B$14*'Perzentile Weiblich'!O7^3)+('Perzentile Weiblich'!$C$14*'Perzentile Weiblich'!O7^2)+('Perzentile Weiblich'!$D$14*'Perzentile Weiblich'!O7)+'Perzentile Weiblich'!$E$14,IF(AND('Tabelle Kaderkriterien'!$H11="w",Übersicht!$C7=12,'Perzentile Weiblich'!O7>'Perzentile Weiblich'!T$7),100,IF(AND('Tabelle Kaderkriterien'!$H11="w",Übersicht!$C7=12),('Perzentile Weiblich'!$B$15*'Perzentile Weiblich'!O7^3)+('Perzentile Weiblich'!$C$15*'Perzentile Weiblich'!O7^2)+('Perzentile Weiblich'!$D$15*'Perzentile Weiblich'!O7)+'Perzentile Weiblich'!$E$15,IF(AND('Tabelle Kaderkriterien'!$H11="w",Übersicht!$C7=11,'Perzentile Weiblich'!O7>'Perzentile Weiblich'!T$8),100,IF(AND('Tabelle Kaderkriterien'!$H11="w",Übersicht!$C7=11),('Perzentile Weiblich'!$B$16*'Perzentile Weiblich'!O7^3)+('Perzentile Weiblich'!$C$16*'Perzentile Weiblich'!O7^2)+('Perzentile Weiblich'!$D$16*'Perzentile Weiblich'!O7)+'Perzentile Weiblich'!$E$16,IF(AND('Tabelle Kaderkriterien'!J11<>"m",'Tabelle Kaderkriterien'!J11<>"!w"),#N/A,#N/A))))))))))))))))))))))))) -> #DIV/0! | P7: =IF(AND('Tabelle Kaderkriterien'!$H11="m",Übersicht!$C7=13,J7<'Perzentile Männlich'!U$3),100,IF(AND('Tabelle Kaderkriterien'!$H11="m",Übersicht!$C7=13),('Perzentile Männlich'!$B$27*J7^3)+('Perzentile Männlich'!$C$27*J7^2)+('Perzentile Männlich'!$D$27*J7)+'Perzentile Männlich'!$E$27,IF(AND('Tabelle Kaderkriterien'!$H11="m",Übersicht!$C7=14,J7<'Perzentile Männlich'!U$4),100,IF(AND('Tabelle Kaderkriterien'!$H11="m",Übersicht!$C7=14),('Perzentile Männlich'!$B$28*J7^3)+('Perzentile Männlich'!$C$28*J7^2)+('Perzentile Männlich'!$D$28*J7)+'Perzentile Männlich'!$E$28,IF(AND('Tabelle Kaderkriterien'!$H11="m",Übersicht!$C7=15,J7<'Perzentile Männlich'!U$5),100,IF(AND('Tabelle Kaderkriterien'!$H11="m",Übersicht!$C7=15),('Perzentile Männlich'!$B$29*J7^3)+('Perzentile Männlich'!$C$29*J7^2)+('Perzentile Männlich'!$D$29*J7)+'Perzentile Männlich'!$E$29,IF(AND('Tabelle Kaderkriterien'!$H11="m",Übersicht!$C7=16,J7<'Perzentile Männlich'!U$6),100,IF(AND('Tabelle Kaderkriterien'!$H11="m",Übersicht!$C7=16),('Perzentile Männlich'!$B$30*J7^3)+('Perzentile Männlich'!$C$30*J7^2)+('Perzentile Männlich'!$D$30*J7)+'Perzentile Männlich'!$E$30,IF(AND('Tabelle Kaderkriterien'!$H11="m",Übersicht!$C7=12,J7<'Perzentile Männlich'!U$7),100,IF(AND('Tabelle Kaderkriterien'!$H11="m",Übersicht!$C7=12),('Perzentile Männlich'!$B$31*J7^3)+('Perzentile Männlich'!$C$31*J7^2)+('Perzentile Männlich'!$D$31*J7)+'Perzentile Männlich'!$E$31,IF(AND('Tabelle Kaderkriterien'!$H11="m",Übersicht!$C7=11,J7<'Perzentile Männlich'!U$8),100,IF(AND('Tabelle Kaderkriterien'!$H11="m",Übersicht!$C7=11),('Perzentile Männlich'!$B$32*J7^3)+('Perzentile Männlich'!$C$32*J7^2)+('Perzentile Männlich'!$D$32*J7)+'Perzentile Männlich'!$E$32,IF(AND('Tabelle Kaderkriterien'!$H11="w",Übersicht!$C7=13,J7<'Perzentile Weiblich'!U$3),100,IF(AND('Tabelle Kaderkriterien'!$H11="w",Übersicht!$C7=13),('Perzentile Weiblich'!$B$27*J7^3)+('Perzentile Weiblich'!$C$27*J7^2)+('Perzentile Weiblich'!$D$27*J7)+'Perzentile Weiblich'!$E$27,IF(AND('Tabelle Kaderkriterien'!$H11="w",Übersicht!$C7=14,J7<'Perzentile Weiblich'!U$4),100,IF(AND('Tabelle Kaderkriterien'!$H11="w",Übersicht!$C7=14),('Perzentile Weiblich'!$B$28*J7^3)+('Perzentile Weiblich'!$C$28*J7^2)+('Perzentile Weiblich'!$D$28*J7)+'Perzentile Weiblich'!$E$28,IF(AND('Tabelle Kaderkriterien'!$H11="w",Übersicht!$C7=15,J7<'Perzentile Weiblich'!U$5),100,IF(AND('Tabelle Kaderkriterien'!$H11="w",Übersicht!$C7=15),('Perzentile Weiblich'!$B$29*J7^3)+('Perzentile Weiblich'!$C$29*J7^2)+('Perzentile Weiblich'!$D$29*J7)+'Perzentile Weiblich'!$E$29,IF(AND('Tabelle Kaderkriterien'!$H11="w",Übersicht!$C7=16,J7<'Perzentile Weiblich'!U$6),100,IF(AND('Tabelle Kaderkriterien'!$H11="w",Übersicht!$C7=16),('Perzentile Weiblich'!$B$30*J7^3)+('Perzentile Weiblich'!$C$30*J7^2)+('Perzentile Weiblich'!$D$30*J7)+'Perzentile Weiblich'!$E$30,IF(AND('Tabelle Kaderkriterien'!$H11="w",Übersicht!$C7=12,J7<'Perzentile Weiblich'!U$7),100,IF(AND('Tabelle Kaderkriterien'!$H11="w",Übersicht!$C7=12),('Perzentile Weiblich'!$B$31*J7^3)+('Perzentile Weiblich'!$C$31*J7^2)+('Perzentile Weiblich'!$D$31*J7)+'Perzentile Weiblich'!$E$31,IF(AND('Tabelle Kaderkriterien'!$H11="w",Übersicht!$C7=11,J7<'Perzentile Weiblich'!U$8),100,IF(AND('Tabelle Kaderkriterien'!$H11="w",Übersicht!$C7=11),('Perzentile Weiblich'!$B$32*J7^3)+('Perzentile Weiblich'!$C$32*J7^2)+('Perzentile Weiblich'!$D$32*J7)+'Perzentile Weiblich'!$E$32,IF(AND('Tabelle Kaderkriterien'!H11<>"m",'Tabelle Kaderkriterien'!H11<>"!w"),#N/A,#N/A))))))))))))))))))))))))) -> #N/A | Q7: =IF(AND('Tabelle Kaderkriterien'!$H11="m",Übersicht!$C7=13,K7>'Perzentile Männlich'!V$3),100,IF(AND('Tabelle Kaderkriterien'!$H11="m",Übersicht!$C7=13),('Perzentile Männlich'!$B$19*K7^3)+('Perzentile Männlich'!$C$19*K7^2)+('Perzentile Männlich'!$D$19*K7)+'Perzentile Männlich'!$E$19,IF(AND('Tabelle Kaderkriterien'!$H11="m",Übersicht!$C7=14,K7>'Perzentile Männlich'!V$4),100,IF(AND('Tabelle Kaderkriterien'!$H11="m",Übersicht!$C7=14),('Perzentile Männlich'!$B$20*K7^3)+('Perzentile Männlich'!$C$20*K7^2)+('Perzentile Männlich'!$D$20*K7)+'Perzentile Männlich'!$E$20,IF(AND('Tabelle Kaderkriterien'!$H11="m",Übersicht!$C7=15,K7>'Perzentile Männlich'!V$5),100,IF(AND('Tabelle Kaderkriterien'!$H11="m",Übersicht!$C7=15),('Perzentile Männlich'!$B$21*K7^3)+('Perzentile Männlich'!$C$21*K7^2)+('Perzentile Männlich'!$D$21*K7)+'Perzentile Männlich'!$E$21,IF(AND('Tabelle Kaderkriterien'!$H11="m",Übersicht!$C7=16,K7>'Perzentile Männlich'!V$6),100,IF(AND('Tabelle Kaderkriterien'!$H11="m",Übersicht!$C7=16),('Perzentile Männlich'!$B$22*K7^3)+('Perzentile Männlich'!$C$22*K7^2)+('Perzentile Männlich'!$D$22*K7)+'Perzentile Männlich'!$E$22,IF(AND('Tabelle Kaderkriterien'!$H11="m",Übersicht!$C7=12,K7>'Perzentile Männlich'!V$7),100,IF(AND('Tabelle Kaderkriterien'!$H11="m",Übersicht!$C7=12),('Perzentile Männlich'!$B$23*K7^3)+('Perzentile Männlich'!$C$23*K7^2)+('Perzentile Männlich'!$D$23*K7)+'Perzentile Männlich'!$E$23,IF(AND('Tabelle Kaderkriterien'!$H11="m",Übersicht!$C7=11,K7>'Perzentile Männlich'!V$8),100,IF(AND('Tabelle Kaderkriterien'!$H11="m",Übersicht!$C7=11),('Perzentile Männlich'!$B$24*K7^3)+('Perzentile Männlich'!$C$24*K7^2)+('Perzentile Männlich'!$D$24*K7)+'Perzentile Männlich'!$E$24,IF(AND('Tabelle Kaderkriterien'!$H11="w",Übersicht!$C7=13,K7>'Perzentile Weiblich'!V$3),100,IF(AND('Tabelle Kaderkriterien'!$H11="w",Übersicht!$C7=13),('Perzentile Weiblich'!$B$19*K7^3)+('Perzentile Weiblich'!$C$19*K7^2)+('Perzentile Weiblich'!$D$19*K7)+'Perzentile Weiblich'!$E$19,IF(AND('Tabelle Kaderkriterien'!$H11="w",Übersicht!$C7=14,K7>'Perzentile Weiblich'!V$4),100,IF(AND('Tabelle Kaderkriterien'!$H11="w",Übersicht!$C7=14),('Perzentile Weiblich'!$B$20*K7^3)+('Perzentile Weiblich'!$C$20*K7^2)+('Perzentile Weiblich'!$D$20*K7)+'Perzentile Weiblich'!$E$20,IF(AND('Tabelle Kaderkriterien'!$H11="w",Übersicht!$C7=15,K7>'Perzentile Weiblich'!V$5),100,IF(AND('Tabelle Kaderkriterien'!$H11="w",Übersicht!$C7=15),('Perzentile Weiblich'!$B$21*K7^3)+('Perzentile Weiblich'!$C$21*K7^2)+('Perzentile Weiblich'!$D$21*K7)+'Perzentile Weiblich'!$E$21,IF(AND('Tabelle Kaderkriterien'!$H11="w",Übersicht!$C7=16,K7>'Perzentile Weiblich'!V$6),100,IF(AND('Tabelle Kaderkriterien'!$H11="w",Übersicht!$C7=16),('Perzentile Weiblich'!$B$22*K7^3)+('Perzentile Weiblich'!$C$22*K7^2)+('Perzentile Weiblich'!$D$22*K7)+'Perzentile Weiblich'!$E$22,IF(AND('Tabelle Kaderkriterien'!$H11="w",Übersicht!$C7=12,K7>'Perzentile Weiblich'!V$7),100,IF(AND('Tabelle Kaderkriterien'!$H11="w",Übersicht!$C7=12),('Perzentile Weiblich'!$B$23*K7^3)+('Perzentile Weiblich'!$C$23*K7^2)+('Perzentile Weiblich'!$D$23*K7)+'Perzentile Weiblich'!$E$23,IF(AND('Tabelle Kaderkriterien'!$H11="w",Übersicht!$C7=11,K7>'Perzentile Weiblich'!V$8),100,IF(AND('Tabelle Kaderkriterien'!$H11="w",Übersicht!$C7=11),('Perzentile Weiblich'!$B$24*K7^3)+('Perzentile Weiblich'!$C$24*K7^2)+('Perzentile Weiblich'!$D$24*K7)+'Perzentile Weiblich'!$E$24,IF(AND('Tabelle Kaderkriterien'!I11<>"m",'Tabelle Kaderkriterien'!I11<>"!w"),#N/A,#N/A))))))))))))))))))))))))) -> #N/A | S7: =M7*0.25+N7*0.25+O7*0.19+P7*0.14+Q7*0.17 -> #DIV/0! | T7: =M7*0.25+N7*0.25+O7*0.19+P7*0.14+Q7*0.17 -> #DIV/0!
A8: ='Tabelle Kaderkriterien'!B12 -> 0 | B8: ='Tabelle Kaderkriterien'!C12 -> 0 | C8: ='Tabelle Kaderkriterien'!G12 -> 0 | D8: ='Tabelle Kaderkriterien'!K12 -> 0 | E8: ='Tabelle Kaderkriterien'!L12 -> 0 | F8: ='Tabelle Kaderkriterien'!N12 -> 0 | G8: ='Tabelle Kaderkriterien'!O12 -> 0 | H8: ='Tabelle Kaderkriterien'!Q12 -> 0 | I8: ='Tabelle Kaderkriterien'!R12 -> 0 | J8: ='Tabelle Kaderkriterien'!T12 -> 0 | K8: ='Tabelle Kaderkriterien'!V12 -> 0 | M8: =IF(AND('Tabelle Kaderkriterien'!$H12="m",Übersicht!$C8=13,'Perzentile Männlich'!M8>'Perzentile Männlich'!R$3),100,IF(AND('Tabelle Kaderkriterien'!$H12="m",Übersicht!$C8=13),('Perzentile Männlich'!$B$35*'Perzentile Männlich'!M8^3)+('Perzentile Männlich'!$C$35*'Perzentile Männlich'!M8^2)+('Perzentile Männlich'!$D$35*'Perzentile Männlich'!M8)+'Perzentile Männlich'!$E$35,IF(AND('Tabelle Kaderkriterien'!$H12="m",Übersicht!$C8=14,'Perzentile Männlich'!M8>'Perzentile Männlich'!R$4),100,IF(AND('Tabelle Kaderkriterien'!$H12="m",Übersicht!$C8=14),('Perzentile Männlich'!$B$36*'Perzentile Männlich'!M8^3)+('Perzentile Männlich'!$C$36*'Perzentile Männlich'!M8^2)+('Perzentile Männlich'!$D$36*'Perzentile Männlich'!M8)+'Perzentile Männlich'!$E$36,IF(AND('Tabelle Kaderkriterien'!$H12="m",Übersicht!$C8=15,'Perzentile Männlich'!M8>'Perzentile Männlich'!R$5),100,IF(AND('Tabelle Kaderkriterien'!$H12="m",Übersicht!$C8=15),('Perzentile Männlich'!$B$37*'Perzentile Männlich'!M8^3)+('Perzentile Männlich'!$C$37*'Perzentile Männlich'!M8^2)+('Perzentile Männlich'!$D$37*'Perzentile Männlich'!M8)+'Perzentile Männlich'!$E$37,IF(AND('Tabelle Kaderkriterien'!$H12="m",Übersicht!$C8=16,'Perzentile Männlich'!M8>'Perzentile Männlich'!R$6),100,IF(AND('Tabelle Kaderkriterien'!$H12="m",Übersicht!$C8=16),('Perzentile Männlich'!$B$38*'Perzentile Männlich'!M8^3)+('Perzentile Männlich'!$C$38*'Perzentile Männlich'!M8^2)+('Perzentile Männlich'!$D$38*'Perzentile Männlich'!M8)+'Perzentile Männlich'!$E$38,IF(AND('Tabelle Kaderkriterien'!$H12="m",Übersicht!$C8=12,'Perzentile Männlich'!M8>'Perzentile Männlich'!R$7),100,IF(AND('Tabelle Kaderkriterien'!$H12="m",Übersicht!$C8=12),('Perzentile Männlich'!$B$39*'Perzentile Männlich'!M8^3)+('Perzentile Männlich'!$C$39*'Perzentile Männlich'!M8^2)+('Perzentile Männlich'!$D$39*'Perzentile Männlich'!M8)+'Perzentile Männlich'!$E$39,IF(AND('Tabelle Kaderkriterien'!$H12="m",Übersicht!$C8=11,'Perzentile Männlich'!M8>'Perzentile Männlich'!R$8),100,IF(AND('Tabelle Kaderkriterien'!$H12="m",Übersicht!$C8=11),('Perzentile Männlich'!$B$40*'Perzentile Männlich'!M8^3)+('Perzentile Männlich'!$C$40*'Perzentile Männlich'!M8^2)+('Perzentile Männlich'!$D$40*'Perzentile Männlich'!M8)+'Perzentile Männlich'!$E$40,IF(AND('Tabelle Kaderkriterien'!$H12="w",Übersicht!$C8=13,'Perzentile Weiblich'!M8>'Perzentile Weiblich'!R$3),100,IF(AND('Tabelle Kaderkriterien'!$H12="w",Übersicht!$C8=13),('Perzentile Weiblich'!$B$35*'Perzentile Weiblich'!M8^3)+('Perzentile Weiblich'!$C$35*'Perzentile Weiblich'!M8^2)+('Perzentile Weiblich'!$D$35*'Perzentile Weiblich'!M8)+'Perzentile Weiblich'!$E$35,IF(AND('Tabelle Kaderkriterien'!$H12="w",Übersicht!$C8=14,'Perzentile Weiblich'!M8>'Perzentile Weiblich'!R$4),100,IF(AND('Tabelle Kaderkriterien'!$H12="w",Übersicht!$C8=14),('Perzentile Weiblich'!$B$36*'Perzentile Weiblich'!M8^3)+('Perzentile Weiblich'!$C$36*'Perzentile Weiblich'!M8^2)+('Perzentile Weiblich'!$D$36*'Perzentile Weiblich'!M8)+'Perzentile Weiblich'!$E$36,IF(AND('Tabelle Kaderkriterien'!$H12="w",Übersicht!$C8=15,'Perzentile Weiblich'!M8>'Perzentile Weiblich'!R$5),100,IF(AND('Tabelle Kaderkriterien'!$H12="w",Übersicht!$C8=15),('Perzentile Weiblich'!$B$37*'Perzentile Weiblich'!M8^3)+('Perzentile Weiblich'!$C$37*'Perzentile Weiblich'!M8^2)+('Perzentile Weiblich'!$D$37*'Perzentile Weiblich'!M8)+'Perzentile Weiblich'!$E$37,IF(AND('Tabelle Kaderkriterien'!$H12="w",Übersicht!$C8=16,'Perzentile Weiblich'!M8>'Perzentile Weiblich'!R$6),100,IF(AND('Tabelle Kaderkriterien'!$H12="w",Übersicht!$C8=16),('Perzentile Weiblich'!$B$38*'Perzentile Weiblich'!M8^3)+('Perzentile Weiblich'!$C$38*'Perzentile Weiblich'!M8^2)+('Perzentile Weiblich'!$D$38*'Perzentile Weiblich'!M8)+'Perzentile Weiblich'!$E$38,IF(AND('Tabelle Kaderkriterien'!$H12="w",Übersicht!$C8=12,'Perzentile Weiblich'!M8>'Perzentile Weiblich'!R$7),100,IF(AND('Tabelle Kaderkriterien'!$H12="w",Übersicht!$C8=12),('Perzentile Weiblich'!$B$39*'Perzentile Weiblich'!M8^3)+('Perzentile Weiblich'!$C$39*'Perzentile Weiblich'!M8^2)+('Perzentile Weiblich'!$D$39*'Perzentile Weiblich'!M8)+'Perzentile Weiblich'!$E$39,IF(AND('Tabelle Kaderkriterien'!$H12="w",Übersicht!$C8=11,'Perzentile Weiblich'!M8>'Perzentile Weiblich'!R$8),100,IF(AND('Tabelle Kaderkriterien'!$H12="w",Übersicht!$C8=11),('Perzentile Weiblich'!$B$40*'Perzentile Weiblich'!M8^3)+('Perzentile Weiblich'!$C$40*'Perzentile Weiblich'!M8^2)+('Perzentile Weiblich'!$D$40*'Perzentile Weiblich'!M8)+'Perzentile Weiblich'!$E$40,IF(AND('Tabelle Kaderkriterien'!H12<>"m",'Tabelle Kaderkriterien'!H12<>"!w"),#N/A,#N/A))))))))))))))))))))))))) -> #DIV/0! | N8: =IF(AND('Tabelle Kaderkriterien'!$H12="m",Übersicht!$C8=13,'Perzentile Männlich'!N8>'Perzentile Männlich'!S$3),100,IF(AND('Tabelle Kaderkriterien'!$H12="m",Übersicht!$C8=13),('Perzentile Männlich'!$B$43*'Perzentile Männlich'!N8^3)+('Perzentile Männlich'!$C$43*'Perzentile Männlich'!N8^2)+('Perzentile Männlich'!$D$43*'Perzentile Männlich'!N8)+'Perzentile Männlich'!$E$43,IF(AND('Tabelle Kaderkriterien'!$H12="m",Übersicht!$C8=14,'Perzentile Männlich'!N8>'Perzentile Männlich'!S$4),100,IF(AND('Tabelle Kaderkriterien'!$H12="m",Übersicht!$C8=14),('Perzentile Männlich'!$B$44*'Perzentile Männlich'!N8^3)+('Perzentile Männlich'!$C$44*'Perzentile Männlich'!N8^2)+('Perzentile Männlich'!$D$44*'Perzentile Männlich'!N8)+'Perzentile Männlich'!$E$44,IF(AND('Tabelle Kaderkriterien'!$H12="m",Übersicht!$C8=15,'Perzentile Männlich'!N8>'Perzentile Männlich'!S$5),100,IF(AND('Tabelle Kaderkriterien'!$H12="m",Übersicht!$C8=15),('Perzentile Männlich'!$B$45*'Perzentile Männlich'!N8^3)+('Perzentile Männlich'!$C$45*'Perzentile Männlich'!N8^2)+('Perzentile Männlich'!$D$45*'Perzentile Männlich'!N8)+'Perzentile Männlich'!$E$45,IF(AND('Tabelle Kaderkriterien'!$H12="m",Übersicht!$C8=16,'Perzentile Männlich'!N8>'Perzentile Männlich'!S$6),100,IF(AND('Tabelle Kaderkriterien'!$H12="m",Übersicht!$C8=16),('Perzentile Männlich'!$B$46*'Perzentile Männlich'!N8^3)+('Perzentile Männlich'!$C$46*'Perzentile Männlich'!N8^2)+('Perzentile Männlich'!$D$46*'Perzentile Männlich'!N8)+'Perzentile Männlich'!$E$46,IF(AND('Tabelle Kaderkriterien'!$H12="m",Übersicht!$C8=12,'Perzentile Männlich'!N8>'Perzentile Männlich'!S$7),100,IF(AND('Tabelle Kaderkriterien'!$H12="m",Übersicht!$C8=12),('Perzentile Männlich'!$B$47*'Perzentile Männlich'!N8^3)+('Perzentile Männlich'!$C$47*'Perzentile Männlich'!N8^2)+('Perzentile Männlich'!$D$47*'Perzentile Männlich'!N8)+'Perzentile Männlich'!$E$47,IF(AND('Tabelle Kaderkriterien'!$H12="m",Übersicht!$C8=11,'Perzentile Männlich'!N8>'Perzentile Männlich'!S$8),100,IF(AND('Tabelle Kaderkriterien'!$H12="m",Übersicht!$C8=11),('Perzentile Männlich'!$B$48*'Perzentile Männlich'!N8^3)+('Perzentile Männlich'!$C$48*'Perzentile Männlich'!N8^2)+('Perzentile Männlich'!$D$48*'Perzentile Männlich'!N8)+'Perzentile Männlich'!$E$48,IF(AND('Tabelle Kaderkriterien'!$H12="w",Übersicht!$C8=13,'Perzentile Weiblich'!N8>'Perzentile Weiblich'!S$3),100,IF(AND('Tabelle Kaderkriterien'!$H12="w",Übersicht!$C8=13),('Perzentile Weiblich'!$B$43*'Perzentile Weiblich'!N8^3)+('Perzentile Weiblich'!$C$43*'Perzentile Weiblich'!N8^2)+('Perzentile Weiblich'!$D$43*'Perzentile Weiblich'!N8)+'Perzentile Weiblich'!$E$43,IF(AND('Tabelle Kaderkriterien'!$H12="w",Übersicht!$C8=14,'Perzentile Weiblich'!N8>'Perzentile Weiblich'!S$4),100,IF(AND('Tabelle Kaderkriterien'!$H12="w",Übersicht!$C8=14),('Perzentile Weiblich'!$B$44*'Perzentile Weiblich'!N8^3)+('Perzentile Weiblich'!$C$44*'Perzentile Weiblich'!N8^2)+('Perzentile Weiblich'!$D$44*'Perzentile Weiblich'!N8)+'Perzentile Weiblich'!$E$44,IF(AND('Tabelle Kaderkriterien'!$H12="w",Übersicht!$C8=15,'Perzentile Weiblich'!N8>'Perzentile Weiblich'!S$5),100,IF(AND('Tabelle Kaderkriterien'!$H12="w",Übersicht!$C8=15),('Perzentile Weiblich'!$B$45*'Perzentile Weiblich'!N8^3)+('Perzentile Weiblich'!$C$45*'Perzentile Weiblich'!N8^2)+('Perzentile Weiblich'!$D$45*'Perzentile Weiblich'!N8)+'Perzentile Weiblich'!$E$45,IF(AND('Tabelle Kaderkriterien'!$H12="w",Übersicht!$C8=16,'Perzentile Weiblich'!N8>'Perzentile Weiblich'!S$6),100,IF(AND('Tabelle Kaderkriterien'!$H12="w",Übersicht!$C8=16),('Perzentile Weiblich'!$B$46*'Perzentile Weiblich'!N8^3)+('Perzentile Weiblich'!$C$46*'Perzentile Weiblich'!N8^2)+('Perzentile Weiblich'!$D$46*'Perzentile Weiblich'!N8)+'Perzentile Weiblich'!$E$46,IF(AND('Tabelle Kaderkriterien'!$H12="w",Übersicht!$C8=12,'Perzentile Weiblich'!N8>'Perzentile Weiblich'!S$7),100,IF(AND('Tabelle Kaderkriterien'!$H12="w",Übersicht!$C8=12),('Perzentile Weiblich'!$B$47*'Perzentile Weiblich'!N8^3)+('Perzentile Weiblich'!$C$47*'Perzentile Weiblich'!N8^2)+('Perzentile Weiblich'!$D$47*'Perzentile Weiblich'!N8)+'Perzentile Weiblich'!$E$47,IF(AND('Tabelle Kaderkriterien'!$H12="w",Übersicht!$C8=11,'Perzentile Weiblich'!N8>'Perzentile Weiblich'!S$8),100,IF(AND('Tabelle Kaderkriterien'!$H12="w",Übersicht!$C8=11),('Perzentile Weiblich'!$B$48*'Perzentile Weiblich'!N8^3)+('Perzentile Weiblich'!$C$48*'Perzentile Weiblich'!N8^2)+('Perzentile Weiblich'!$D$48*'Perzentile Weiblich'!N8)+'Perzentile Weiblich'!$E$48,IF(AND('Tabelle Kaderkriterien'!I12<>"m",'Tabelle Kaderkriterien'!I12<>"!w"),#N/A,#N/A))))))))))))))))))))))))) -> #DIV/0! | O8: =IF(AND('Tabelle Kaderkriterien'!$H12="m",Übersicht!$C8=13,'Perzentile Männlich'!O8>'Perzentile Männlich'!T$3),100,IF(AND('Tabelle Kaderkriterien'!$H12="m",Übersicht!$C8=13),('Perzentile Männlich'!$B$11*'Perzentile Männlich'!O8^3)+('Perzentile Männlich'!$C$11*'Perzentile Männlich'!O8^2)+('Perzentile Männlich'!$D$11*'Perzentile Männlich'!O8)+'Perzentile Männlich'!$E$11,IF(AND('Tabelle Kaderkriterien'!$H12="m",Übersicht!$C8=14,'Perzentile Männlich'!O8>'Perzentile Männlich'!T$4),100,IF(AND('Tabelle Kaderkriterien'!$H12="m",Übersicht!$C8=14),('Perzentile Männlich'!$B$12*'Perzentile Männlich'!O8^3)+('Perzentile Männlich'!$C$12*'Perzentile Männlich'!O8^2)+('Perzentile Männlich'!$D$12*'Perzentile Männlich'!O8)+'Perzentile Männlich'!$E$12,IF(AND('Tabelle Kaderkriterien'!$H12="m",Übersicht!$C8=15,'Perzentile Männlich'!O8>'Perzentile Männlich'!T$5),100,IF(AND('Tabelle Kaderkriterien'!$H12="m",Übersicht!$C8=15),('Perzentile Männlich'!$B$13*'Perzentile Männlich'!O8^3)+('Perzentile Männlich'!$C$13*'Perzentile Männlich'!O8^2)+('Perzentile Männlich'!$D$13*'Perzentile Männlich'!O8)+'Perzentile Männlich'!$E$13,IF(AND('Tabelle Kaderkriterien'!$H12="m",Übersicht!$C8=16,'Perzentile Männlich'!O8>'Perzentile Männlich'!T$6),100,IF(AND('Tabelle Kaderkriterien'!$H12="m",Übersicht!$C8=16),('Perzentile Männlich'!$B$14*'Perzentile Männlich'!O8^3)+('Perzentile Männlich'!$C$14*'Perzentile Männlich'!O8^2)+('Perzentile Männlich'!$D$14*'Perzentile Männlich'!O8)+'Perzentile Männlich'!$E$14,IF(AND('Tabelle Kaderkriterien'!$H12="m",Übersicht!$C8=12,'Perzentile Männlich'!O8>'Perzentile Männlich'!T$7),100,IF(AND('Tabelle Kaderkriterien'!$H12="m",Übersicht!$C8=12),('Perzentile Männlich'!$B$15*'Perzentile Männlich'!O8^3)+('Perzentile Männlich'!$C$15*'Perzentile Männlich'!O8^2)+('Perzentile Männlich'!$D$15*'Perzentile Männlich'!O8)+'Perzentile Männlich'!$E$15,IF(AND('Tabelle Kaderkriterien'!$H12="m",Übersicht!$C8=11,'Perzentile Männlich'!O8>'Perzentile Männlich'!T$8),100,IF(AND('Tabelle Kaderkriterien'!$H12="m",Übersicht!$C8=11),('Perzentile Männlich'!$B$16*'Perzentile Männlich'!O8^3)+('Perzentile Männlich'!$C$16*'Perzentile Männlich'!O8^2)+('Perzentile Männlich'!$D$16*'Perzentile Männlich'!O8)+'Perzentile Männlich'!$E$16,IF(AND('Tabelle Kaderkriterien'!$H12="w",Übersicht!$C8=13,'Perzentile Weiblich'!O8>'Perzentile Weiblich'!T$3),100,IF(AND('Tabelle Kaderkriterien'!$H12="w",Übersicht!$C8=13),('Perzentile Weiblich'!$B$11*'Perzentile Weiblich'!O8^3)+('Perzentile Weiblich'!$C$11*'Perzentile Weiblich'!O8^2)+('Perzentile Weiblich'!$D$11*'Perzentile Weiblich'!O8)+'Perzentile Weiblich'!$E$11,IF(AND('Tabelle Kaderkriterien'!$H12="w",Übersicht!$C8=14,'Perzentile Weiblich'!O8>'Perzentile Weiblich'!T$4),100,IF(AND('Tabelle Kaderkriterien'!$H12="w",Übersicht!$C8=14),('Perzentile Weiblich'!$B$12*'Perzentile Weiblich'!O8^3)+('Perzentile Weiblich'!$C$12*'Perzentile Weiblich'!O8^2)+('Perzentile Weiblich'!$D$12*'Perzentile Weiblich'!O8)+'Perzentile Weiblich'!$E$12,IF(AND('Tabelle Kaderkriterien'!$H12="w",Übersicht!$C8=15,'Perzentile Weiblich'!O8>'Perzentile Weiblich'!T$5),100,IF(AND('Tabelle Kaderkriterien'!$H12="w",Übersicht!$C8=15),('Perzentile Weiblich'!$B$13*'Perzentile Weiblich'!O8^3)+('Perzentile Weiblich'!$C$13*'Perzentile Weiblich'!O8^2)+('Perzentile Weiblich'!$D$13*'Perzentile Weiblich'!O8)+'Perzentile Weiblich'!$E$13,IF(AND('Tabelle Kaderkriterien'!$H12="w",Übersicht!$C8=16,'Perzentile Weiblich'!O8>'Perzentile Weiblich'!T$6),100,IF(AND('Tabelle Kaderkriterien'!$H12="w",Übersicht!$C8=16),('Perzentile Weiblich'!$B$14*'Perzentile Weiblich'!O8^3)+('Perzentile Weiblich'!$C$14*'Perzentile Weiblich'!O8^2)+('Perzentile Weiblich'!$D$14*'Perzentile Weiblich'!O8)+'Perzentile Weiblich'!$E$14,IF(AND('Tabelle Kaderkriterien'!$H12="w",Übersicht!$C8=12,'Perzentile Weiblich'!O8>'Perzentile Weiblich'!T$7),100,IF(AND('Tabelle Kaderkriterien'!$H12="w",Übersicht!$C8=12),('Perzentile Weiblich'!$B$15*'Perzentile Weiblich'!O8^3)+('Perzentile Weiblich'!$C$15*'Perzentile Weiblich'!O8^2)+('Perzentile Weiblich'!$D$15*'Perzentile Weiblich'!O8)+'Perzentile Weiblich'!$E$15,IF(AND('Tabelle Kaderkriterien'!$H12="w",Übersicht!$C8=11,'Perzentile Weiblich'!O8>'Perzentile Weiblich'!T$8),100,IF(AND('Tabelle Kaderkriterien'!$H12="w",Übersicht!$C8=11),('Perzentile Weiblich'!$B$16*'Perzentile Weiblich'!O8^3)+('Perzentile Weiblich'!$C$16*'Perzentile Weiblich'!O8^2)+('Perzentile Weiblich'!$D$16*'Perzentile Weiblich'!O8)+'Perzentile Weiblich'!$E$16,IF(AND('Tabelle Kaderkriterien'!J12<>"m",'Tabelle Kaderkriterien'!J12<>"!w"),#N/A,#N/A))))))))))))))))))))))))) -> #DIV/0! | P8: =IF(AND('Tabelle Kaderkriterien'!$H12="m",Übersicht!$C8=13,J8<'Perzentile Männlich'!U$3),100,IF(AND('Tabelle Kaderkriterien'!$H12="m",Übersicht!$C8=13),('Perzentile Männlich'!$B$27*J8^3)+('Perzentile Männlich'!$C$27*J8^2)+('Perzentile Männlich'!$D$27*J8)+'Perzentile Männlich'!$E$27,IF(AND('Tabelle Kaderkriterien'!$H12="m",Übersicht!$C8=14,J8<'Perzentile Männlich'!U$4),100,IF(AND('Tabelle Kaderkriterien'!$H12="m",Übersicht!$C8=14),('Perzentile Männlich'!$B$28*J8^3)+('Perzentile Männlich'!$C$28*J8^2)+('Perzentile Männlich'!$D$28*J8)+'Perzentile Männlich'!$E$28,IF(AND('Tabelle Kaderkriterien'!$H12="m",Übersicht!$C8=15,J8<'Perzentile Männlich'!U$5),100,IF(AND('Tabelle Kaderkriterien'!$H12="m",Übersicht!$C8=15),('Perzentile Männlich'!$B$29*J8^3)+('Perzentile Männlich'!$C$29*J8^2)+('Perzentile Männlich'!$D$29*J8)+'Perzentile Männlich'!$E$29,IF(AND('Tabelle Kaderkriterien'!$H12="m",Übersicht!$C8=16,J8<'Perzentile Männlich'!U$6),100,IF(AND('Tabelle Kaderkriterien'!$H12="m",Übersicht!$C8=16),('Perzentile Männlich'!$B$30*J8^3)+('Perzentile Männlich'!$C$30*J8^2)+('Perzentile Männlich'!$D$30*J8)+'Perzentile Männlich'!$E$30,IF(AND('Tabelle Kaderkriterien'!$H12="m",Übersicht!$C8=12,J8<'Perzentile Männlich'!U$7),100,IF(AND('Tabelle Kaderkriterien'!$H12="m",Übersicht!$C8=12),('Perzentile Männlich'!$B$31*J8^3)+('Perzentile Männlich'!$C$31*J8^2)+('Perzentile Männlich'!$D$31*J8)+'Perzentile Männlich'!$E$31,IF(AND('Tabelle Kaderkriterien'!$H12="m",Übersicht!$C8=11,J8<'Perzentile Männlich'!U$8),100,IF(AND('Tabelle Kaderkriterien'!$H12="m",Übersicht!$C8=11),('Perzentile Männlich'!$B$32*J8^3)+('Perzentile Männlich'!$C$32*J8^2)+('Perzentile Männlich'!$D$32*J8)+'Perzentile Männlich'!$E$32,IF(AND('Tabelle Kaderkriterien'!$H12="w",Übersicht!$C8=13,J8<'Perzentile Weiblich'!U$3),100,IF(AND('Tabelle Kaderkriterien'!$H12="w",Übersicht!$C8=13),('Perzentile Weiblich'!$B$27*J8^3)+('Perzentile Weiblich'!$C$27*J8^2)+('Perzentile Weiblich'!$D$27*J8)+'Perzentile Weiblich'!$E$27,IF(AND('Tabelle Kaderkriterien'!$H12="w",Übersicht!$C8=14,J8<'Perzentile Weiblich'!U$4),100,IF(AND('Tabelle Kaderkriterien'!$H12="w",Übersicht!$C8=14),('Perzentile Weiblich'!$B$28*J8^3)+('Perzentile Weiblich'!$C$28*J8^2)+('Perzentile Weiblich'!$D$28*J8)+'Perzentile Weiblich'!$E$28,IF(AND('Tabelle Kaderkriterien'!$H12="w",Übersicht!$C8=15,J8<'Perzentile Weiblich'!U$5),100,IF(AND('Tabelle Kaderkriterien'!$H12="w",Übersicht!$C8=15),('Perzentile Weiblich'!$B$29*J8^3)+('Perzentile Weiblich'!$C$29*J8^2)+('Perzentile Weiblich'!$D$29*J8)+'Perzentile Weiblich'!$E$29,IF(AND('Tabelle Kaderkriterien'!$H12="w",Übersicht!$C8=16,J8<'Perzentile Weiblich'!U$6),100,IF(AND('Tabelle Kaderkriterien'!$H12="w",Übersicht!$C8=16),('Perzentile Weiblich'!$B$30*J8^3)+('Perzentile Weiblich'!$C$30*J8^2)+('Perzentile Weiblich'!$D$30*J8)+'Perzentile Weiblich'!$E$30,IF(AND('Tabelle Kaderkriterien'!$H12="w",Übersicht!$C8=12,J8<'Perzentile Weiblich'!U$7),100,IF(AND('Tabelle Kaderkriterien'!$H12="w",Übersicht!$C8=12),('Perzentile Weiblich'!$B$31*J8^3)+('Perzentile Weiblich'!$C$31*J8^2)+('Perzentile Weiblich'!$D$31*J8)+'Perzentile Weiblich'!$E$31,IF(AND('Tabelle Kaderkriterien'!$H12="w",Übersicht!$C8=11,J8<'Perzentile Weiblich'!U$8),100,IF(AND('Tabelle Kaderkriterien'!$H12="w",Übersicht!$C8=11),('Perzentile Weiblich'!$B$32*J8^3)+('Perzentile Weiblich'!$C$32*J8^2)+('Perzentile Weiblich'!$D$32*J8)+'Perzentile Weiblich'!$E$32,IF(AND('Tabelle Kaderkriterien'!H12<>"m",'Tabelle Kaderkriterien'!H12<>"!w"),#N/A,#N/A))))))))))))))))))))))))) -> #N/A | Q8: =IF(AND('Tabelle Kaderkriterien'!$H12="m",Übersicht!$C8=13,K8>'Perzentile Männlich'!V$3),100,IF(AND('Tabelle Kaderkriterien'!$H12="m",Übersicht!$C8=13),('Perzentile Männlich'!$B$19*K8^3)+('Perzentile Männlich'!$C$19*K8^2)+('Perzentile Männlich'!$D$19*K8)+'Perzentile Männlich'!$E$19,IF(AND('Tabelle Kaderkriterien'!$H12="m",Übersicht!$C8=14,K8>'Perzentile Männlich'!V$4),100,IF(AND('Tabelle Kaderkriterien'!$H12="m",Übersicht!$C8=14),('Perzentile Männlich'!$B$20*K8^3)+('Perzentile Männlich'!$C$20*K8^2)+('Perzentile Männlich'!$D$20*K8)+'Perzentile Männlich'!$E$20,IF(AND('Tabelle Kaderkriterien'!$H12="m",Übersicht!$C8=15,K8>'Perzentile Männlich'!V$5),100,IF(AND('Tabelle Kaderkriterien'!$H12="m",Übersicht!$C8=15),('Perzentile Männlich'!$B$21*K8^3)+('Perzentile Männlich'!$C$21*K8^2)+('Perzentile Männlich'!$D$21*K8)+'Perzentile Männlich'!$E$21,IF(AND('Tabelle Kaderkriterien'!$H12="m",Übersicht!$C8=16,K8>'Perzentile Männlich'!V$6),100,IF(AND('Tabelle Kaderkriterien'!$H12="m",Übersicht!$C8=16),('Perzentile Männlich'!$B$22*K8^3)+('Perzentile Männlich'!$C$22*K8^2)+('Perzentile Männlich'!$D$22*K8)+'Perzentile Männlich'!$E$22,IF(AND('Tabelle Kaderkriterien'!$H12="m",Übersicht!$C8=12,K8>'Perzentile Männlich'!V$7),100,IF(AND('Tabelle Kaderkriterien'!$H12="m",Übersicht!$C8=12),('Perzentile Männlich'!$B$23*K8^3)+('Perzentile Männlich'!$C$23*K8^2)+('Perzentile Männlich'!$D$23*K8)+'Perzentile Männlich'!$E$23,IF(AND('Tabelle Kaderkriterien'!$H12="m",Übersicht!$C8=11,K8>'Perzentile Männlich'!V$8),100,IF(AND('Tabelle Kaderkriterien'!$H12="m",Übersicht!$C8=11),('Perzentile Männlich'!$B$24*K8^3)+('Perzentile Männlich'!$C$24*K8^2)+('Perzentile Männlich'!$D$24*K8)+'Perzentile Männlich'!$E$24,IF(AND('Tabelle Kaderkriterien'!$H12="w",Übersicht!$C8=13,K8>'Perzentile Weiblich'!V$3),100,IF(AND('Tabelle Kaderkriterien'!$H12="w",Übersicht!$C8=13),('Perzentile Weiblich'!$B$19*K8^3)+('Perzentile Weiblich'!$C$19*K8^2)+('Perzentile Weiblich'!$D$19*K8)+'Perzentile Weiblich'!$E$19,IF(AND('Tabelle Kaderkriterien'!$H12="w",Übersicht!$C8=14,K8>'Perzentile Weiblich'!V$4),100,IF(AND('Tabelle Kaderkriterien'!$H12="w",Übersicht!$C8=14),('Perzentile Weiblich'!$B$20*K8^3)+('Perzentile Weiblich'!$C$20*K8^2)+('Perzentile Weiblich'!$D$20*K8)+'Perzentile Weiblich'!$E$20,IF(AND('Tabelle Kaderkriterien'!$H12="w",Übersicht!$C8=15,K8>'Perzentile Weiblich'!V$5),100,IF(AND('Tabelle Kaderkriterien'!$H12="w",Übersicht!$C8=15),('Perzentile Weiblich'!$B$21*K8^3)+('Perzentile Weiblich'!$C$21*K8^2)+('Perzentile Weiblich'!$D$21*K8)+'Perzentile Weiblich'!$E$21,IF(AND('Tabelle Kaderkriterien'!$H12="w",Übersicht!$C8=16,K8>'Perzentile Weiblich'!V$6),100,IF(AND('Tabelle Kaderkriterien'!$H12="w",Übersicht!$C8=16),('Perzentile Weiblich'!$B$22*K8^3)+('Perzentile Weiblich'!$C$22*K8^2)+('Perzentile Weiblich'!$D$22*K8)+'Perzentile Weiblich'!$E$22,IF(AND('Tabelle Kaderkriterien'!$H12="w",Übersicht!$C8=12,K8>'Perzentile Weiblich'!V$7),100,IF(AND('Tabelle Kaderkriterien'!$H12="w",Übersicht!$C8=12),('Perzentile Weiblich'!$B$23*K8^3)+('Perzentile Weiblich'!$C$23*K8^2)+('Perzentile Weiblich'!$D$23*K8)+'Perzentile Weiblich'!$E$23,IF(AND('Tabelle Kaderkriterien'!$H12="w",Übersicht!$C8=11,K8>'Perzentile Weiblich'!V$8),100,IF(AND('Tabelle Kaderkriterien'!$H12="w",Übersicht!$C8=11),('Perzentile Weiblich'!$B$24*K8^3)+('Perzentile Weiblich'!$C$24*K8^2)+('Perzentile Weiblich'!$D$24*K8)+'Perzentile Weiblich'!$E$24,IF(AND('Tabelle Kaderkriterien'!I12<>"m",'Tabelle Kaderkriterien'!I12<>"!w"),#N/A,#N/A))))))))))))))))))))))))) -> #N/A | S8: =M8*0.25+N8*0.25+O8*0.19+P8*0.14+Q8*0.17 -> #DIV/0! | T8: =M8*0.25+N8*0.25+O8*0.19+P8*0.14+Q8*0.17 -> #DIV/0!
A9: ='Tabelle Kaderkriterien'!B13 -> 0 | B9: ='Tabelle Kaderkriterien'!C13 -> 0 | C9: ='Tabelle Kaderkriterien'!G13 -> 0 | D9: ='Tabelle Kaderkriterien'!K13 -> 0 | E9: ='Tabelle Kaderkriterien'!L13 -> 0 | F9: ='Tabelle Kaderkriterien'!N13 -> 0 | G9: ='Tabelle Kaderkriterien'!O13 -> 0 | H9: ='Tabelle Kaderkriterien'!Q13 -> 0 | I9: ='Tabelle Kaderkriterien'!R13 -> 0 | J9: ='Tabelle Kaderkriterien'!T13 -> 0 | K9: ='Tabelle Kaderkriterien'!V13 -> 0 | M9: =IF(AND('Tabelle Kaderkriterien'!$H13="m",Übersicht!$C9=13,'Perzentile Männlich'!M9>'Perzentile Männlich'!R$3),100,IF(AND('Tabelle Kaderkriterien'!$H13="m",Übersicht!$C9=13),('Perzentile Männlich'!$B$35*'Perzentile Männlich'!M9^3)+('Perzentile Männlich'!$C$35*'Perzentile Männlich'!M9^2)+('Perzentile Männlich'!$D$35*'Perzentile Männlich'!M9)+'Perzentile Männlich'!$E$35,IF(AND('Tabelle Kaderkriterien'!$H13="m",Übersicht!$C9=14,'Perzentile Männlich'!M9>'Perzentile Männlich'!R$4),100,IF(AND('Tabelle Kaderkriterien'!$H13="m",Übersicht!$C9=14),('Perzentile Männlich'!$B$36*'Perzentile Männlich'!M9^3)+('Perzentile Männlich'!$C$36*'Perzentile Männlich'!M9^2)+('Perzentile Männlich'!$D$36*'Perzentile Männlich'!M9)+'Perzentile Männlich'!$E$36,IF(AND('Tabelle Kaderkriterien'!$H13="m",Übersicht!$C9=15,'Perzentile Männlich'!M9>'Perzentile Männlich'!R$5),100,IF(AND('Tabelle Kaderkriterien'!$H13="m",Übersicht!$C9=15),('Perzentile Männlich'!$B$37*'Perzentile Männlich'!M9^3)+('Perzentile Männlich'!$C$37*'Perzentile Männlich'!M9^2)+('Perzentile Männlich'!$D$37*'Perzentile Männlich'!M9)+'Perzentile Männlich'!$E$37,IF(AND('Tabelle Kaderkriterien'!$H13="m",Übersicht!$C9=16,'Perzentile Männlich'!M9>'Perzentile Männlich'!R$6),100,IF(AND('Tabelle Kaderkriterien'!$H13="m",Übersicht!$C9=16),('Perzentile Männlich'!$B$38*'Perzentile Männlich'!M9^3)+('Perzentile Männlich'!$C$38*'Perzentile Männlich'!M9^2)+('Perzentile Männlich'!$D$38*'Perzentile Männlich'!M9)+'Perzentile Männlich'!$E$38,IF(AND('Tabelle Kaderkriterien'!$H13="m",Übersicht!$C9=12,'Perzentile Männlich'!M9>'Perzentile Männlich'!R$7),100,IF(AND('Tabelle Kaderkriterien'!$H13="m",Übersicht!$C9=12),('Perzentile Männlich'!$B$39*'Perzentile Männlich'!M9^3)+('Perzentile Männlich'!$C$39*'Perzentile Männlich'!M9^2)+('Perzentile Männlich'!$D$39*'Perzentile Männlich'!M9)+'Perzentile Männlich'!$E$39,IF(AND('Tabelle Kaderkriterien'!$H13="m",Übersicht!$C9=11,'Perzentile Männlich'!M9>'Perzentile Männlich'!R$8),100,IF(AND('Tabelle Kaderkriterien'!$H13="m",Übersicht!$C9=11),('Perzentile Männlich'!$B$40*'Perzentile Männlich'!M9^3)+('Perzentile Männlich'!$C$40*'Perzentile Männlich'!M9^2)+('Perzentile Männlich'!$D$40*'Perzentile Männlich'!M9)+'Perzentile Männlich'!$E$40,IF(AND('Tabelle Kaderkriterien'!$H13="w",Übersicht!$C9=13,'Perzentile Weiblich'!M9>'Perzentile Weiblich'!R$3),100,IF(AND('Tabelle Kaderkriterien'!$H13="w",Übersicht!$C9=13),('Perzentile Weiblich'!$B$35*'Perzentile Weiblich'!M9^3)+('Perzentile Weiblich'!$C$35*'Perzentile Weiblich'!M9^2)+('Perzentile Weiblich'!$D$35*'Perzentile Weiblich'!M9)+'Perzentile Weiblich'!$E$35,IF(AND('Tabelle Kaderkriterien'!$H13="w",Übersicht!$C9=14,'Perzentile Weiblich'!M9>'Perzentile Weiblich'!R$4),100,IF(AND('Tabelle Kaderkriterien'!$H13="w",Übersicht!$C9=14),('Perzentile Weiblich'!$B$36*'Perzentile Weiblich'!M9^3)+('Perzentile Weiblich'!$C$36*'Perzentile Weiblich'!M9^2)+('Perzentile Weiblich'!$D$36*'Perzentile Weiblich'!M9)+'Perzentile Weiblich'!$E$36,IF(AND('Tabelle Kaderkriterien'!$H13="w",Übersicht!$C9=15,'Perzentile Weiblich'!M9>'Perzentile Weiblich'!R$5),100,IF(AND('Tabelle Kaderkriterien'!$H13="w",Übersicht!$C9=15),('Perzentile Weiblich'!$B$37*'Perzentile Weiblich'!M9^3)+('Perzentile Weiblich'!$C$37*'Perzentile Weiblich'!M9^2)+('Perzentile Weiblich'!$D$37*'Perzentile Weiblich'!M9)+'Perzentile Weiblich'!$E$37,IF(AND('Tabelle Kaderkriterien'!$H13="w",Übersicht!$C9=16,'Perzentile Weiblich'!M9>'Perzentile Weiblich'!R$6),100,IF(AND('Tabelle Kaderkriterien'!$H13="w",Übersicht!$C9=16),('Perzentile Weiblich'!$B$38*'Perzentile Weiblich'!M9^3)+('Perzentile Weiblich'!$C$38*'Perzentile Weiblich'!M9^2)+('Perzentile Weiblich'!$D$38*'Perzentile Weiblich'!M9)+'Perzentile Weiblich'!$E$38,IF(AND('Tabelle Kaderkriterien'!$H13="w",Übersicht!$C9=12,'Perzentile Weiblich'!M9>'Perzentile Weiblich'!R$7),100,IF(AND('Tabelle Kaderkriterien'!$H13="w",Übersicht!$C9=12),('Perzentile Weiblich'!$B$39*'Perzentile Weiblich'!M9^3)+('Perzentile Weiblich'!$C$39*'Perzentile Weiblich'!M9^2)+('Perzentile Weiblich'!$D$39*'Perzentile Weiblich'!M9)+'Perzentile Weiblich'!$E$39,IF(AND('Tabelle Kaderkriterien'!$H13="w",Übersicht!$C9=11,'Perzentile Weiblich'!M9>'Perzentile Weiblich'!R$8),100,IF(AND('Tabelle Kaderkriterien'!$H13="w",Übersicht!$C9=11),('Perzentile Weiblich'!$B$40*'Perzentile Weiblich'!M9^3)+('Perzentile Weiblich'!$C$40*'Perzentile Weiblich'!M9^2)+('Perzentile Weiblich'!$D$40*'Perzentile Weiblich'!M9)+'Perzentile Weiblich'!$E$40,IF(AND('Tabelle Kaderkriterien'!H13<>"m",'Tabelle Kaderkriterien'!H13<>"!w"),#N/A,#N/A))))))))))))))))))))))))) -> #DIV/0! | N9: =IF(AND('Tabelle Kaderkriterien'!$H13="m",Übersicht!$C9=13,'Perzentile Männlich'!N9>'Perzentile Männlich'!S$3),100,IF(AND('Tabelle Kaderkriterien'!$H13="m",Übersicht!$C9=13),('Perzentile Männlich'!$B$43*'Perzentile Männlich'!N9^3)+('Perzentile Männlich'!$C$43*'Perzentile Männlich'!N9^2)+('Perzentile Männlich'!$D$43*'Perzentile Männlich'!N9)+'Perzentile Männlich'!$E$43,IF(AND('Tabelle Kaderkriterien'!$H13="m",Übersicht!$C9=14,'Perzentile Männlich'!N9>'Perzentile Männlich'!S$4),100,IF(AND('Tabelle Kaderkriterien'!$H13="m",Übersicht!$C9=14),('Perzentile Männlich'!$B$44*'Perzentile Männlich'!N9^3)+('Perzentile Männlich'!$C$44*'Perzentile Männlich'!N9^2)+('Perzentile Männlich'!$D$44*'Perzentile Männlich'!N9)+'Perzentile Männlich'!$E$44,IF(AND('Tabelle Kaderkriterien'!$H13="m",Übersicht!$C9=15,'Perzentile Männlich'!N9>'Perzentile Männlich'!S$5),100,IF(AND('Tabelle Kaderkriterien'!$H13="m",Übersicht!$C9=15),('Perzentile Männlich'!$B$45*'Perzentile Männlich'!N9^3)+('Perzentile Männlich'!$C$45*'Perzentile Männlich'!N9^2)+('Perzentile Männlich'!$D$45*'Perzentile Männlich'!N9)+'Perzentile Männlich'!$E$45,IF(AND('Tabelle Kaderkriterien'!$H13="m",Übersicht!$C9=16,'Perzentile Männlich'!N9>'Perzentile Männlich'!S$6),100,IF(AND('Tabelle Kaderkriterien'!$H13="m",Übersicht!$C9=16),('Perzentile Männlich'!$B$46*'Perzentile Männlich'!N9^3)+('Perzentile Männlich'!$C$46*'Perzentile Männlich'!N9^2)+('Perzentile Männlich'!$D$46*'Perzentile Männlich'!N9)+'Perzentile Männlich'!$E$46,IF(AND('Tabelle Kaderkriterien'!$H13="m",Übersicht!$C9=12,'Perzentile Männlich'!N9>'Perzentile Männlich'!S$7),100,IF(AND('Tabelle Kaderkriterien'!$H13="m",Übersicht!$C9=12),('Perzentile Männlich'!$B$47*'Perzentile Männlich'!N9^3)+('Perzentile Männlich'!$C$47*'Perzentile Männlich'!N9^2)+('Perzentile Männlich'!$D$47*'Perzentile Männlich'!N9)+'Perzentile Männlich'!$E$47,IF(AND('Tabelle Kaderkriterien'!$H13="m",Übersicht!$C9=11,'Perzentile Männlich'!N9>'Perzentile Männlich'!S$8),100,IF(AND('Tabelle Kaderkriterien'!$H13="m",Übersicht!$C9=11),('Perzentile Männlich'!$B$48*'Perzentile Männlich'!N9^3)+('Perzentile Männlich'!$C$48*'Perzentile Männlich'!N9^2)+('Perzentile Männlich'!$D$48*'Perzentile Männlich'!N9)+'Perzentile Männlich'!$E$48,IF(AND('Tabelle Kaderkriterien'!$H13="w",Übersicht!$C9=13,'Perzentile Weiblich'!N9>'Perzentile Weiblich'!S$3),100,IF(AND('Tabelle Kaderkriterien'!$H13="w",Übersicht!$C9=13),('Perzentile Weiblich'!$B$43*'Perzentile Weiblich'!N9^3)+('Perzentile Weiblich'!$C$43*'Perzentile Weiblich'!N9^2)+('Perzentile Weiblich'!$D$43*'Perzentile Weiblich'!N9)+'Perzentile Weiblich'!$E$43,IF(AND('Tabelle Kaderkriterien'!$H13="w",Übersicht!$C9=14,'Perzentile Weiblich'!N9>'Perzentile Weiblich'!S$4),100,IF(AND('Tabelle Kaderkriterien'!$H13="w",Übersicht!$C9=14),('Perzentile Weiblich'!$B$44*'Perzentile Weiblich'!N9^3)+('Perzentile Weiblich'!$C$44*'Perzentile Weiblich'!N9^2)+('Perzentile Weiblich'!$D$44*'Perzentile Weiblich'!N9)+'Perzentile Weiblich'!$E$44,IF(AND('Tabelle Kaderkriterien'!$H13="w",Übersicht!$C9=15,'Perzentile Weiblich'!N9>'Perzentile Weiblich'!S$5),100,IF(AND('Tabelle Kaderkriterien'!$H13="w",Übersicht!$C9=15),('Perzentile Weiblich'!$B$45*'Perzentile Weiblich'!N9^3)+('Perzentile Weiblich'!$C$45*'Perzentile Weiblich'!N9^2)+('Perzentile Weiblich'!$D$45*'Perzentile Weiblich'!N9)+'Perzentile Weiblich'!$E$45,IF(AND('Tabelle Kaderkriterien'!$H13="w",Übersicht!$C9=16,'Perzentile Weiblich'!N9>'Perzentile Weiblich'!S$6),100,IF(AND('Tabelle Kaderkriterien'!$H13="w",Übersicht!$C9=16),('Perzentile Weiblich'!$B$46*'Perzentile Weiblich'!N9^3)+('Perzentile Weiblich'!$C$46*'Perzentile Weiblich'!N9^2)+('Perzentile Weiblich'!$D$46*'Perzentile Weiblich'!N9)+'Perzentile Weiblich'!$E$46,IF(AND('Tabelle Kaderkriterien'!$H13="w",Übersicht!$C9=12,'Perzentile Weiblich'!N9>'Perzentile Weiblich'!S$7),100,IF(AND('Tabelle Kaderkriterien'!$H13="w",Übersicht!$C9=12),('Perzentile Weiblich'!$B$47*'Perzentile Weiblich'!N9^3)+('Perzentile Weiblich'!$C$47*'Perzentile Weiblich'!N9^2)+('Perzentile Weiblich'!$D$47*'Perzentile Weiblich'!N9)+'Perzentile Weiblich'!$E$47,IF(AND('Tabelle Kaderkriterien'!$H13="w",Übersicht!$C9=11,'Perzentile Weiblich'!N9>'Perzentile Weiblich'!S$8),100,IF(AND('Tabelle Kaderkriterien'!$H13="w",Übersicht!$C9=11),('Perzentile Weiblich'!$B$48*'Perzentile Weiblich'!N9^3)+('Perzentile Weiblich'!$C$48*'Perzentile Weiblich'!N9^2)+('Perzentile Weiblich'!$D$48*'Perzentile Weiblich'!N9)+'Perzentile Weiblich'!$E$48,IF(AND('Tabelle Kaderkriterien'!I13<>"m",'Tabelle Kaderkriterien'!I13<>"!w"),#N/A,#N/A))))))))))))))))))))))))) -> #DIV/0! | O9: =IF(AND('Tabelle Kaderkriterien'!$H13="m",Übersicht!$C9=13,'Perzentile Männlich'!O9>'Perzentile Männlich'!T$3),100,IF(AND('Tabelle Kaderkriterien'!$H13="m",Übersicht!$C9=13),('Perzentile Männlich'!$B$11*'Perzentile Männlich'!O9^3)+('Perzentile Männlich'!$C$11*'Perzentile Männlich'!O9^2)+('Perzentile Männlich'!$D$11*'Perzentile Männlich'!O9)+'Perzentile Männlich'!$E$11,IF(AND('Tabelle Kaderkriterien'!$H13="m",Übersicht!$C9=14,'Perzentile Männlich'!O9>'Perzentile Männlich'!T$4),100,IF(AND('Tabelle Kaderkriterien'!$H13="m",Übersicht!$C9=14),('Perzentile Männlich'!$B$12*'Perzentile Männlich'!O9^3)+('Perzentile Männlich'!$C$12*'Perzentile Männlich'!O9^2)+('Perzentile Männlich'!$D$12*'Perzentile Männlich'!O9)+'Perzentile Männlich'!$E$12,IF(AND('Tabelle Kaderkriterien'!$H13="m",Übersicht!$C9=15,'Perzentile Männlich'!O9>'Perzentile Männlich'!T$5),100,IF(AND('Tabelle Kaderkriterien'!$H13="m",Übersicht!$C9=15),('Perzentile Männlich'!$B$13*'Perzentile Männlich'!O9^3)+('Perzentile Männlich'!$C$13*'Perzentile Männlich'!O9^2)+('Perzentile Männlich'!$D$13*'Perzentile Männlich'!O9)+'Perzentile Männlich'!$E$13,IF(AND('Tabelle Kaderkriterien'!$H13="m",Übersicht!$C9=16,'Perzentile Männlich'!O9>'Perzentile Männlich'!T$6),100,IF(AND('Tabelle Kaderkriterien'!$H13="m",Übersicht!$C9=16),('Perzentile Männlich'!$B$14*'Perzentile Männlich'!O9^3)+('Perzentile Männlich'!$C$14*'Perzentile Männlich'!O9^2)+('Perzentile Männlich'!$D$14*'Perzentile Männlich'!O9)+'Perzentile Männlich'!$E$14,IF(AND('Tabelle Kaderkriterien'!$H13="m",Übersicht!$C9=12,'Perzentile Männlich'!O9>'Perzentile Männlich'!T$7),100,IF(AND('Tabelle Kaderkriterien'!$H13="m",Übersicht!$C9=12),('Perzentile Männlich'!$B$15*'Perzentile Männlich'!O9^3)+('Perzentile Männlich'!$C$15*'Perzentile Männlich'!O9^2)+('Perzentile Männlich'!$D$15*'Perzentile Männlich'!O9)+'Perzentile Männlich'!$E$15,IF(AND('Tabelle Kaderkriterien'!$H13="m",Übersicht!$C9=11,'Perzentile Männlich'!O9>'Perzentile Männlich'!T$8),100,IF(AND('Tabelle Kaderkriterien'!$H13="m",Übersicht!$C9=11),('Perzentile Männlich'!$B$16*'Perzentile Männlich'!O9^3)+('Perzentile Männlich'!$C$16*'Perzentile Männlich'!O9^2)+('Perzentile Männlich'!$D$16*'Perzentile Männlich'!O9)+'Perzentile Männlich'!$E$16,IF(AND('Tabelle Kaderkriterien'!$H13="w",Übersicht!$C9=13,'Perzentile Weiblich'!O9>'Perzentile Weiblich'!T$3),100,IF(AND('Tabelle Kaderkriterien'!$H13="w",Übersicht!$C9=13),('Perzentile Weiblich'!$B$11*'Perzentile Weiblich'!O9^3)+('Perzentile Weiblich'!$C$11*'Perzentile Weiblich'!O9^2)+('Perzentile Weiblich'!$D$11*'Perzentile Weiblich'!O9)+'Perzentile Weiblich'!$E$11,IF(AND('Tabelle Kaderkriterien'!$H13="w",Übersicht!$C9=14,'Perzentile Weiblich'!O9>'Perzentile Weiblich'!T$4),100,IF(AND('Tabelle Kaderkriterien'!$H13="w",Übersicht!$C9=14),('Perzentile Weiblich'!$B$12*'Perzentile Weiblich'!O9^3)+('Perzentile Weiblich'!$C$12*'Perzentile Weiblich'!O9^2)+('Perzentile Weiblich'!$D$12*'Perzentile Weiblich'!O9)+'Perzentile Weiblich'!$E$12,IF(AND('Tabelle Kaderkriterien'!$H13="w",Übersicht!$C9=15,'Perzentile Weiblich'!O9>'Perzentile Weiblich'!T$5),100,IF(AND('Tabelle Kaderkriterien'!$H13="w",Übersicht!$C9=15),('Perzentile Weiblich'!$B$13*'Perzentile Weiblich'!O9^3)+('Perzentile Weiblich'!$C$13*'Perzentile Weiblich'!O9^2)+('Perzentile Weiblich'!$D$13*'Perzentile Weiblich'!O9)+'Perzentile Weiblich'!$E$13,IF(AND('Tabelle Kaderkriterien'!$H13="w",Übersicht!$C9=16,'Perzentile Weiblich'!O9>'Perzentile Weiblich'!T$6),100,IF(AND('Tabelle Kaderkriterien'!$H13="w",Übersicht!$C9=16),('Perzentile Weiblich'!$B$14*'Perzentile Weiblich'!O9^3)+('Perzentile Weiblich'!$C$14*'Perzentile Weiblich'!O9^2)+('Perzentile Weiblich'!$D$14*'Perzentile Weiblich'!O9)+'Perzentile Weiblich'!$E$14,IF(AND('Tabelle Kaderkriterien'!$H13="w",Übersicht!$C9=12,'Perzentile Weiblich'!O9>'Perzentile Weiblich'!T$7),100,IF(AND('Tabelle Kaderkriterien'!$H13="w",Übersicht!$C9=12),('Perzentile Weiblich'!$B$15*'Perzentile Weiblich'!O9^3)+('Perzentile Weiblich'!$C$15*'Perzentile Weiblich'!O9^2)+('Perzentile Weiblich'!$D$15*'Perzentile Weiblich'!O9)+'Perzentile Weiblich'!$E$15,IF(AND('Tabelle Kaderkriterien'!$H13="w",Übersicht!$C9=11,'Perzentile Weiblich'!O9>'Perzentile Weiblich'!T$8),100,IF(AND('Tabelle Kaderkriterien'!$H13="w",Übersicht!$C9=11),('Perzentile Weiblich'!$B$16*'Perzentile Weiblich'!O9^3)+('Perzentile Weiblich'!$C$16*'Perzentile Weiblich'!O9^2)+('Perzentile Weiblich'!$D$16*'Perzentile Weiblich'!O9)+'Perzentile Weiblich'!$E$16,IF(AND('Tabelle Kaderkriterien'!J13<>"m",'Tabelle Kaderkriterien'!J13<>"!w"),#N/A,#N/A))))))))))))))))))))))))) -> #DIV/0! | P9: =IF(AND('Tabelle Kaderkriterien'!$H13="m",Übersicht!$C9=13,J9<'Perzentile Männlich'!U$3),100,IF(AND('Tabelle Kaderkriterien'!$H13="m",Übersicht!$C9=13),('Perzentile Männlich'!$B$27*J9^3)+('Perzentile Männlich'!$C$27*J9^2)+('Perzentile Männlich'!$D$27*J9)+'Perzentile Männlich'!$E$27,IF(AND('Tabelle Kaderkriterien'!$H13="m",Übersicht!$C9=14,J9<'Perzentile Männlich'!U$4),100,IF(AND('Tabelle Kaderkriterien'!$H13="m",Übersicht!$C9=14),('Perzentile Männlich'!$B$28*J9^3)+('Perzentile Männlich'!$C$28*J9^2)+('Perzentile Männlich'!$D$28*J9)+'Perzentile Männlich'!$E$28,IF(AND('Tabelle Kaderkriterien'!$H13="m",Übersicht!$C9=15,J9<'Perzentile Männlich'!U$5),100,IF(AND('Tabelle Kaderkriterien'!$H13="m",Übersicht!$C9=15),('Perzentile Männlich'!$B$29*J9^3)+('Perzentile Männlich'!$C$29*J9^2)+('Perzentile Männlich'!$D$29*J9)+'Perzentile Männlich'!$E$29,IF(AND('Tabelle Kaderkriterien'!$H13="m",Übersicht!$C9=16,J9<'Perzentile Männlich'!U$6),100,IF(AND('Tabelle Kaderkriterien'!$H13="m",Übersicht!$C9=16),('Perzentile Männlich'!$B$30*J9^3)+('Perzentile Männlich'!$C$30*J9^2)+('Perzentile Männlich'!$D$30*J9)+'Perzentile Männlich'!$E$30,IF(AND('Tabelle Kaderkriterien'!$H13="m",Übersicht!$C9=12,J9<'Perzentile Männlich'!U$7),100,IF(AND('Tabelle Kaderkriterien'!$H13="m",Übersicht!$C9=12),('Perzentile Männlich'!$B$31*J9^3)+('Perzentile Männlich'!$C$31*J9^2)+('Perzentile Männlich'!$D$31*J9)+'Perzentile Männlich'!$E$31,IF(AND('Tabelle Kaderkriterien'!$H13="m",Übersicht!$C9=11,J9<'Perzentile Männlich'!U$8),100,IF(AND('Tabelle Kaderkriterien'!$H13="m",Übersicht!$C9=11),('Perzentile Männlich'!$B$32*J9^3)+('Perzentile Männlich'!$C$32*J9^2)+('Perzentile Männlich'!$D$32*J9)+'Perzentile Männlich'!$E$32,IF(AND('Tabelle Kaderkriterien'!$H13="w",Übersicht!$C9=13,J9<'Perzentile Weiblich'!U$3),100,IF(AND('Tabelle Kaderkriterien'!$H13="w",Übersicht!$C9=13),('Perzentile Weiblich'!$B$27*J9^3)+('Perzentile Weiblich'!$C$27*J9^2)+('Perzentile Weiblich'!$D$27*J9)+'Perzentile Weiblich'!$E$27,IF(AND('Tabelle Kaderkriterien'!$H13="w",Übersicht!$C9=14,J9<'Perzentile Weiblich'!U$4),100,IF(AND('Tabelle Kaderkriterien'!$H13="w",Übersicht!$C9=14),('Perzentile Weiblich'!$B$28*J9^3)+('Perzentile Weiblich'!$C$28*J9^2)+('Perzentile Weiblich'!$D$28*J9)+'Perzentile Weiblich'!$E$28,IF(AND('Tabelle Kaderkriterien'!$H13="w",Übersicht!$C9=15,J9<'Perzentile Weiblich'!U$5),100,IF(AND('Tabelle Kaderkriterien'!$H13="w",Übersicht!$C9=15),('Perzentile Weiblich'!$B$29*J9^3)+('Perzentile Weiblich'!$C$29*J9^2)+('Perzentile Weiblich'!$D$29*J9)+'Perzentile Weiblich'!$E$29,IF(AND('Tabelle Kaderkriterien'!$H13="w",Übersicht!$C9=16,J9<'Perzentile Weiblich'!U$6),100,IF(AND('Tabelle Kaderkriterien'!$H13="w",Übersicht!$C9=16),('Perzentile Weiblich'!$B$30*J9^3)+('Perzentile Weiblich'!$C$30*J9^2)+('Perzentile Weiblich'!$D$30*J9)+'Perzentile Weiblich'!$E$30,IF(AND('Tabelle Kaderkriterien'!$H13="w",Übersicht!$C9=12,J9<'Perzentile Weiblich'!U$7),100,IF(AND('Tabelle Kaderkriterien'!$H13="w",Übersicht!$C9=12),('Perzentile Weiblich'!$B$31*J9^3)+('Perzentile Weiblich'!$C$31*J9^2)+('Perzentile Weiblich'!$D$31*J9)+'Perzentile Weiblich'!$E$31,IF(AND('Tabelle Kaderkriterien'!$H13="w",Übersicht!$C9=11,J9<'Perzentile Weiblich'!U$8),100,IF(AND('Tabelle Kaderkriterien'!$H13="w",Übersicht!$C9=11),('Perzentile Weiblich'!$B$32*J9^3)+('Perzentile Weiblich'!$C$32*J9^2)+('Perzentile Weiblich'!$D$32*J9)+'Perzentile Weiblich'!$E$32,IF(AND('Tabelle Kaderkriterien'!H13<>"m",'Tabelle Kaderkriterien'!H13<>"!w"),#N/A,#N/A))))))))))))))))))))))))) -> #N/A | Q9: =IF(AND('Tabelle Kaderkriterien'!$H13="m",Übersicht!$C9=13,K9>'Perzentile Männlich'!V$3),100,IF(AND('Tabelle Kaderkriterien'!$H13="m",Übersicht!$C9=13),('Perzentile Männlich'!$B$19*K9^3)+('Perzentile Männlich'!$C$19*K9^2)+('Perzentile Männlich'!$D$19*K9)+'Perzentile Männlich'!$E$19,IF(AND('Tabelle Kaderkriterien'!$H13="m",Übersicht!$C9=14,K9>'Perzentile Männlich'!V$4),100,IF(AND('Tabelle Kaderkriterien'!$H13="m",Übersicht!$C9=14),('Perzentile Männlich'!$B$20*K9^3)+('Perzentile Männlich'!$C$20*K9^2)+('Perzentile Männlich'!$D$20*K9)+'Perzentile Männlich'!$E$20,IF(AND('Tabelle Kaderkriterien'!$H13="m",Übersicht!$C9=15,K9>'Perzentile Männlich'!V$5),100,IF(AND('Tabelle Kaderkriterien'!$H13="m",Übersicht!$C9=15),('Perzentile Männlich'!$B$21*K9^3)+('Perzentile Männlich'!$C$21*K9^2)+('Perzentile Männlich'!$D$21*K9)+'Perzentile Männlich'!$E$21,IF(AND('Tabelle Kaderkriterien'!$H13="m",Übersicht!$C9=16,K9>'Perzentile Männlich'!V$6),100,IF(AND('Tabelle Kaderkriterien'!$H13="m",Übersicht!$C9=16),('Perzentile Männlich'!$B$22*K9^3)+('Perzentile Männlich'!$C$22*K9^2)+('Perzentile Männlich'!$D$22*K9)+'Perzentile Männlich'!$E$22,IF(AND('Tabelle Kaderkriterien'!$H13="m",Übersicht!$C9=12,K9>'Perzentile Männlich'!V$7),100,IF(AND('Tabelle Kaderkriterien'!$H13="m",Übersicht!$C9=12),('Perzentile Männlich'!$B$23*K9^3)+('Perzentile Männlich'!$C$23*K9^2)+('Perzentile Männlich'!$D$23*K9)+'Perzentile Männlich'!$E$23,IF(AND('Tabelle Kaderkriterien'!$H13="m",Übersicht!$C9=11,K9>'Perzentile Männlich'!V$8),100,IF(AND('Tabelle Kaderkriterien'!$H13="m",Übersicht!$C9=11),('Perzentile Männlich'!$B$24*K9^3)+('Perzentile Männlich'!$C$24*K9^2)+('Perzentile Männlich'!$D$24*K9)+'Perzentile Männlich'!$E$24,IF(AND('Tabelle Kaderkriterien'!$H13="w",Übersicht!$C9=13,K9>'Perzentile Weiblich'!V$3),100,IF(AND('Tabelle Kaderkriterien'!$H13="w",Übersicht!$C9=13),('Perzentile Weiblich'!$B$19*K9^3)+('Perzentile Weiblich'!$C$19*K9^2)+('Perzentile Weiblich'!$D$19*K9)+'Perzentile Weiblich'!$E$19,IF(AND('Tabelle Kaderkriterien'!$H13="w",Übersicht!$C9=14,K9>'Perzentile Weiblich'!V$4),100,IF(AND('Tabelle Kaderkriterien'!$H13="w",Übersicht!$C9=14),('Perzentile Weiblich'!$B$20*K9^3)+('Perzentile Weiblich'!$C$20*K9^2)+('Perzentile Weiblich'!$D$20*K9)+'Perzentile Weiblich'!$E$20,IF(AND('Tabelle Kaderkriterien'!$H13="w",Übersicht!$C9=15,K9>'Perzentile Weiblich'!V$5),100,IF(AND('Tabelle Kaderkriterien'!$H13="w",Übersicht!$C9=15),('Perzentile Weiblich'!$B$21*K9^3)+('Perzentile Weiblich'!$C$21*K9^2)+('Perzentile Weiblich'!$D$21*K9)+'Perzentile Weiblich'!$E$21,IF(AND('Tabelle Kaderkriterien'!$H13="w",Übersicht!$C9=16,K9>'Perzentile Weiblich'!V$6),100,IF(AND('Tabelle Kaderkriterien'!$H13="w",Übersicht!$C9=16),('Perzentile Weiblich'!$B$22*K9^3)+('Perzentile Weiblich'!$C$22*K9^2)+('Perzentile Weiblich'!$D$22*K9)+'Perzentile Weiblich'!$E$22,IF(AND('Tabelle Kaderkriterien'!$H13="w",Übersicht!$C9=12,K9>'Perzentile Weiblich'!V$7),100,IF(AND('Tabelle Kaderkriterien'!$H13="w",Übersicht!$C9=12),('Perzentile Weiblich'!$B$23*K9^3)+('Perzentile Weiblich'!$C$23*K9^2)+('Perzentile Weiblich'!$D$23*K9)+'Perzentile Weiblich'!$E$23,IF(AND('Tabelle Kaderkriterien'!$H13="w",Übersicht!$C9=11,K9>'Perzentile Weiblich'!V$8),100,IF(AND('Tabelle Kaderkriterien'!$H13="w",Übersicht!$C9=11),('Perzentile Weiblich'!$B$24*K9^3)+('Perzentile Weiblich'!$C$24*K9^2)+('Perzentile Weiblich'!$D$24*K9)+'Perzentile Weiblich'!$E$24,IF(AND('Tabelle Kaderkriterien'!I13<>"m",'Tabelle Kaderkriterien'!I13<>"!w"),#N/A,#N/A))))))))))))))))))))))))) -> #N/A | S9: =M9*0.25+N9*0.25+O9*0.19+P9*0.14+Q9*0.17 -> #DIV/0! | T9: =M9*0.25+N9*0.25+O9*0.19+P9*0.14+Q9*0.17 -> #DIV/0!
